Workbook
Name A: 'Instruções '!$A67
Name AberturaFaixa: 'FE-Faixa de Servidão'!$A$2
Name ACSRcabo: 'FE-DAP'!$A$46
Name ACSRiproeb: 'FE-DAP'!$A$95
Name ANO: #REF!
Name B: 'Instruções '!$A$90
Name BalFlor: 'Inserção de dados_Linhas'!$A$29
Name Começar: 'Inserção de dados_Linhas'!$A$1
Name D: 'Instruções '!$A$140
Name DIA: #REF!
Name EmissEvit: 'FE-Emissões Evitadas'!$A$2
Name Esquema: 'Instruções '!#REF!
Name ExpC: 'Instruções '!$A$116
Name FEFxServExpl: 'FE-FxServ-EmissõesExploração'!$A$1
Name Ferramenta: 'Ferramenta de cálculo_Linhas'!$A$1
Name Formulário: Formulário_linhas!$A$2
Name FxServEmiEst: 'FE-FxServ-EmissõesEstableciment'!$A$3
Name Início: INÍCIO!$A$1
Name Instruções: 'Instruções '!$A$1
Name Isoladores: 'FE-DAP'!$A$120
Name Manutenção: 'FE-Manutenção'!$A$3
Name MESES: #REF!
Name Metalogalva: 'FE-DAP'!$A$22
Name OPGW: 'FE-DAP'!$A$71
Name Resultados: Resultados_linhas!$A$1
Name Teste_Tensao: #REF!
Name Topo: 'Inserção de dados_Linhas'!$A$3

Sheet Capa

Sheet INÍCIO
A1: Contabilização de emissões GEE
B3: Enquadramento
B28: Ficha Técnica
B30: Ferramenta desenvolvida pela REN. Revisão e otimização pela Faculdade de Engenharia da Universidade do Porto (FEUP).
B32: Versão | C32: Data | D32: Revisões
B33: 2 | C33: Março de 2025 | D33: Alteração metodológia nas emissões evitadas e no balanço florestal.
B34: 1 | C34: Janeiro de 2025 | D34: Atualização do cálculo das emissões referentes à faixa de servidão.
B35: 0 | C35: Dezembro de 2023 | D35: --

Sheet Instruções 
A1: Contabilização de emissões GEE
A5: Infraestruturas Lineares
B8: Instruções
B10: Para obtenção de uma estimativa das emissões associadas ao projeto LMAT que se encontra a analisar, será necessário efetuar a recolha de algumas informações.
B11: O esquema abaixo representa as etapas do ciclo de vida de uma LMAT.
B12: Pode clicar em cada etapa para ler mais sobre esta, incluindo o tipo de emissões e sumidouros aplicáveis assim como a informação a recolher.
B13: Só necessitará de preencher o separador seguinte: “Inserção de dados”.
I16: Faixa de Servidão: A
I17: Emissões Estabelecimento Faixa de Servidão
E23: Construção: B
D25: Materiais: B1 | AB25: Balanço florestal: D
D26: Apoios | G26: Cabos nus | J26: Cabos de guarda | M26: Isoladores | P26: Betão | S26: Armadura | AB26: Perda de Stock CO2: D1 | AE26: Sequestro Reflorestação na faixa de servidão: D2 | AJ26: Perda de Capacidade de Sumidouro: D3
J31: Transporte até ao local
J34: Fase de obra: B2
C38: Exploração/Manutenção: C
C40: Inspeções: C1 | F40: Gestão da faixa de servidão: C2 | I40: Gestão da Avifauna (Transferência de ninhos)1: C3 | L40: Manutenção Geral: C4 | P40: Redução das perdas na RNT: C5 | S40: Emissões Evitadas (integração FER): C6
C45: Descomissionamento: E
E47: Apoios | H47: Cabos nus | K47: Cabos de guarda | N47: Isoladores | Q47: Fase de Obra: E1
B51: 1 Quando aplicável
B52: 2 Balanço de GEE que decorrem da perda e/ou ganho de capacidade de sequestro de carbono.
B54: Descrição das etapas, fontes e sumidouros de carbono
B56: Estabelecimento da faixa de servidão: A1
B73: Construção: B
B99: Exploração/Manutenção: C
B124: Balnço Florestal: D
B142: Descomissionamento: E
A160: Subestações/Posto de Corte
B163: Instruções
B165: Para obtenção de uma estimativa das emissões associadas ao projeto da subestação que se encontra a analisar, será necessário efetuar a recolha de algumas informações.
B166: O esquema abaixo representa as etapas do ciclo de vida de uma subestação.
B167: Pode clicar em cada etapa para ler mais sobre esta, incluindo o tipo de emissões e sumidouros aplicáveis assim como a informação a recolher.
B168: Só necessitará de preencher o separador seguinte: “Inserção de dados”.
G172: Área de implantação: A
G173: Preparação do terreno: A1
C179: Construção: B
C180: Transporte até ao local: B1
AA183: Balanço florestal: D
AA184: Perda de Stock CO2: D1 | AD184: Sequestro Reflorestação na Área de implantação: D2 | AI184: Perda de Capacidade de Sumidouro: D3
C187: Materiais: B2 | E187: Equipamentos: B3
C189: Betão | D189: Estruturas metálicas | E189: Cabos | F189: Disjuntor | G189: Transformador de corrente | H189: Autotransformador | I189: Transformador indutivo | J189: Transformador capacitivo | K189: Transformadores de serviços auxiliares | L189: Seccionadores | M189: Sistemas de proteção | O189: Sistemas de controlo | Q189: Isoladores | R189: Baterias
C194: Fase de obra: B4
C198: Exploração/Manutenção: C
C200: Manutenção de painel: C1 | E200: Disjuntor: C2 | G200: Sistemas de comando e controlo de proteção: C3 | K200: Termografia: C4 | L200: Limpeza de terrenos anexos: C5 | N200: Limpeza de infestantes: C6 | O200: Inspeção visual: C7
G205: Descomissionamento: E
G207: Fase de Obra: E1
B213: Descrição das etapas
B215: Área de implantação: A1
B232: Construção: B
B258: Exploração/Manutenção: C
B269: Balanço Florestal: D
B287: Descomissionamento: E

Sheet Inserção de dados_Linhas
A1: Contabilização de emissões GEE
B4: Por favor preencha apenas as células a azul.
B6: Projeto: | C6: Linha Abrantes - Zona de Anadia, a 400 kV
B8: Dados do projeto: | C8: Tensão (kV) | D8: Extensão Total (km) | E8: Total de apoios
C9: 400 | D9: =149.9+0.96+0.9 -> 151.76 | E9: 351
D11: ÁREAS POR CLASSE DE OCUPAÇÃO DO SOLO (ha)
B12: Faixa de Servidão | C12: Área de reflorestação (ha) | D12: 2.3.3 Agricultura com espaços naturais e seminaturais | E12: 3.1.2 Pastagens espontâneas | F12: 4.1.1.1 SAF de sobreiro | G12: 4.1.1.2 SAF de azinheira | H12: 4.1.1.3 SAF de outros carvalhos | I12: 4.1.1.4 SAF de pinheiro manso (produção fruto) | J12: 4.1.1.5 SAF de outras espécies | K12: 5.1.1.1 Florestas de sobreiro (sobreiral) | L12: 5.1.1.2 Florestas de azinheira (azinhal) | M12: 5.1.1.3 Florestas de outros carvalhos | N12: 5.1.1.4 Florestas de castanheiro (castinçal) | O12: 5.1.1.5 Florestas de eucalipto | P12: 5.1.1.6 Florestas de espécies invasoras | Q12: 5.1.1.7 Florestas de outras folhosas (inclui medronheiro) | R12: 5.1.2.1 Florestas de pinheiro bravo | S12: 5.1.2.2 Florestas de pinheiro manso (produção lenho) | T12: 5.1.2.3 Florestas de outras resinosas | U12: 6. Matos | V12: 7.1.1 Praias, dunas e areais | W12: 7.1.2 Rocha nua | X12: 7.1.3 Vegetação esparsa
C13: 564.19445 | D13: 5.2153006 | K13: 9.8867445 | M13: 0.14314825 | N13: 0.97287599 | O13: 379.15027 | P13: 1.858352 | Q13: 29.237942 | R13: 152.83186 | U13: 83.742401
C14: Área de manutenção da faixa (ha) | D14: Tempo de vida do projeto (anos)
C15: =SUM($D$13:$X$13) -> 663.0389 | D15: 50
B17: Inventário dos materiais a instalar: | C17: Peso dos apoios (t) | D17: Extensão de cabo condutor (km) | E17: Extensão de OPGW (km) | F17: Extensão de cabo de guarda (km) | G17: Número de cadeias de Isoladores | H17: Betão (t) | I17: Peso da armadura (t)
C18: =(8157.148+341.108)+(36.179) -> 8534.435 | D18: =1805.4+9.6 -> 1815 | E18: =156.6+0 -> 156.6 | F18: =163+3.3 -> 166.3 | G18: =(1104+2028+6)+(12+48) -> 3198 | H18: =(12792.98+52.52)*2.4 -> 30829.2 | I18: =750.62+2.36 -> 752.98
B20: Dados do projeto a descomissionar: | C20: Tensão (kV) | D20: Extensão Total (km) | E20: Total de apoios
D21: 1.8 | E21: 5
B23: Inventário dos materiais a descomissionar: | C23: Peso dos apoios (t) | D23: Extensão de cabo condutor (km) | E23: Extensão de OPGW (km) | F23: Extensão de cabo de guarda (km) | G23: Número de cadeias de Isoladores | H23: Betão (t) | I23: Peso da armadura (t)
C24: =(60.68+2.82)+(20.58+0.72) -> 84.8 | D24: 9.6 | E24: 0 | F24: 3.3 | G24: =12+48 -> 60 | H24: =(89.78+16.7)*2.4 -> 255.552 | I24: =5.24+0.8 -> 6.04
B26: Dados PDIRT / Planeamento: | C26: Integração da Produção de FER (GWh/ano) | D26: Extensão total de linha prevista (km) | E26: Extensão Total de Linhas que Integram a Produção de FER (km)
C27: 1.5 | D27: 129 | E27: =129+36 -> 165
B29: Balanço Florestal | C29: Balanço Florestal
C30: Ocupação do solo inicial | D30: Ocupação do solo final | E30: Stock ton CO2e/ha - Ano 0 Biomassa Viva - Árvores | F30: Stock ton CO2e/ha - Ano 0 Biomassa Viva - Subcoberto | G30: Stock ton CO2e/ha - Ano 0 Biomassa Morta | H30: Área de Intervenção (ha) | I30: Perda Stock CO2 (t CO2) - Estabelecimento da Servidão | J30: Sequestro CO2 Ocupação Inicial (t CO2/ha/ano) | K30: Sequestro CO2 Ocupação Final (t CO2/ha/ano) | L30: Perda Capacidade Sumidouro (t CO2) por Alteração do Uso do Solo - Fase de Exploração | M30: Sequestro de CO2 por Reflorestação (t CO2) - Fase de Exploração | N30: Perda Stock + Capacidade Sumidouro (t CO2)
C31: 2.3.3 Agricultura com espaços naturais e seminaturais | D31: 2.3.3 Agricultura com espaços naturais e seminaturais | E31: 6.3 | F31: 0.3 | G31: 0.18 | H31: =_xlfn.XLOOKUP(C31,$D$12:$X$12,$D$13:$X$13) -> 5.2153006 | I31: =(IF(H31=0,0,((_xlfn.XLOOKUP(C31,'FE-FxServ-Estabelecimento'!$E$5:$E$44,'FE-FxServ-Estabelecimento'!$F$5:$F$44,"",0)*E31)+(_xlfn.XLOOKUP(C31,'FE-FxServ-Estabelecimento'!$E$5:$E$44,'FE-FxServ-Estabelecimento'!$J$5:$J$44,"",0)*F31)+(_xlfn.XLOOKUP(C31,'FE-FxServ-Estabelecimento'!$E$5:$E$44,'FE-FxServ-Estabelecimento'!$L$5:$L$44,"",0)*G31))))*H31 -> 6.5712787 | J31: 5.1829277 | K31: 5.1829277 | L31: =IF(J31=K31,0,(IF(H31=0,0,J31*50*H31))) -> 0 | M31: =IF(D31="PRF",K31*H31*50*-1,0) -> 0 | N31: =IF(H31=0,0,(L31+I31+M31)) -> 6.5712787
C32: 3.1.2 Pastagens espontâneas | D32: 3.1.2 Pastagens espontâneas | E32: 2.09 | F32: 22.65 | G32: 0.31 | H32: =_xlfn.XLOOKUP(C32,$D$12:$X$12,$D$13:$X$13) -> 0 | I32: =(IF(H32=0,0,((_xlfn.XLOOKUP(C32,'FE-FxServ-Estabelecimento'!$E$5:$E$44,'FE-FxServ-Estabelecimento'!$F$5:$F$44,"",0)*E32)+(_xlfn.XLOOKUP(C32,'FE-FxServ-Estabelecimento'!$E$5:$E$44,'FE-FxServ-Estabelecimento'!$J$5:$J$44,"",0)*F32)+(_xlfn.XLOOKUP(C32,'FE-FxServ-Estabelecimento'!$E$5:$E$44,'FE-FxServ-Estabelecimento'!$L$5:$L$44,"",0)*G32))))*H32 -> 0 | J32: 1.7221464 | K32: 1.7221464 | L32: =IF(J32=K32,0,(IF(H32=0,0,J32*50*H32))) -> 0 | M32: =IF(D32="PRF",K32*H32*50*-1,0) -> 0 | N32: =IF(H32=0,0,(L32+I32+M32)) -> 0
C33: 4.1.1.1 SAF de sobreiro | D33: 4.1.1.1 SAF de sobreiro | E33: 62.87 | F33: 4.34 | G33: 1.205 | H33: =_xlfn.XLOOKUP(C33,$D$12:$X$12,$D$13:$X$13) -> 0 | I33: =(IF(H33=0,0,((_xlfn.XLOOKUP(C33,'FE-FxServ-Estabelecimento'!$E$5:$E$44,'FE-FxServ-Estabelecimento'!$F$5:$F$44,"",0)*E33)+(_xlfn.XLOOKUP(C33,'FE-FxServ-Estabelecimento'!$E$5:$E$44,'FE-FxServ-Estabelecimento'!$J$5:$J$44,"",0)*F33)+(_xlfn.XLOOKUP(C33,'FE-FxServ-Estabelecimento'!$E$5:$E$44,'FE-FxServ-Estabelecimento'!$L$5:$L$44,"",0)*G33))))*H33 -> 0 | J33: 1.4804596 | K33: 1.4804596 | L33: =IF(J33=K33,0,(IF(H33=0,0,J33*50*H33))) -> 0 | M33: =IF(D33="PRF",K33*H33*50*-1,0) -> 0 | N33: =IF(H33=0,0,(L33+I33+M33)) -> 0
C34: 4.1.1.2 SAF de azinheira | D34: 4.1.1.2 SAF de azinheira | E34: 17.97 | F34: 1.72 | G34: 0.324 | H34: =_xlfn.XLOOKUP(C34,$D$12:$X$12,$D$13:$X$13) -> 0 | I34: =(IF(H34=0,0,((_xlfn.XLOOKUP(C34,'FE-FxServ-Estabelecimento'!$E$5:$E$44,'FE-FxServ-Estabelecimento'!$F$5:$F$44,"",0)*E34)+(_xlfn.XLOOKUP(C34,'FE-FxServ-Estabelecimento'!$E$5:$E$44,'FE-FxServ-Estabelecimento'!$J$5:$J$44,"",0)*F34)+(_xlfn.XLOOKUP(C34,'FE-FxServ-Estabelecimento'!$E$5:$E$44,'FE-FxServ-Estabelecimento'!$L$5:$L$44,"",0)*G34))))*H34 -> 0 | J34: 1.6187883 | K34: 1.6187883 | L34: =IF(J34=K34,0,(IF(H34=0,0,J34*50*H34))) -> 0 | M34: =IF(D34="PRF",K34*H34*50*-1,0) -> 0 | N34: =IF(H34=0,0,(L34+I34+M34)) -> 0
C35: 4.1.1.3 SAF de outros carvalhos | D35: 4.1.1.3 SAF de outros carvalhos | E35: 13.26 | F35: 0.51 | G35: 0.116 | H35: =_xlfn.XLOOKUP(C35,$D$12:$X$12,$D$13:$X$13) -> 0 | I35: =(IF(H35=0,0,((_xlfn.XLOOKUP(C35,'FE-FxServ-Estabelecimento'!$E$5:$E$44,'FE-FxServ-Estabelecimento'!$F$5:$F$44,"",0)*E35)+(_xlfn.XLOOKUP(C35,'FE-FxServ-Estabelecimento'!$E$5:$E$44,'FE-FxServ-Estabelecimento'!$J$5:$J$44,"",0)*F35)+(_xlfn.XLOOKUP(C35,'FE-FxServ-Estabelecimento'!$E$5:$E$44,'FE-FxServ-Estabelecimento'!$L$5:$L$44,"",0)*G35))))*H35 -> 0 | J35: 5.0804344 | K35: 5.0804344 | L35: =IF(J35=K35,0,(IF(H35=0,0,J35*50*H35))) -> 0 | M35: =IF(D35="PRF",K35*H35*50*-1,0) -> 0 | N35: =IF(H35=0,0,(L35+I35+M35)) -> 0
C36: 4.1.1.4 SAF de pinheiro manso (produção fruto) | D36: 4.1.1.4 SAF de pinheiro manso (produção fruto) | E36: 16.96 | F36: 1.08 | G36: 0.103 | H36: =_xlfn.XLOOKUP(C36,$D$12:$X$12,$D$13:$X$13) -> 0 | I36: =(IF(H36=0,0,((_xlfn.XLOOKUP(C36,'FE-FxServ-Estabelecimento'!$E$5:$E$44,'FE-FxServ-Estabelecimento'!$F$5:$F$44,"",0)*E36)+(_xlfn.XLOOKUP(C36,'FE-FxServ-Estabelecimento'!$E$5:$E$44,'FE-FxServ-Estabelecimento'!$J$5:$J$44,"",0)*F36)+(_xlfn.XLOOKUP(C36,'FE-FxServ-Estabelecimento'!$E$5:$E$44,'FE-FxServ-Estabelecimento'!$L$5:$L$44,"",0)*G36))))*H36 -> 0 | J36: 14.812262 | K36: 14.812262 | L36: =IF(J36=K36,0,(IF(H36=0,0,J36*50*H36))) -> 0 | M36: =IF(D36="PRF",K36*H36*50*-1,0) -> 0 | N36: =IF(H36=0,0,(L36+I36+M36)) -> 0
C37: 4.1.1.5 SAF de outras espécies | D37: 4.1.1.5 SAF de outras espécies | E37: 20.68 | F37: 1.22 | G37: 0.398 | H37: =_xlfn.XLOOKUP(C37,$D$12:$X$12,$D$13:$X$13) -> 0 | I37: =(IF(H37=0,0,((_xlfn.XLOOKUP(C37,'FE-FxServ-Estabelecimento'!$E$5:$E$44,'FE-FxServ-Estabelecimento'!$F$5:$F$44,"",0)*E37)+(_xlfn.XLOOKUP(C37,'FE-FxServ-Estabelecimento'!$E$5:$E$44,'FE-FxServ-Estabelecimento'!$J$5:$J$44,"",0)*F37)+(_xlfn.XLOOKUP(C37,'FE-FxServ-Estabelecimento'!$E$5:$E$44,'FE-FxServ-Estabelecimento'!$L$5:$L$44,"",0)*G37))))*H37 -> 0 | J37: 11.183388 | K37: 11.183388 | L37: =IF(J37=K37,0,(IF(H37=0,0,J37*50*H37))) -> 0 | M37: =IF(D37="PRF",K37*H37*50*-1,0) -> 0 | N37: =IF(H37=0,0,(L37+I37+M37)) -> 0
C38: 5.1.1.1 Florestas de sobreiro (sobreiral) | D38: 4.1.1.1 SAF de sobreiro | E38: 62.87 | F38: 4.34 | G38: 1.205 | H38: =_xlfn.XLOOKUP(C38,$D$12:$X$12,$D$13:$X$13) -> 9.8867445 | I38: =(IF(H38=0,0,((_xlfn.XLOOKUP(C38,'FE-FxServ-Estabelecimento'!$E$5:$E$44,'FE-FxServ-Estabelecimento'!$F$5:$F$44,"",0)*E38)+(_xlfn.XLOOKUP(C38,'FE-FxServ-Estabelecimento'!$E$5:$E$44,'FE-FxServ-Estabelecimento'!$J$5:$J$44,"",0)*F38)+(_xlfn.XLOOKUP(C38,'FE-FxServ-Estabelecimento'!$E$5:$E$44,'FE-FxServ-Estabelecimento'!$L$5:$L$44,"",0)*G38))))*H38 -> 664.48809 | J38: 1.4804596 | K38: 1.4804596 | L38: =IF(J38=K38,0,(IF(H38=0,0,J38*50*H38))) -> 0 | M38: =IF(D38="PRF",K38*H38*50*-1,0) -> 0 | N38: =IF(H38=0,0,(L38+I38+M38)) -> 664.48809
C39: 5.1.1.2 Florestas de azinheira (azinhal) | D39: 4.1.1.2 SAF de azinheira | E39: 17.97 | F39: 1.72 | G39: 0.324 | H39: =_xlfn.XLOOKUP(C39,$D$12:$X$12,$D$13:$X$13) -> 0 | I39: =(IF(H39=0,0,((_xlfn.XLOOKUP(C39,'FE-FxServ-Estabelecimento'!$E$5:$E$44,'FE-FxServ-Estabelecimento'!$F$5:$F$44,"",0)*E39)+(_xlfn.XLOOKUP(C39,'FE-FxServ-Estabelecimento'!$E$5:$E$44,'FE-FxServ-Estabelecimento'!$J$5:$J$44,"",0)*F39)+(_xlfn.XLOOKUP(C39,'FE-FxServ-Estabelecimento'!$E$5:$E$44,'FE-FxServ-Estabelecimento'!$L$5:$L$44,"",0)*G39))))*H39 -> 0 | J39: 1.6187883 | K39: 1.6187883 | L39: =IF(J39=K39,0,(IF(H39=0,0,J39*50*H39))) -> 0 | M39: =IF(D39="PRF",K39*H39*50*-1,0) -> 0 | N39: =IF(H39=0,0,(L39+I39+M39)) -> 0
C40: 5.1.1.3 Florestas de outros carvalhos | D40: 4.1.1.3 SAF de outros carvalhos | E40: 13.26 | F40: 0.51 | G40: 0.116 | H40: =_xlfn.XLOOKUP(C40,$D$12:$X$12,$D$13:$X$13) -> 0.14314825 | I40: =(IF(H40=0,0,((_xlfn.XLOOKUP(C40,'FE-FxServ-Estabelecimento'!$E$5:$E$44,'FE-FxServ-Estabelecimento'!$F$5:$F$44,"",0)*E40)+(_xlfn.XLOOKUP(C40,'FE-FxServ-Estabelecimento'!$E$5:$E$44,'FE-FxServ-Estabelecimento'!$J$5:$J$44,"",0)*F40)+(_xlfn.XLOOKUP(C40,'FE-FxServ-Estabelecimento'!$E$5:$E$44,'FE-FxServ-Estabelecimento'!$L$5:$L$44,"",0)*G40))))*H40 -> 1.9711514 | J40: 5.0804344 | K40: 5.0804344 | L40: =IF(J40=K40,0,(IF(H40=0,0,J40*50*H40))) -> 0 | M40: =IF(D40="PRF",K40*H40*50*-1,0) -> 0 | N40: =IF(H40=0,0,(L40+I40+M40)) -> 1.9711514
C41: 5.1.1.4 Florestas de castanheiro (castinçal) | D41: 4.1.1.5 SAF de outras espécies | E41: 14.83 | F41: 0.2 | G41: 1.545 | H41: =_xlfn.XLOOKUP(C41,$D$12:$X$12,$D$13:$X$13) -> 0.97287599 | I41: =(IF(H41=0,0,((_xlfn.XLOOKUP(C41,'FE-FxServ-Estabelecimento'!$E$5:$E$44,'FE-FxServ-Estabelecimento'!$F$5:$F$44,"",0)*E41)+(_xlfn.XLOOKUP(C41,'FE-FxServ-Estabelecimento'!$E$5:$E$44,'FE-FxServ-Estabelecimento'!$J$5:$J$44,"",0)*F41)+(_xlfn.XLOOKUP(C41,'FE-FxServ-Estabelecimento'!$E$5:$E$44,'FE-FxServ-Estabelecimento'!$L$5:$L$44,"",0)*G41))))*H41 -> 14.622326 | J41: 11.183388 | K41: 11.183388 | L41: =IF(J41=K41,0,(IF(H41=0,0,J41*50*H41))) -> 0 | M41: =IF(D41="PRF",K41*H41*50*-1,0) -> 0 | N41: =IF(H41=0,0,(L41+I41+M41)) -> 14.622326
C42: 5.1.1.5 Florestas de eucalipto | D42: PRF | E42: 63.64 | F42: 6.61 | G42: 1.205 | H42: =_xlfn.XLOOKUP(C42,$D$12:$X$12,$D$13:$X$13) -> 379.15027 | I42: =(IF(H42=0,0,((_xlfn.XLOOKUP(C42,'FE-FxServ-Estabelecimento'!$E$5:$E$44,'FE-FxServ-Estabelecimento'!$F$5:$F$44,"",0)*E42)+(_xlfn.XLOOKUP(C42,'FE-FxServ-Estabelecimento'!$E$5:$E$44,'FE-FxServ-Estabelecimento'!$J$5:$J$44,"",0)*F42)+(_xlfn.XLOOKUP(C42,'FE-FxServ-Estabelecimento'!$E$5:$E$44,'FE-FxServ-Estabelecimento'!$L$5:$L$44,"",0)*G42))))*H42 -> 27092.183 | J42: 39.09504 | K42: =0.403*14.8122622380988+0.292*5.1829277329115+0.08*1.48045961202231+0.172*5.08043437515611+0.038*11.1833880047077+0.015*5.1829277329115 -> 8.9777407 | L42: =IF(J42=K42,0,(IF(H42=0,0,J42*50*H42))) -> 741144.76 | M42: =IF(D42="PRF",K42*H42*50*-1,0) -> -170195.64 | N42: =IF(H42=0,0,(L42+I42+M42)) -> 598041.3
C43: 5.1.1.6 Florestas de espécies invasoras | D43: PRF | E43: 4.77 | F43: 0.04 | G43: 0.191 | H43: =_xlfn.XLOOKUP(C43,$D$12:$X$12,$D$13:$X$13) -> 1.858352 | I43: =(IF(H43=0,0,((_xlfn.XLOOKUP(C43,'FE-FxServ-Estabelecimento'!$E$5:$E$44,'FE-FxServ-Estabelecimento'!$F$5:$F$44,"",0)*E43)+(_xlfn.XLOOKUP(C43,'FE-FxServ-Estabelecimento'!$E$5:$E$44,'FE-FxServ-Estabelecimento'!$J$5:$J$44,"",0)*F43)+(_xlfn.XLOOKUP(C43,'FE-FxServ-Estabelecimento'!$E$5:$E$44,'FE-FxServ-Estabelecimento'!$L$5:$L$44,"",0)*G43))))*H43 -> 9.2936182 | J43: 11.183388 | K43: =0.403*14.8122622380988+0.292*5.1829277329115+0.08*1.48045961202231+0.172*5.08043437515611+0.038*11.1833880047077+0.015*5.1829277329115 -> 8.9777407 | L43: =IF(J43=K43,0,(IF(H43=0,0,J43*50*H43))) -> 1039.1336 | M43: =IF(D43="PRF",K43*H43*50*-1,0) -> -834.1901 | N43: =IF(H43=0,0,(L43+I43+M43)) -> 214.23707
C44: 5.1.1.7 Florestas de outras folhosas (inclui medronheiro) | D44: 4.1.1.5 SAF de outras espécies | E44: 20.68 | F44: 1.22 | G44: 0.398 | H44: =_xlfn.XLOOKUP(C44,$D$12:$X$12,$D$13:$X$13) -> 29.237942 | I44: =(IF(H44=0,0,((_xlfn.XLOOKUP(C44,'FE-FxServ-Estabelecimento'!$E$5:$E$44,'FE-FxServ-Estabelecimento'!$F$5:$F$44,"",0)*E44)+(_xlfn.XLOOKUP(C44,'FE-FxServ-Estabelecimento'!$E$5:$E$44,'FE-FxServ-Estabelecimento'!$J$5:$J$44,"",0)*F44)+(_xlfn.XLOOKUP(C44,'FE-FxServ-Estabelecimento'!$E$5:$E$44,'FE-FxServ-Estabelecimento'!$L$5:$L$44,"",0)*G44))))*H44 -> 640.31094 | J44: 11.183388 | K44: 11.183388 | L44: =IF(J44=K44,0,(IF(H44=0,0,J44*50*H44))) -> 0 | M44: =IF(D44="PRF",K44*H44*50*-1,0) -> 0 | N44: =IF(H44=0,0,(L44+I44+M44)) -> 640.31094
C45: 5.1.2.1 Florestas de pinheiro bravo | D45: PRF | E45: 82.46 | F45: 5.66 | G45: 2.189 | H45: =_xlfn.XLOOKUP(C45,$D$12:$X$12,$D$13:$X$13) -> 152.83186 | I45: =(IF(H45=0,0,((_xlfn.XLOOKUP(C45,'FE-FxServ-Estabelecimento'!$E$5:$E$44,'FE-FxServ-Estabelecimento'!$F$5:$F$44,"",0)*E45)+(_xlfn.XLOOKUP(C45,'FE-FxServ-Estabelecimento'!$E$5:$E$44,'FE-FxServ-Estabelecimento'!$J$5:$J$44,"",0)*F45)+(_xlfn.XLOOKUP(C45,'FE-FxServ-Estabelecimento'!$E$5:$E$44,'FE-FxServ-Estabelecimento'!$L$5:$L$44,"",0)*G45))))*H45 -> 13802.093 | J45: 8.5666032 | K45: =0.403*14.8122622380988+0.292*5.1829277329115+0.08*1.48045961202231+0.172*5.08043437515611+0.038*11.1833880047077+0.015*5.1829277329115 -> 8.9777407 | L45: =IF(J45=K45,0,(IF(H45=0,0,J45*50*H45))) -> 65462.496 | M45: =IF(D45="PRF",K45*H45*50*-1,0) -> -68604.241 | N45: =IF(H45=0,0,(L45+I45+M45)) -> 10660.347
C46: 5.1.2.2 Florestas de pinheiro manso (produção lenho) | D46: 4.1.1.4 SAF de pinheiro manso (produção fruto) | E46: 0.11 | F46: 0.02 | G46: 0 | H46: =_xlfn.XLOOKUP(C46,$D$12:$X$12,$D$13:$X$13) -> 0 | I46: =(IF(H46=0,0,((_xlfn.XLOOKUP(C46,'FE-FxServ-Estabelecimento'!$E$5:$E$44,'FE-FxServ-Estabelecimento'!$F$5:$F$44,"",0)*E46)+(_xlfn.XLOOKUP(C46,'FE-FxServ-Estabelecimento'!$E$5:$E$44,'FE-FxServ-Estabelecimento'!$J$5:$J$44,"",0)*F46)+(_xlfn.XLOOKUP(C46,'FE-FxServ-Estabelecimento'!$E$5:$E$44,'FE-FxServ-Estabelecimento'!$L$5:$L$44,"",0)*G46))))*H46 -> 0 | J46: 14.812262 | K46: 14.812262 | L46: =IF(J46=K46,0,(IF(H46=0,0,J46*50*H46))) -> 0 | M46: =IF(D46="PRF",K46*H46*50*-1,0) -> 0 | N46: =IF(H46=0,0,(L46+I46+M46)) -> 0
C47: 5.1.2.3 Florestas de outras resinosas | D47: PRF | E47: 6.67 | F47: 0.31 | G47: 0.088 | H47: =_xlfn.XLOOKUP(C47,$D$12:$X$12,$D$13:$X$13) -> 0 | I47: =(IF(H47=0,0,((_xlfn.XLOOKUP(C47,'FE-FxServ-Estabelecimento'!$E$5:$E$44,'FE-FxServ-Estabelecimento'!$F$5:$F$44,"",0)*E47)+(_xlfn.XLOOKUP(C47,'FE-FxServ-Estabelecimento'!$E$5:$E$44,'FE-FxServ-Estabelecimento'!$J$5:$J$44,"",0)*F47)+(_xlfn.XLOOKUP(C47,'FE-FxServ-Estabelecimento'!$E$5:$E$44,'FE-FxServ-Estabelecimento'!$L$5:$L$44,"",0)*G47))))*H47 -> 0 | J47: 22.722264 | K47: =0.403*14.8122622380988+0.292*5.1829277329115+0.08*1.48045961202231+0.172*5.08043437515611+0.038*11.1833880047077+0.015*5.1829277329115 -> 8.9777407 | L47: =IF(J47=K47,0,(IF(H47=0,0,J47*50*H47))) -> 0 | M47: =IF(D47="PRF",K47*H47*50*-1,0) -> 0 | N47: =IF(H47=0,0,(L47+I47+M47)) -> 0
C48: 6. Matos | D48: 6. Matos | E48: 2.09 | F48: 22.65 | G48: 0.31 | H48: =_xlfn.XLOOKUP(C48,$D$12:$X$12,$D$13:$X$13) -> 83.742401 | I48: =(IF(H48=0,0,((_xlfn.XLOOKUP(C48,'FE-FxServ-Estabelecimento'!$E$5:$E$44,'FE-FxServ-Estabelecimento'!$F$5:$F$44,"",0)*E48)+(_xlfn.XLOOKUP(C48,'FE-FxServ-Estabelecimento'!$E$5:$E$44,'FE-FxServ-Estabelecimento'!$J$5:$J$44,"",0)*F48)+(_xlfn.XLOOKUP(C48,'FE-FxServ-Estabelecimento'!$E$5:$E$44,'FE-FxServ-Estabelecimento'!$L$5:$L$44,"",0)*G48))))*H48 -> 1896.7654 | J48: 2.4907651 | K48: 2.4907651 | L48: =IF(J48=K48,0,(IF(H48=0,0,J48*50*H48))) -> 0 | M48: =IF(D48="PRF",K48*H48*50*-1,0) -> 0 | N48: =IF(H48=0,0,(L48+I48+M48)) -> 1896.7654
C49: 7.1.1 Praias, dunas e areais | D49: 7.1.1 Praias, dunas e areais | E49: 0.01 | F49: 0.04 | G49: 0 | H49: =_xlfn.XLOOKUP(C49,$D$12:$X$12,$D$13:$X$13) -> 0 | I49: =(IF(H49=0,0,((_xlfn.XLOOKUP(C49,'FE-FxServ-Estabelecimento'!$E$5:$E$44,'FE-FxServ-Estabelecimento'!$F$5:$F$44,"",0)*E49)+(_xlfn.XLOOKUP(C49,'FE-FxServ-Estabelecimento'!$E$5:$E$44,'FE-FxServ-Estabelecimento'!$J$5:$J$44,"",0)*F49)+(_xlfn.XLOOKUP(C49,'FE-FxServ-Estabelecimento'!$E$5:$E$44,'FE-FxServ-Estabelecimento'!$L$5:$L$44,"",0)*G49))))*H49 -> 0 | J49: 1.7221464 | K49: 1.7221464 | L49: =IF(J49=K49,0,(IF(H49=0,0,J49*50*H49))) -> 0 | M49: =IF(D49="PRF",K49*H49*50*-1,0) -> 0 | N49: =IF(H49=0,0,(L49+I49+M49)) -> 0
C50: 7.1.2 Rocha nua | D50: 7.1.2 Rocha nua | E50: 0.01 | F50: 0.04 | G50: 0 | H50: =_xlfn.XLOOKUP(C50,$D$12:$X$12,$D$13:$X$13) -> 0 | I50: =(IF(H50=0,0,((_xlfn.XLOOKUP(C50,'FE-FxServ-Estabelecimento'!$E$5:$E$44,'FE-FxServ-Estabelecimento'!$F$5:$F$44,"",0)*E50)+(_xlfn.XLOOKUP(C50,'FE-FxServ-Estabelecimento'!$E$5:$E$44,'FE-FxServ-Estabelecimento'!$J$5:$J$44,"",0)*F50)+(_xlfn.XLOOKUP(C50,'FE-FxServ-Estabelecimento'!$E$5:$E$44,'FE-FxServ-Estabelecimento'!$L$5:$L$44,"",0)*G50))))*H50 -> 0 | J50: 1.7221464 | K50: 1.7221464 | L50: =IF(J50=K50,0,(IF(H50=0,0,J50*50*H50))) -> 0 | M50: =IF(D50="PRF",K50*H50*50*-1,0) -> 0 | N50: =IF(H50=0,0,(L50+I50+M50)) -> 0
C51: 7.1.3 Vegetação esparsa | D51: 7.1.3 Vegetação esparsa | E51: 0.01 | F51: 0.04 | G51: 0 | H51: =_xlfn.XLOOKUP(C51,$D$12:$X$12,$D$13:$X$13) -> 0 | I51: =(IF(H51=0,0,((_xlfn.XLOOKUP(C51,'FE-FxServ-Estabelecimento'!$E$5:$E$44,'FE-FxServ-Estabelecimento'!$F$5:$F$44,"",0)*E51)+(_xlfn.XLOOKUP(C51,'FE-FxServ-Estabelecimento'!$E$5:$E$44,'FE-FxServ-Estabelecimento'!$J$5:$J$44,"",0)*F51)+(_xlfn.XLOOKUP(C51,'FE-FxServ-Estabelecimento'!$E$5:$E$44,'FE-FxServ-Estabelecimento'!$L$5:$L$44,"",0)*G51))))*H51 -> 0 | J51: 1.7221464 | K51: 1.7221464 | L51: =IF(J51=K51,0,(IF(H51=0,0,J51*50*H51))) -> 0 | M51: =IF(D51="PRF",K51*H51*50*-1,0) -> 0 | N51: =IF(H51=0,0,(L51+I51+M51)) -> 0
B52: Total | I52: =SUM(I31:I51) -> 44128.298 | L52: =SUM(L31:L51) -> 807646.39 | M52: =SUM(M31:M51) -> -239634.07 | N52: =SUM(N31:N51) -> 612140.61
I53: Perda de Stock CO2 no Estabelecimento da Servidão | L53: Perda de Capacidade de Sumidouro | M53: Sequestro por Reconversão | N53: Balanço Florestal

Sheet Ferramenta de cálculo_Linhas
A1: Contabilização de emissões GEE
B6: Ferramenta de cálculo de emissões
B8: Fases | C8: Fases 2 | D8: Atividade/Materiais | E8: Observações | F8: Fator de emissão (FE) | G8: Unidade | H8: Emissões (t CO2e) | I8: Fonte: | J8: Suporte ao FE
B9: D | C9: Balanço florestal | D9: Balanço florestal | E9: Perda de Stock CO2 - Estabelecimento da Servidão | F9: -- | G9: t CO2e | H9: ='Inserção de dados_Linhas'!I52 -> 44128.298 | I9: IFN-VI (ICNF)
B10: A | C10: Faixa de Servidão | D10: Estabelecimento | E10: Territórios artificializados - Emissões Estabelecimento | F10: -- | G10: t CO2e | H10: ='FE-FxServ-EmissõesEstableciment'!$O$5*10^-3 -> 0 | I10: REN | J10: Clique aqui
B11: A | C11: Faixa de Servidão | D11: Estabelecimento | E11: Agricultura - Emissões Estabelecimento | F11: -- | G11: t CO2e | H11: ='FE-FxServ-EmissõesEstableciment'!$O$14*10^-3 -> 0.48342486 | I11: REN | J11: Clique aqui
B12: A | C12: Faixa de Servidão | D12: Estabelecimento | E12: Pastagens - Emissões Estabelecimento | F12: -- | G12: t CO2e | H12: ='FE-FxServ-EmissõesEstableciment'!$O$22*10^-3 -> 0 | I12: REN | J12: Clique aqui
B13: A | C13: Faixa de Servidão | D13: Estabelecimento | E13: Superfícies Agroflorestais (SAF) - Emissões Estabelecimento | F13: -- | G13: t CO2e | H13: ='FE-FxServ-EmissõesEstableciment'!$O$24*10^-3 -> 0 | I13: REN | J13: Clique aqui
B14: A | C14: Faixa de Servidão | D14: Estabelecimento | E14: Florestas - Emissões Estabelecimento | F14: -- | G14: t CO2e | H14: ='FE-FxServ-EmissõesEstableciment'!$O$29*10^-3 -> 614.26556 | I14: REN | J14: Clique aqui
B15: A | C15: Faixa de Servidão | D15: Estabelecimento | E15: Matos - Emissões Estabelecimento | F15: -- | G15: t CO2e | H15: ='FE-FxServ-EmissõesEstableciment'!$O$39*10^-3 -> 17.905266 | I15: REN | J15: Clique aqui
B16: A | C16: Faixa de Servidão | D16: Estabelecimento | E16: Espaços descobertos ou com pouca vegetação - Emissões Estabelecimento | F16: -- | G16: t CO2e | H16: ='FE-FxServ-EmissõesEstableciment'!$O$40*10^-3 -> 0 | I16: REN | J16: Clique aqui
B17: A | C17: Faixa de Servidão | D17: Estabelecimento | E17: Zonas húmidas - Emissões Estabelecimento | F17: -- | G17: t CO2e | H17: ='FE-FxServ-EmissõesEstableciment'!$O$43*10^-3 -> 0 | I17: REN | J17: Clique aqui
B18: A | C18: Faixa de Servidão | D18: Estabelecimento | E18: Massas de água superficiais - Emissões Estabelecimento | F18: -- | G18: t CO2e | H18: ='FE-FxServ-EmissõesEstableciment'!$O$44*10^-3 -> 0 | I18: REN | J18: Clique aqui
B19: B | C19: Instalação | D19: Materiais | E19: Apoios | F19: =3530.87*10^-3 -> 3.53087 | G19: t CO2e/t apoio | H19: =$F$19*'Inserção de dados_Linhas'!$C$18 -> 30133.981 | I19: DAP: Metalogalva | J19: Clique aqui
B20: B | C20: Instalação | D20: Materiais | E20: Cabos nus (ACSR) | F20: 31.798 | G20: t CO2e/km cabo | H20: =$F$20*'Inserção de dados_Linhas'!D$18 -> 57713.37 | I20: DAP: ACSR, Midal Cables Turkey | J20: Clique aqui
B21: B | C21: Instalação | D21: Materiais | E21: Cabos de guarda (OPWG) | F21: 3.494 | G21: t CO2e/km cabo | H21: =$F$21*'Inserção de dados_Linhas'!E$18 -> 547.1604 | I21: DAP: OPWG | J21: Clique aqui
B22: B | C22: Instalação | D22: Materiais | E22: Cabos de guarda (aço) | F22: 1.51135 | G22: t CO2e/km cabo | H22: =$F$22*'Inserção de dados_Linhas'!F$18 -> 251.33751 | I22: DAP: ACSR Conductors | J22: Clique aqui
B23: B | C23: Instalação | D23: Materiais | E23: Cadeias de isoladores | F23: =63.463*10^-3 -> 0.063463 | G23: t CO2e/cadeia de isoladores | H23: =$F$23*'Inserção de dados_Linhas'!G$18 -> 202.95467 | I23: DAP: Polymeric insulators | J23: Clique aqui
B24: B | C24: Instalação | D24: Materiais | E24: Betão | F24: 0.86 | G24: t CO2e/t betão | H24: =$F$24*'Inserção de dados_Linhas'!H$18 -> 26513.112 | I24: Relatório de Sustentabilidade SECIL 2023 | J24: Clique aqui
B25: B | C25: Instalação | D25: Materiais | E25: Armadura | F25: 2.3 | G25: t CO2e/t armadura | H25: =$F$25*'Inserção de dados_Linhas'!I$18 -> 1731.854 | I25: Literatura | J25: Clique aqui
B26: B | C26: Instalação | D26: Fase de Obra | E26: Empreitada | F26: 10.547 | G26: t CO2e/km | H26: =$F$26*'Inserção de dados_Linhas'!$D$9 -> 1600.6127 | I26: Prestadores de serviço | J26: Dados diretos do PSE
B27: B | C27: Instalação | D27: Fase de Obra | E27: CSO | F27: 23.6 | G27: t CO2e | H27: =$F$27 -> 23.6 | I27: Prestadores de serviço | J27: Dados diretos do PSE
B28: C | C28: Manutenção | D28: Inspeções | E28: Inspeções Visuais Terrestres (anual) | F28: ='FE-Manutenção'!$J$15*10^-3 -> 0.0019912496 | G28: t CO2eq/apoio/ano | H28: =$F$28*'Inserção de dados_Linhas'!$E$9*'Inserção de dados_Linhas'!$D$15 -> 34.946431 | I28: REN | J28: Clique aqui
B29: C | C29: Manutenção | D29: Inspeções | E29: Inspeções Tripla Aérea (Lidar + Termografia + Visual) (anual) | F29: ='FE-Manutenção'!$J$17*10^-3 -> 0.0010343111 | G29: t CO2e/apoio/ano | H29: =$F$29*'Inserção de dados_Linhas'!$E$9*'Inserção de dados_Linhas'!$D$15 -> 18.152159 | I29: REN | J29: Clique aqui
B30: C | C30: Manutenção | D30: Inspeções | E30: Inspeções ninhos de cegonha (anual) | F30: ='FE-Manutenção'!$J$18*10^-3 -> 0.0011459697 | G30: t CO2e/apoio/ano | H30: =$F$30*'Inserção de dados_Linhas'!$E$9*'Inserção de dados_Linhas'!$D$15 -> 20.111768 | I30: REN | J30: Clique aqui
B31: C | C31: Manutenção | D31: Inspeções | E31: Inspeções Técnicos REN (anual) | F31: ='FE-Manutenção'!$J$19*10^-3 -> 0.0032594062 | G31: t CO2e/apoio/ano | H31: =$F$31*'Inserção de dados_Linhas'!$E$9*'Inserção de dados_Linhas'!$D$15 -> 57.202578 | I31: REN | J31: Clique aqui
B32: C | C32: Manutenção | D32: Avifauna (transferência de ninhos) | E32: Anual | F32: ='FE-Manutenção'!$J$21*10^-3 -> 0.0040218041 | G32: t CO2e/apoio/ano | H32: =('Inserção de dados_Linhas'!$E$9*100/19500)*$F$32*'Inserção de dados_Linhas'!$D$15 -> 0.36196237 | I32: REN | J32: Clique aqui
B33: C | C33: Manutenção | D33: Medições da Resistência de Terra | E33: A cada 5 anos | F33: ='FE-Manutenção'!$J$16*10^-3 -> 0.0032594062 | G33: t CO2e/apoio/ano | H33: =('Inserção de dados_Linhas'!$E$9*3900/19500)*$F$33*'Inserção de dados_Linhas'!$D$15/5 -> 2.2881031 | I33: REN | J33: Clique aqui
B34: C | C34: Manutenção | D34: Lavagem dos isoladores | E34: Anual | F34: ='FE-Manutenção'!$J$22*10^-3 -> 0.013008585 | G34: t CO2e/apoio/ano | H34: =('Inserção de dados_Linhas'!$E$9*230/19500)*$F$34*'Inserção de dados_Linhas'!$D$15 -> 2.6927771 | I34: REN | J34: Clique aqui
B35: C | C35: Manutenção | D35: Substituição de cadeias de isoladores | E35: Substituição de cadeias (a cada 25 anos) | F35: =$H$23+(15%*$H$26) -> 443.04658 | G35: t CO2e | H35: =Table1[[#This Row],[Fator de emissão (FE)]] -> 443.04658 | I35: REN | J35: -
B36: C | C36: Manutenção | D36: Substituição de cadeias de isoladores | E36: Tratamento de resíduos de substituição (a cada 25 anos) | F36: =((1.87*10^-2)+(1.01*10^-1))*10^-3 -> 0.0001197 | G36: t CO2e/cadeia de isoladores | H36: =Table1[[#This Row],[Fator de emissão (FE)]]*'Inserção de dados_Linhas'!$G$18 -> 0.3828006 | I36: DAP: Polymeric insulators | J36: Clique aqui
B37: C | C37: Manutenção | D37: Exploração | E37: Territórios artificializados | F37: -- | G37: t CO2e | H37: ='FE-FxServ-EmissõesExploração'!$O$5*(10^-3)*('Inserção de dados_Linhas'!$D$15/3) -> 0 | I37: REN | J37: Clique aqui
B38: C | C38: Manutenção | D38: Exploração | E38: Agricultura | F38: -- | G38: t CO2e | H38: ='FE-FxServ-EmissõesExploração'!$O$14*(10^-3)*('Inserção de dados_Linhas'!$D$15/3) -> 8.0570809 | I38: REN | J38: Clique aqui
B39: C | C39: Manutenção | D39: Exploração | E39: Pastagens | F39: -- | G39: t CO2e | H39: ='FE-FxServ-EmissõesExploração'!$O$22*(10^-3)*('Inserção de dados_Linhas'!$D$15/3) -> 0 | I39: REN | J39: Clique aqui
B40: C | C40: Manutenção | D40: Exploração | E40: Superfícies Agroflorestais (SAF) | F40: -- | G40: t CO2e | H40: ='FE-FxServ-EmissõesExploração'!$O$24*(10^-3)*('Inserção de dados_Linhas'!$D$15/3) -> 0 | I40: REN | J40: Clique aqui
B41: C | C41: Manutenção | D41: Exploração | E41: Florestas | F41: -- | G41: t CO2e | H41: ='FE-FxServ-EmissõesExploração'!$O$29*(10^-3)*('Inserção de dados_Linhas'!$D$15/3) -> 1908.0043 | I41: REN | J41: Clique aqui
B42: C | C42: Manutenção | D42: Exploração | E42: Matos | F42: -- | G42: t CO2e | H42: ='FE-FxServ-EmissõesExploração'!$O$39*(10^-3)*('Inserção de dados_Linhas'!$D$15/3) -> 298.4211 | I42: REN | J42: Clique aqui
B43: C | C43: Manutenção | D43: Exploração | E43: Espaços descobertos ou com pouca vegetação | F43: -- | G43: t CO2e | H43: ='FE-FxServ-EmissõesExploração'!$O$40*(10^-3)*('Inserção de dados_Linhas'!$D$15/3) -> 0 | I43: REN | J43: Clique aqui
B44: C | C44: Manutenção | D44: Exploração | E44: Zonas húmidas | F44: -- | G44: t CO2e | H44: ='FE-FxServ-EmissõesExploração'!$O$43*(10^-3)*('Inserção de dados_Linhas'!$D$15/3) -> 0 | I44: REN | J44: Clique aqui
B45: C | C45: Manutenção | D45: Exploração | E45: Massas de água superficiais | F45: -- | G45: t CO2e | H45: ='FE-FxServ-EmissõesExploração'!$O$44*(10^-3)*('Inserção de dados_Linhas'!$D$15/3) -> 0 | I45: REN | J45: Clique aqui
B46: C | C46: Exploração | D46: Emissões evitadas | E46: _ | F46: ='FE-Emissões Evitadas'!$F$45 -> 916154.25 | G46: t CO2e | H46: =-Table1[[#This Row],[Fator de emissão (FE)]] -> -916154.25 | I46: PDIRT | J46: Clique aqui
B47: D | C47: Balanço florestal | D47: Balanço florestal | E47: Perda de Capacidade de Sumidouro CO2 por alteração do uso do solo | G47: t CO2e | H47: ='Inserção de dados_Linhas'!L52 -> 807646.39 | I47: NIR 2023 (APA)
B48: D | C48: Balanço florestal | D48: Balanço florestal | E48: Sequestro de CO2 por Reflorestação | G48: t CO2e | H48: ='Inserção de dados_Linhas'!M52 -> -239634.07 | I48: NIR 2023 (APA)
C49: Descomissionamento | D49: Materiais | E49: Apoios | F49: =30*10^-3 -> 0.03 | G49: t CO2e/t apoio | H49: =Table1[[#This Row],[Fator de emissão (FE)]]*'Inserção de dados_Linhas'!$C$24 -> 2.544 | I49: DAP: Metalogalva | J49: Clique aqui
C50: Descomissionamento | D50: Materiais | E50: Cabos nus (ACSR) | F50: =-29.5*10^-3 -> -0.0295 | G50: t CO2e/km cabo | H50: =Table1[[#This Row],[Fator de emissão (FE)]]*'Inserção de dados_Linhas'!$D$24 -> -0.2832 | I50: DAP: ACSR, Midal Cables Turkey | J50: Clique aqui
C51: Descomissionamento | D51: Materiais | E51: Cabos de guarda (OPWG) | F51: =112*10^-3 -> 0.112 | G51: t CO2e/km cabo | H51: =Table1[[#This Row],[Fator de emissão (FE)]]*'Inserção de dados_Linhas'!$E$24 -> 0 | I51: DAP: OPWG | J51: Clique aqui
C52: Descomissionamento | D52: Materiais | E52: Cabos de guarda (aço) | F52: 0.0545 | G52: t CO2e/km cabo | H52: =Table1[[#This Row],[Fator de emissão (FE)]]*'Inserção de dados_Linhas'!$F$24 -> 0.17985 | I52: DAP: ACSR Conductors | J52: Clique aqui
C53: Descomissionamento | D53: Materiais | E53: Cadeias de isoladores | F53: =0.1197*10^-3 -> 0.0001197 | G53: t CO2e/cadeia de isoladores | H53: =Table1[[#This Row],[Fator de emissão (FE)]]*'Inserção de dados_Linhas'!$G$24 -> 0.007182 | I53: DAP: Polymeric insulators | J53: Clique aqui
B54: E | C54: Descomissionamento | D54: Fase de obra | E54: Empreitada | F54: 10.547 | G54: t CO2e | H54: =F54*'Inserção de dados_Linhas'!D21 -> 18.9846 | I54: Prestadores de serviço | J54: Dados diretos do PSE
B55: B | C55: Descomissionamento | D55: Fase de Obra | E55: CSO | F55: 23.6 | G55: t CO2e | H55: =$F$27 -> 23.6 | I55: Prestadores de serviço | J55: Dados diretos do PSE

Sheet Resultados_linhas
A1: Contabilização de emissões GE
B5: Fase do Projeto | C5: Balanço de Emissões (t CO2e)
B6: A | C6: =C8 -> 632.65425
B7: Emissões Estabelecimento Faixa de Servidão
B8: Abertura | C8: =SUM(C9:C17) -> 632.65425
B9: Territórios artificializados | C9: ='Ferramenta de cálculo_Linhas'!H10 -> 0
B10: Agricultura | C10: ='Ferramenta de cálculo_Linhas'!H11 -> 0.48342486
B11: Pastagens | C11: ='Ferramenta de cálculo_Linhas'!H12 -> 0
B12: Superfícies Agroflorestais (SAF) | C12: ='Ferramenta de cálculo_Linhas'!H13 -> 0
B13: Florestas | C13: ='Ferramenta de cálculo_Linhas'!H14 -> 614.26556
B14: Matos | C14: ='Ferramenta de cálculo_Linhas'!H15 -> 17.905266 | G14: Fase do Projeto | H14: Balanço de Emissões (t CO2e)
B15: Espaços descobertos ou com pouca vegetação | C15: ='Ferramenta de cálculo_Linhas'!H16 -> 0 | G15: A - Estabelecimento da faixa de servidão | H15: =C6 -> 632.65425
B16: Zonas húmidas | C16: ='Ferramenta de cálculo_Linhas'!H17 -> 0 | G16: B - Construção | H16: =C18 -> 118717.98
B17: Massas de água superficiais | C17: ='Ferramenta de cálculo_Linhas'!H18 -> 0 | G17: C - Exploração/Manutenção | H17: =C31 -> -913360.58
B18: B | C18: =SUM($C$20,$C$23) -> 118717.98 | G18: D -Balanço Florestal | H18: =C53 -> 612140.61
B19: Instalação | G19: E - Descomissionamento | H19: =C58 -> 45.2051
B20: Fase de Obra | C20: =SUM($C$21:$C$22) -> 1624.2127 | G20: Total | H20: =SUM(H15:H19) -> -181824.13
B21: CSO | C21: ='Ferramenta de cálculo_Linhas'!$H$27 -> 23.6
B22: Empreitada | C22: ='Ferramenta de cálculo_Linhas'!$H$26 -> 1600.6127
B23: Materiais | C23: =SUM(C24:C30) -> 117093.77
B24: Apoios | C24: ='Ferramenta de cálculo_Linhas'!$H$19 -> 30133.981
B25: Armadura | C25: ='Ferramenta de cálculo_Linhas'!$H$25 -> 1731.854
B26: Betão | C26: ='Ferramenta de cálculo_Linhas'!$H$24 -> 26513.112
B27: Cabos de guarda (aço) | C27: ='Ferramenta de cálculo_Linhas'!$H$22 -> 251.33751
B28: Cabos de guarda (OPWG) | C28: ='Ferramenta de cálculo_Linhas'!$H$21 -> 547.1604
B29: Cabos nus | C29: ='Ferramenta de cálculo_Linhas'!$H$20 -> 57713.37
B30: Cadeias de isoladores | C30: ='Ferramenta de cálculo_Linhas'!$H$23 -> 202.95467
B31: C | C31: =SUM(C32,C34+C43) -> -913360.58
B32: Exploração | C32: =SUM(C33) -> -916154.25
B33: Emissões evitadas | C33: ='Ferramenta de cálculo_Linhas'!$H$46 -> -916154.25
B34: Manutenção | C34: =SUM(C35:C42) -> 579.18516
B35: Inspeções Visuais Terrestres | C35: ='Ferramenta de cálculo_Linhas'!$H$28 -> 34.946431
B36: Inspeções Tripla Aérea (Lidar + Termografia + Visual) | C36: ='Ferramenta de cálculo_Linhas'!$H$29 -> 18.152159
B37: Inspeções ninhos de cegonha | C37: ='Ferramenta de cálculo_Linhas'!$H$30 -> 20.111768
B38: Inspeções Técnicos REN | C38: ='Ferramenta de cálculo_Linhas'!$H$31 -> 57.202578
B39: Avifauna (transferência de ninhos) | C39: ='Ferramenta de cálculo_Linhas'!$H$32 -> 0.36196237
B40: Medições da Resistência de Terra | C40: ='Ferramenta de cálculo_Linhas'!$H$33 -> 2.2881031
B41: Lavagem dos isoladores | C41: ='Ferramenta de cálculo_Linhas'!$H$34 -> 2.6927771
B42: Substituição de cadeias de isoladores | C42: ='Ferramenta de cálculo_Linhas'!$H$35+'Ferramenta de cálculo_Linhas'!$H$36 -> 443.42938
B43: Gestão da Faixa de Servidão | C43: =SUM(C44:C52) -> 2214.4825
B44: Territórios artificializados | C44: ='Ferramenta de cálculo_Linhas'!$H37 -> 0
B45: Agricultura | C45: ='Ferramenta de cálculo_Linhas'!$H38 -> 8.0570809
B46: Pastagens | C46: ='Ferramenta de cálculo_Linhas'!$H39 -> 0
B47: Superfícies Agroflorestais (SAF) | C47: ='Ferramenta de cálculo_Linhas'!$H40 -> 0
B48: Florestas | C48: ='Ferramenta de cálculo_Linhas'!$H41 -> 1908.0043
B49: Matos | C49: ='Ferramenta de cálculo_Linhas'!$H42 -> 298.4211
B50: Espaços descobertos ou com pouca vegetação | C50: ='Ferramenta de cálculo_Linhas'!$H43 -> 0
B51: Zonas húmidas | C51: ='Ferramenta de cálculo_Linhas'!$H44 -> 0
B52: Massas de água superficiais | C52: ='Ferramenta de cálculo_Linhas'!$H45 -> 0
B53: D | C53: =SUM(C55:C57) -> 612140.61
B54: Balanço florestal
B55: Perda de Stock CO2 devido ao Estabelecimento Faixa de Servidão | C55: ='Ferramenta de cálculo_Linhas'!H9 -> 44128.298
B56: Perda de Capacidade de Sumidouro durante a Fase de Exploração | C56: ='Ferramenta de cálculo_Linhas'!$H$47 -> 807646.39
B57: Sequestro resultante da Reflorestação na faixa de servidão durante a Fase de Exploração | C57: ='Ferramenta de cálculo_Linhas'!$H$48 -> -239634.07
B58: E | C58: =SUM(C60:C65) -> 45.2051
B59: Descomissionamento
B60: Apoios | C60: ='Ferramenta de cálculo_Linhas'!H49 -> 2.544
B61: Cabos nus (ACSR) | C61: ='Ferramenta de cálculo_Linhas'!H50 -> -0.2832
B62: Cabos de guarda (OPWG) | C62: ='Ferramenta de cálculo_Linhas'!H51 -> 0
B63: Cabos de guarda (aço) | C63: ='Ferramenta de cálculo_Linhas'!H52 -> 0.17985
B64: Cadeias de isoladores | C64: ='Ferramenta de cálculo_Linhas'!H52 -> 0.17985
B65: Fase de obra | C65: ='Ferramenta de cálculo_Linhas'!$H$54+'Ferramenta de cálculo_Linhas'!H55 -> 42.5846
B66: TOTAL (Emissões Evitadas e sumidouro) | C66: =C57+C33 -> -1155788.3
B67: TOTAL (Emissões do Projeto) | C67: =$C$68-C57-$C$33 -> 973964.19
B68: TOTAL (Balanço de Emissões) | C68: =$C$6+$C$18+$C$31+$C$58+C53 -> -181824.13

Sheet Formulário_linhas
A1: Contabilização de emissões GEE
B5: Formulário:
B6: A - Estabeleciemnto da Faixa de Servidão
B7: B - Construção | D7: Materiais
D8: Fase de obra
B9: C - Exploração/Manutenção | D9: Inspeções | E9: Visuais Terrestes e Inspeções Tripla Aérea:
E10: Ninhos de cegonhas + Inspeções Técnicos REN
D11: Gestão da Faixa de Servidão
D12: Avifauna
D13: Manutenção geral | E13: Medições da Resistência de Terra
E14: Lavagem de isoladores
D15: Emissões Evitadas
B16: D - Balanço Florestal | D16: Balanço Florestal

Sheet FE-Emissões Evitadas
A1: Contabilização de emissões GE
B3: Emissões evitadas
C4: Dados | E4: Comentários
B5: Integração de FER (GW) | C5: Solar | D5: ='Inserção de dados_Linhas'!C27*'Inserção de dados_Linhas'!D27/'Inserção de dados_Linhas'!E27 -> 1.1727273 | E5: Integração de FER proveniente de solar
C6: Eólica | D6: 0 | E6: Integração de FER proveniente de eólica
C7: Horas ano comum | D7: 8760 | E7: Cálculo simples do nº de horas anuais.
C8: Fator fotovoltaica | D8: 0.2 | E8: % de tempo em que se estará a produzir energia fotovoltaica.
C9: Fator eólica | D9: 0.4 | E9: % de tempo em que se estará a produzir energia eólica.
C11: Integração de FER anual (GW)
C12: Solar | D12: Eólica | E12: Total
C13: =$D$5*($D$7*$D$8) -> 2054.6182 | D13: =$D$6*($D$7*$D$9) -> 0 | E13: =SUM(C13:D13) -> 2054.6182
B15: Ano | C15: Fator (tCO2 eq/MWh ) | D15: D. Percentagem de renováveis no mix energético Português (SEN) | E15: Energia integrada de origem renovável (MWh) | F15: Emissões evitadas (tCO2 eq/ano)
B16: 2022 | C16: 0.169 | D16: 0.61 | E16: ---
B17: 2023 | C17: =(1-D17)*C16/(1-D16) -> 0.13288889 | D17: =D16+($D$19-$D$16)/3 -> 0.69333333 | E17: 0 | F17: =E17*C17 -> 0
B18: 2024 | C18: =(1-D18)*C17/(1-D17) -> 0.096777778 | D18: =D17+($D$19-$D$16)/3 -> 0.77666667 | E18: 0 | F18: =E18*C18 -> 0
B19: 2025 | C19: =(1-D19)*C18/(1-D18) -> 0.060666667 | D19: 0.86 | E19: 0 | F19: =E19*C19 -> 0
B20: 2026 | C20: =(1-D20)*C19/(1-D19) -> 0.0546 | D20: =D19+($D$24-$D$19)/5 -> 0.874 | F20: =E20*C20 -> 0
B21: 2027 | C21: =(1-D21)*C20/(1-D20) -> 0.048533333 | D21: =D20+($D$24-$D$19)/5 -> 0.888 | E21: =$E$13*1000 -> 2054618.2 | F21: =E21*C21 -> 99717.469
B22: 2028 | C22: =(1-D22)*C21/(1-D21) -> 0.042466667 | D22: =D21+($D$24-$D$19)/5 -> 0.902 | E22: =$E$13*1000 -> 2054618.2 | F22: =E22*C22 -> 87252.785
B23: 2029 | C23: =(1-D23)*C22/(1-D22) -> 0.0364 | D23: =D22+($D$24-$D$19)/5 -> 0.916 | E23: =$E$13*1000 -> 2054618.2 | F23: =E23*C23 -> 74788.102
B24: 2030 | C24: =(1-D24)*C23/(1-D23) -> 0.030333333 | D24: 0.93 | E24: =$E$13*1000 -> 2054618.2 | F24: =E24*C24 -> 62323.418
B25: 2031 | C25: =(1-D25)*C24/(1-D24) -> 0.028816667 | D25: =D24+($D$44-$D$24)/20 -> 0.9335 | E25: =$E$13*1000 -> 2054618.2 | F25: =E25*C25 -> 59207.247
B26: 2032 | C26: =(1-D26)*C25/(1-D25) -> 0.0273 | D26: =D25+($D$44-$D$24)/20 -> 0.937 | E26: =$E$13*1000 -> 2054618.2 | F26: =E26*C26 -> 56091.076
B27: 2033 | C27: =(1-D27)*C26/(1-D26) -> 0.025783333 | D27: =D26+($D$44-$D$24)/20 -> 0.9405 | E27: =$E$13*1000 -> 2054618.2 | F27: =E27*C27 -> 52974.905
B28: 2034 | C28: =(1-D28)*C27/(1-D27) -> 0.024266667 | D28: =D27+($D$44-$D$24)/20 -> 0.944 | E28: =$E$13*1000 -> 2054618.2 | F28: =E28*C28 -> 49858.735
B29: 2035 | C29: =(1-D29)*C28/(1-D28) -> 0.02275 | D29: =D28+($D$44-$D$24)/20 -> 0.9475 | E29: =$E$13*1000 -> 2054618.2 | F29: =E29*C29 -> 46742.564
B30: 2036 | C30: =(1-D30)*C29/(1-D29) -> 0.021233333 | D30: =D29+($D$44-$D$24)/20 -> 0.951 | E30: =$E$13*1000 -> 2054618.2 | F30: =E30*C30 -> 43626.393
B31: 2037 | C31: =(1-D31)*C30/(1-D30) -> 0.019716667 | D31: =D30+($D$44-$D$24)/20 -> 0.9545 | E31: =$E$13*1000 -> 2054618.2 | F31: =E31*C31 -> 40510.222
B32: 2038 | C32: =(1-D32)*C31/(1-D31) -> 0.0182 | D32: =D31+($D$44-$D$24)/20 -> 0.958 | E32: =$E$13*1000 -> 2054618.2 | F32: =E32*C32 -> 37394.051
B33: 2039 | C33: =(1-D33)*C32/(1-D32) -> 0.016683333 | D33: =D32+($D$44-$D$24)/20 -> 0.9615 | E33: =$E$13*1000 -> 2054618.2 | F33: =E33*C33 -> 34277.88
B34: 2040 | C34: =(1-D34)*C33/(1-D33) -> 0.015166667 | D34: =D33+($D$44-$D$24)/20 -> 0.965 | E34: =$E$13*1000 -> 2054618.2 | F34: =E34*C34 -> 31161.709
B35: 2041 | C35: =(1-D35)*C34/(1-D34) -> 0.01365 | D35: =D34+($D$44-$D$24)/20 -> 0.9685 | E35: =$E$13*1000 -> 2054618.2 | F35: =E35*C35 -> 28045.538
B36: 2042 | C36: =(1-D36)*C35/(1-D35) -> 0.012133333 | D36: =D35+($D$44-$D$24)/20 -> 0.972 | E36: =$E$13*1000 -> 2054618.2 | F36: =E36*C36 -> 24929.367
... B43: 2049 | C43: =(1-D43)*C42/(1-D42) -> 0.0015166667 | D43: =D42+($D$44-$D$24)/20 -> 0.9965 | E43: =$E$13*1000 -> 2054618.2 | F43: =E43*C43 -> 3116.1709
B44: 2050+ | C44: =(1-D44)*C43/(1-D43) -> 0 | D44: 1 | E44: =$E$13*1000 -> 2054618.2 | F44: =E44*C44 -> 0
B45: Total | F45: =SUM(F17:F44) -> 916154.25

Sheet FE-Faixa de Servidão
B1: Contabilização de emissões GEE
B6: Descrição | C6: Emissões - Intervenção (kgCO2e/ha) | E6: Emissões - Deslocação (kgCO2e/ha)
B8: Abate, toragem e rechega | C8: 108.6705 | E8: 80.412153
B9: Abate de árvores isoladas + Desmontagem de árvores + Decote ou poda de árvores | C9: 61.407112
B10: Limpeza de matos | C10: 133.40147
B11: Eliminação de cepos | C11: 487.82138
B12: Mobilização do solo (Pré-plantação) | C12: 455.69668
B13: Plantação | C13: 0
B14: Aplicação de herbicidas | C14: 0

Sheet FE-FxServ-Exploração
A1: Contabilização de emissões GEE
E3: Tipo de Intervenção
E4: ATE (corte raso) | F4: ATE (desbaste) | G4: AAI+DTA+DTP | H4: LMT | I4: ECP | J4: MBS (PLT)
A5: 1 - Territórios artificializados | B5: 1.1 Tecido edificado | E5: 0 | F5: 0 | G5: 0 | H5: 0 | I5: 0 | J5: 0
B6: 1.2. Indústria, comércio, e instalações agricola | E6: 0 | F6: 0 | G6: 0 | H6: 0 | I6: 0 | J6: 0
B7: 1.3 Infraestruturas | E7: 0 | F7: 0 | G7: 0 | H7: 0 | I7: 0 | J7: 0
B8: 1.4 Transportes | E8: 0 | F8: 0 | G8: 0 | H8: 0 | I8: 0 | J8: 0
B9: 1.5 Área de extração de inertes, áreas de deposição de resíduos e estaleiros de construção | C9: 1.5.1 Áreas de extração de inertes | E9: 0 | F9: 0 | G9: 0 | H9: 0 | I9: 0 | J9: 0
C10: 1.5.2 Áreas de deposição de resíduos | E10: 0 | F10: 0 | G10: 0 | H10: 0 | I10: 0 | J10: 0
B11: 1.6 Equipamentos | C11: 1.6.1 Equipamentos desportivos (inclui campos de golfe) | E11: 0 | F11: 0 | G11: 0 | H11: 0 | I11: 0 | J11: 0
C12: 1.6.2 Equipamentos de lazer e parques de campismo | E12: 0 | F12: 0 | G12: 0 | H12: 0 | I12: 0 | J12: 0
B13: 1.7 Parques e jardins | E13: 0 | F13: 0 | G13: 0 | H13: 0 | I13: 0 | J13: 0
A14: 2. Agricultura | B14: 2.1 Culturas temporárias | C14: 2.1.1 Culturas temporárias de sequeiro e regadio e arrozais | E14: 0 | F14: 0 | G14: 0 | H14: 0 | I14: 0 | J14: 0
B15: 2.2 Culturas permanentes | C15: 2.2.1 Vinhas | E15: 0 | F15: 0 | G15: 0 | H15: 0 | I15: 0 | J15: 0
C16: 2.2.2 Pomares (inclui produção de castanha, frutos de casca rija, cereja, etc) | E16: 0 | F16: 0 | G16: 0 | H16: 0 | I16: 0 | J16: 0
C17: 2.2.3 Olivais | E17: 0 | F17: 0 | G17: 0 | H17: 0 | I17: 0 | J17: 0
B18: 2.3 Áreas agrícolas heterogéneas | C18: 2.3.1 Culturas temporárias e/ou pastagens melhoradas | E18: 0 | F18: 0 | G18: 0 | H18: 0 | I18: 0 | J18: 0
C19: 2.3.2 Mosaicos culturais e parcelares complexos | E19: 0 | F19: 0 | G19: 0 | H19: 0 | I19: 0 | J19: 0
C20: 2.3.3 Agricultura com espaços naturais e seminaturais | E20: 0 | F20: 0 | G20: 0.2 | H20: 0 | I20: 0 | J20: 0
B21: 2.4 Agricultura protegida (estufas) e viveiros | E21: 0 | F21: 0 | G21: 0 | H21: 0 | I21: 0 | J21: 0
A22: 3. Pastagens | B22: 3.1 Pastagens | C22: 3.1.1 Pastagens melhoradas | E22: 0 | F22: 0 | G22: 0 | H22: 0 | I22: 0 | J22: 0
C23: 3.1.2 Pastagens espontâneas | E23: 0 | F23: 0 | G23: 0 | H23: 0.5 | I23: 0 | J23: 0
A24: 4. Superfícies Agroflorestais (SAF) | B24: 4.1 Superfícies agroflorestais (SAF) | C24: 4.1.1 Superfícies agroflorestais (SAF) | D24: 4.1.1.1 SAF de sobreiro | E24: 0 | F24: 0 | G24: 0.2 | H24: 0.8 | I24: 0 | J24: 0
D25: 4.1.1.2 SAF de azinheira | E25: 0 | F25: 0 | G25: 0.2 | H25: 0.8 | I25: 0 | J25: 0
D26: 4.1.1.3 SAF de outros carvalhos | E26: 0 | F26: 0 | G26: 0.2 | H26: 0.8 | I26: 0 | J26: 0
D27: 4.1.1.4 SAF de pinheiro manso (produção fruto) | E27: 0 | F27: 0 | G27: 0.2 | H27: 0.8 | I27: 0 | J27: 0
D28: 4.1.1.5 SAF de outras espécies | E28: 0 | F28: 0 | G28: 0.2 | H28: 0.8 | I28: 0 | J28: 0
A29: 5. Florestas | B29: 5.1 Florestas | C29: 5.1.1 Florestas de folhosas | D29: 5.1.1.1 Florestas de sobreiro (sobreiral) | E29: 0 | F29: 0 | G29: 0.2 | H29: 0.8 | I29: 0 | J29: 0
D30: 5.1.1.2 Florestas de azinheira (azinhal) | E30: 0 | F30: 0 | G30: 0.2 | H30: 0.8 | I30: 0 | J30: 0
D31: 5.1.1.3 Florestas de outros carvalhos | E31: 0 | F31: 0 | G31: 0.2 | H31: 0.8 | I31: 0 | J31: 0
D32: 5.1.1.4 Florestas de castanheiro (castinçal) | E32: 0 | F32: 0 | G32: 0.2 | H32: 0.8 | I32: 0 | J32: 0
D33: 5.1.1.5 Florestas de eucalipto | E33: 0 | F33: 0 | G33: 0.2 | H33: 0.8 | I33: 0 | J33: 0
D34: 5.1.1.6 Florestas de espécies invasoras | E34: 0 | F34: 0 | G34: 0.2 | H34: 0.8 | I34: 0 | J34: 0
D35: 5.1.1.7 Florestas de outras folhosas (inclui medronheiro) | E35: 0 | F35: 0 | G35: 0.2 | H35: 0.8 | I35: 0 | J35: 0
C36: 5.1.2 Florestas de resinosas | D36: 5.1.2.1 Florestas de pinheiro bravo | E36: 0 | F36: 0 | G36: 0.2 | H36: 0.8 | I36: 0 | J36: 0
D37: 5.1.2.2 Florestas de pinheiro manso (produção lenho) | E37: 0 | F37: 0 | G37: 0.2 | H37: 0.8 | I37: 0 | J37: 0
D38: 5.1.2.3 Florestas de outras resinosas | E38: 0 | F38: 0 | G38: 0.2 | H38: 0.8 | I38: 0 | J38: 0
A39: 6. Matos | E39: 0 | F39: 0 | G39: 0 | H39: 1 | I39: 0 | J39: 0
A40: 7. Espaços descobertos ou com pouca vegetação | B40: 7.1 Espaços descobertos ou com pouca vegetação | C40: 7.1.1 Praias, dunas e areais | E40: 0 | F40: 0 | G40: 0 | H40: 0.5 | I40: 0 | J40: 0
C41: 7.1.2 Rocha nua | E41: 0 | F41: 0 | G41: 0 | H41: 0.5 | I41: 0 | J41: 0
C42: 7.1.3 Vegetação esparsa | E42: 0 | F42: 0 | G42: 0 | H42: 0.5 | I42: 0 | J42: 0
A43: 8. Zonas húmidas | E43: 0 | F43: 0 | G43: 0 | H43: 0 | I43: 0 | J43: 0
A44: 9. Massas água superficiais | E44: 0 | F44: 0 | G44: 0 | H44: 0 | I44: 0 | J44: 0

Sheet FE-FxServ-EmissõesExploração
A1: Contabilização de emissões GE
E3: Emissões por intervenção (kgCO2e/ha)
E4: ATE (corte raso) | F4: ATE (desbaste) | G4: AAI+DTA+DTP | H4: LMT | I4: ECP | J4: MBS (PLT) | K4: Emissões totais s/ deslocação (kgCO2e/ha) | L4: Emissões totais c/ deslocação (kgCO2e/ha) | M4: Área (ha) | N4: Emissões (kgCO2e) | O4: Total por AOT
A5: 1 - Territórios artificializados | B5: 1.1 Tecido edificado | E5: =IF('FE-FxServ-Exploração'!E5=0,0,'FE-Faixa de Servidão'!$C$8*'FE-FxServ-Exploração'!E5) -> 0 | F5: =IF('FE-FxServ-Exploração'!F5=0,0,'FE-Faixa de Servidão'!$C$8*'FE-FxServ-Exploração'!F5) -> 0 | G5: =IF('FE-FxServ-Exploração'!G5=0,0,'FE-Faixa de Servidão'!$C$9*'FE-FxServ-Exploração'!G5) -> 0 | H5: =IF('FE-FxServ-Exploração'!H5=0,0,'FE-Faixa de Servidão'!$C$10*'FE-FxServ-Exploração'!H5) -> 0 | I5: =IF('FE-FxServ-Exploração'!I5=0,0,'FE-Faixa de Servidão'!$C$11*'FE-FxServ-Exploração'!I5) -> 0 | J5: =IF('FE-FxServ-Exploração'!J5=0,0,'FE-Faixa de Servidão'!$C$12*'FE-FxServ-Exploração'!J5) -> 0 | K5: =SUM(E5:J5) -> 0 | L5: =IF(K5=0,0,K5+'FE-Faixa de Servidão'!$E$8) -> 0 | N5: =L5*M5 -> 0 | O5: =SUM(N5:N13) -> 0
B6: 1.2. Indústria, comércio, e instalações agricola | E6: =IF('FE-FxServ-Exploração'!E6=0,0,'FE-Faixa de Servidão'!$C$8*'FE-FxServ-Exploração'!E6) -> 0 | F6: =IF('FE-FxServ-Exploração'!F6=0,0,'FE-Faixa de Servidão'!$C$8*'FE-FxServ-Exploração'!F6) -> 0 | G6: =IF('FE-FxServ-Exploração'!G6=0,0,'FE-Faixa de Servidão'!$C$9*'FE-FxServ-Exploração'!G6) -> 0 | H6: =IF('FE-FxServ-Exploração'!H6=0,0,'FE-Faixa de Servidão'!$C$10*'FE-FxServ-Exploração'!H6) -> 0 | I6: =IF('FE-FxServ-Exploração'!I6=0,0,'FE-Faixa de Servidão'!$C$11*'FE-FxServ-Exploração'!I6) -> 0 | J6: =IF('FE-FxServ-Exploração'!J6=0,0,'FE-Faixa de Servidão'!$C$12*'FE-FxServ-Exploração'!J6) -> 0 | K6: =SUM(E6:J6) -> 0 | L6: =IF(K6=0,0,K6+'FE-Faixa de Servidão'!$E$8) -> 0 | N6: =L6*M6 -> 0
B7: 1.3 Infraestruturas | E7: =IF('FE-FxServ-Exploração'!E7=0,0,'FE-Faixa de Servidão'!$C$8*'FE-FxServ-Exploração'!E7) -> 0 | F7: =IF('FE-FxServ-Exploração'!F7=0,0,'FE-Faixa de Servidão'!$C$8*'FE-FxServ-Exploração'!F7) -> 0 | G7: =IF('FE-FxServ-Exploração'!G7=0,0,'FE-Faixa de Servidão'!$C$9*'FE-FxServ-Exploração'!G7) -> 0 | H7: =IF('FE-FxServ-Exploração'!H7=0,0,'FE-Faixa de Servidão'!$C$10*'FE-FxServ-Exploração'!H7) -> 0 | I7: =IF('FE-FxServ-Exploração'!I7=0,0,'FE-Faixa de Servidão'!$C$11*'FE-FxServ-Exploração'!I7) -> 0 | J7: =IF('FE-FxServ-Exploração'!J7=0,0,'FE-Faixa de Servidão'!$C$12*'FE-FxServ-Exploração'!J7) -> 0 | K7: =SUM(E7:J7) -> 0 | L7: =IF(K7=0,0,K7+'FE-Faixa de Servidão'!$E$8) -> 0 | N7: =L7*M7 -> 0
B8: 1.4 Transportes | E8: =IF('FE-FxServ-Exploração'!E8=0,0,'FE-Faixa de Servidão'!$C$8*'FE-FxServ-Exploração'!E8) -> 0 | F8: =IF('FE-FxServ-Exploração'!F8=0,0,'FE-Faixa de Servidão'!$C$8*'FE-FxServ-Exploração'!F8) -> 0 | G8: =IF('FE-FxServ-Exploração'!G8=0,0,'FE-Faixa de Servidão'!$C$9*'FE-FxServ-Exploração'!G8) -> 0 | H8: =IF('FE-FxServ-Exploração'!H8=0,0,'FE-Faixa de Servidão'!$C$10*'FE-FxServ-Exploração'!H8) -> 0 | I8: =IF('FE-FxServ-Exploração'!I8=0,0,'FE-Faixa de Servidão'!$C$11*'FE-FxServ-Exploração'!I8) -> 0 | J8: =IF('FE-FxServ-Exploração'!J8=0,0,'FE-Faixa de Servidão'!$C$12*'FE-FxServ-Exploração'!J8) -> 0 | K8: =SUM(E8:J8) -> 0 | L8: =IF(K8=0,0,K8+'FE-Faixa de Servidão'!$E$8) -> 0 | N8: =L8*M8 -> 0
B9: 1.5 Área de extração de inertes, áreas de deposição de resíduos e estaleiros de construção | C9: 1.5.1 Áreas de extração de inertes | E9: =IF('FE-FxServ-Exploração'!E9=0,0,'FE-Faixa de Servidão'!$C$8*'FE-FxServ-Exploração'!E9) -> 0 | F9: =IF('FE-FxServ-Exploração'!F9=0,0,'FE-Faixa de Servidão'!$C$8*'FE-FxServ-Exploração'!F9) -> 0 | G9: =IF('FE-FxServ-Exploração'!G9=0,0,'FE-Faixa de Servidão'!$C$9*'FE-FxServ-Exploração'!G9) -> 0 | H9: =IF('FE-FxServ-Exploração'!H9=0,0,'FE-Faixa de Servidão'!$C$10*'FE-FxServ-Exploração'!H9) -> 0 | I9: =IF('FE-FxServ-Exploração'!I9=0,0,'FE-Faixa de Servidão'!$C$11*'FE-FxServ-Exploração'!I9) -> 0 | J9: =IF('FE-FxServ-Exploração'!J9=0,0,'FE-Faixa de Servidão'!$C$12*'FE-FxServ-Exploração'!J9) -> 0 | K9: =SUM(E9:J9) -> 0 | L9: =IF(K9=0,0,K9+'FE-Faixa de Servidão'!$E$8) -> 0 | N9: =L9*M9 -> 0
C10: 1.5.2 Áreas de deposição de resíduos | E10: =IF('FE-FxServ-Exploração'!E10=0,0,'FE-Faixa de Servidão'!$C$8*'FE-FxServ-Exploração'!E10) -> 0 | F10: =IF('FE-FxServ-Exploração'!F10=0,0,'FE-Faixa de Servidão'!$C$8*'FE-FxServ-Exploração'!F10) -> 0 | G10: =IF('FE-FxServ-Exploração'!G10=0,0,'FE-Faixa de Servidão'!$C$9*'FE-FxServ-Exploração'!G10) -> 0 | H10: =IF('FE-FxServ-Exploração'!H10=0,0,'FE-Faixa de Servidão'!$C$10*'FE-FxServ-Exploração'!H10) -> 0 | I10: =IF('FE-FxServ-Exploração'!I10=0,0,'FE-Faixa de Servidão'!$C$11*'FE-FxServ-Exploração'!I10) -> 0 | J10: =IF('FE-FxServ-Exploração'!J10=0,0,'FE-Faixa de Servidão'!$C$12*'FE-FxServ-Exploração'!J10) -> 0 | K10: =SUM(E10:J10) -> 0 | L10: =IF(K10=0,0,K10+'FE-Faixa de Servidão'!$E$8) -> 0 | N10: =L10*M10 -> 0
B11: 1.6 Equipamentos | C11: 1.6.1 Equipamentos desportivos (inclui campos de golfe) | E11: =IF('FE-FxServ-Exploração'!E11=0,0,'FE-Faixa de Servidão'!$C$8*'FE-FxServ-Exploração'!E11) -> 0 | F11: =IF('FE-FxServ-Exploração'!F11=0,0,'FE-Faixa de Servidão'!$C$8*'FE-FxServ-Exploração'!F11) -> 0 | G11: =IF('FE-FxServ-Exploração'!G11=0,0,'FE-Faixa de Servidão'!$C$9*'FE-FxServ-Exploração'!G11) -> 0 | H11: =IF('FE-FxServ-Exploração'!H11=0,0,'FE-Faixa de Servidão'!$C$10*'FE-FxServ-Exploração'!H11) -> 0 | I11: =IF('FE-FxServ-Exploração'!I11=0,0,'FE-Faixa de Servidão'!$C$11*'FE-FxServ-Exploração'!I11) -> 0 | J11: =IF('FE-FxServ-Exploração'!J11=0,0,'FE-Faixa de Servidão'!$C$12*'FE-FxServ-Exploração'!J11) -> 0 | K11: =SUM(E11:J11) -> 0 | L11: =IF(K11=0,0,K11+'FE-Faixa de Servidão'!$E$8) -> 0 | N11: =L11*M11 -> 0
C12: 1.6.2 Equipamentos de lazer e parques de campismo | E12: =IF('FE-FxServ-Exploração'!E12=0,0,'FE-Faixa de Servidão'!$C$8*'FE-FxServ-Exploração'!E12) -> 0 | F12: =IF('FE-FxServ-Exploração'!F12=0,0,'FE-Faixa de Servidão'!$C$8*'FE-FxServ-Exploração'!F12) -> 0 | G12: =IF('FE-FxServ-Exploração'!G12=0,0,'FE-Faixa de Servidão'!$C$9*'FE-FxServ-Exploração'!G12) -> 0 | H12: =IF('FE-FxServ-Exploração'!H12=0,0,'FE-Faixa de Servidão'!$C$10*'FE-FxServ-Exploração'!H12) -> 0 | I12: =IF('FE-FxServ-Exploração'!I12=0,0,'FE-Faixa de Servidão'!$C$11*'FE-FxServ-Exploração'!I12) -> 0 | J12: =IF('FE-FxServ-Exploração'!J12=0,0,'FE-Faixa de Servidão'!$C$12*'FE-FxServ-Exploração'!J12) -> 0 | K12: =SUM(E12:J12) -> 0 | L12: =IF(K12=0,0,K12+'FE-Faixa de Servidão'!$E$8) -> 0 | N12: =L12*M12 -> 0
B13: 1.7 Parques e jardins | E13: =IF('FE-FxServ-Exploração'!E13=0,0,'FE-Faixa de Servidão'!$C$8*'FE-FxServ-Exploração'!E13) -> 0 | F13: =IF('FE-FxServ-Exploração'!F13=0,0,'FE-Faixa de Servidão'!$C$8*'FE-FxServ-Exploração'!F13) -> 0 | G13: =IF('FE-FxServ-Exploração'!G13=0,0,'FE-Faixa de Servidão'!$C$9*'FE-FxServ-Exploração'!G13) -> 0 | H13: =IF('FE-FxServ-Exploração'!H13=0,0,'FE-Faixa de Servidão'!$C$10*'FE-FxServ-Exploração'!H13) -> 0 | I13: =IF('FE-FxServ-Exploração'!I13=0,0,'FE-Faixa de Servidão'!$C$11*'FE-FxServ-Exploração'!I13) -> 0 | J13: =IF('FE-FxServ-Exploração'!J13=0,0,'FE-Faixa de Servidão'!$C$12*'FE-FxServ-Exploração'!J13) -> 0 | K13: =SUM(E13:J13) -> 0 | L13: =IF(K13=0,0,K13+'FE-Faixa de Servidão'!$E$8) -> 0 | N13: =L13*M13 -> 0
A14: 2. Agricultura | B14: 2.1 Culturas temporárias | C14: 2.1.1 Culturas temporárias de sequeiro e regadio e arrozais | E14: =IF('FE-FxServ-Exploração'!E14=0,0,'FE-Faixa de Servidão'!$C$8*'FE-FxServ-Exploração'!E14) -> 0 | F14: =IF('FE-FxServ-Exploração'!F14=0,0,'FE-Faixa de Servidão'!$C$8*'FE-FxServ-Exploração'!F14) -> 0 | G14: =IF('FE-FxServ-Exploração'!G14=0,0,'FE-Faixa de Servidão'!$C$9*'FE-FxServ-Exploração'!G14) -> 0 | H14: =IF('FE-FxServ-Exploração'!H14=0,0,'FE-Faixa de Servidão'!$C$10*'FE-FxServ-Exploração'!H14) -> 0 | I14: =IF('FE-FxServ-Exploração'!I14=0,0,'FE-Faixa de Servidão'!$C$11*'FE-FxServ-Exploração'!I14) -> 0 | J14: =IF('FE-FxServ-Exploração'!J14=0,0,'FE-Faixa de Servidão'!$C$12*'FE-FxServ-Exploração'!J14) -> 0 | K14: =SUM(E14:J14) -> 0 | L14: =IF(K14=0,0,K14+'FE-Faixa de Servidão'!$E$8) -> 0 | N14: =L14*M14 -> 0 | O14: =SUM(N14:N21) -> 483.42486
B15: 2.2 Culturas permanentes | C15: 2.2.1 Vinhas | E15: =IF('FE-FxServ-Exploração'!E15=0,0,'FE-Faixa de Servidão'!$C$8*'FE-FxServ-Exploração'!E15) -> 0 | F15: =IF('FE-FxServ-Exploração'!F15=0,0,'FE-Faixa de Servidão'!$C$8*'FE-FxServ-Exploração'!F15) -> 0 | G15: =IF('FE-FxServ-Exploração'!G15=0,0,'FE-Faixa de Servidão'!$C$9*'FE-FxServ-Exploração'!G15) -> 0 | H15: =IF('FE-FxServ-Exploração'!H15=0,0,'FE-Faixa de Servidão'!$C$10*'FE-FxServ-Exploração'!H15) -> 0 | I15: =IF('FE-FxServ-Exploração'!I15=0,0,'FE-Faixa de Servidão'!$C$11*'FE-FxServ-Exploração'!I15) -> 0 | J15: =IF('FE-FxServ-Exploração'!J15=0,0,'FE-Faixa de Servidão'!$C$12*'FE-FxServ-Exploração'!J15) -> 0 | K15: =SUM(E15:J15) -> 0 | L15: =IF(K15=0,0,K15+'FE-Faixa de Servidão'!$E$8) -> 0 | N15: =L15*M15 -> 0
C16: 2.2.2 Pomares (inclui produção de castanha, frutos de casca rija, cereja, etc) | E16: =IF('FE-FxServ-Exploração'!E16=0,0,'FE-Faixa de Servidão'!$C$8*'FE-FxServ-Exploração'!E16) -> 0 | F16: =IF('FE-FxServ-Exploração'!F16=0,0,'FE-Faixa de Servidão'!$C$8*'FE-FxServ-Exploração'!F16) -> 0 | G16: =IF('FE-FxServ-Exploração'!G16=0,0,'FE-Faixa de Servidão'!$C$9*'FE-FxServ-Exploração'!G16) -> 0 | H16: =IF('FE-FxServ-Exploração'!H16=0,0,'FE-Faixa de Servidão'!$C$10*'FE-FxServ-Exploração'!H16) -> 0 | I16: =IF('FE-FxServ-Exploração'!I16=0,0,'FE-Faixa de Servidão'!$C$11*'FE-FxServ-Exploração'!I16) -> 0 | J16: =IF('FE-FxServ-Exploração'!J16=0,0,'FE-Faixa de Servidão'!$C$12*'FE-FxServ-Exploração'!J16) -> 0 | K16: =SUM(E16:J16) -> 0 | L16: =IF(K16=0,0,K16+'FE-Faixa de Servidão'!$E$8) -> 0 | N16: =L16*M16 -> 0
C17: 2.2.3 Olivais | E17: =IF('FE-FxServ-Exploração'!E17=0,0,'FE-Faixa de Servidão'!$C$8*'FE-FxServ-Exploração'!E17) -> 0 | F17: =IF('FE-FxServ-Exploração'!F17=0,0,'FE-Faixa de Servidão'!$C$8*'FE-FxServ-Exploração'!F17) -> 0 | G17: =IF('FE-FxServ-Exploração'!G17=0,0,'FE-Faixa de Servidão'!$C$9*'FE-FxServ-Exploração'!G17) -> 0 | H17: =IF('FE-FxServ-Exploração'!H17=0,0,'FE-Faixa de Servidão'!$C$10*'FE-FxServ-Exploração'!H17) -> 0 | I17: =IF('FE-FxServ-Exploração'!I17=0,0,'FE-Faixa de Servidão'!$C$11*'FE-FxServ-Exploração'!I17) -> 0 | J17: =IF('FE-FxServ-Exploração'!J17=0,0,'FE-Faixa de Servidão'!$C$12*'FE-FxServ-Exploração'!J17) -> 0 | K17: =SUM(E17:J17) -> 0 | L17: =IF(K17=0,0,K17+'FE-Faixa de Servidão'!$E$8) -> 0 | N17: =L17*M17 -> 0
B18: 2.3 Áreas agrícolas heterogéneas | C18: 2.3.1 Culturas temporárias e/ou pastagens melhoradas | E18: =IF('FE-FxServ-Exploração'!E18=0,0,'FE-Faixa de Servidão'!$C$8*'FE-FxServ-Exploração'!E18) -> 0 | F18: =IF('FE-FxServ-Exploração'!F18=0,0,'FE-Faixa de Servidão'!$C$8*'FE-FxServ-Exploração'!F18) -> 0 | G18: =IF('FE-FxServ-Exploração'!G18=0,0,'FE-Faixa de Servidão'!$C$9*'FE-FxServ-Exploração'!G18) -> 0 | H18: =IF('FE-FxServ-Exploração'!H18=0,0,'FE-Faixa de Servidão'!$C$10*'FE-FxServ-Exploração'!H18) -> 0 | I18: =IF('FE-FxServ-Exploração'!I18=0,0,'FE-Faixa de Servidão'!$C$11*'FE-FxServ-Exploração'!I18) -> 0 | J18: =IF('FE-FxServ-Exploração'!J18=0,0,'FE-Faixa de Servidão'!$C$12*'FE-FxServ-Exploração'!J18) -> 0 | K18: =SUM(E18:J18) -> 0 | L18: =IF(K18=0,0,K18+'FE-Faixa de Servidão'!$E$8) -> 0 | N18: =L18*M18 -> 0
C19: 2.3.2 Mosaicos culturais e parcelares complexos | E19: =IF('FE-FxServ-Exploração'!E19=0,0,'FE-Faixa de Servidão'!$C$8*'FE-FxServ-Exploração'!E19) -> 0 | F19: =IF('FE-FxServ-Exploração'!F19=0,0,'FE-Faixa de Servidão'!$C$8*'FE-FxServ-Exploração'!F19) -> 0 | G19: =IF('FE-FxServ-Exploração'!G19=0,0,'FE-Faixa de Servidão'!$C$9*'FE-FxServ-Exploração'!G19) -> 0 | H19: =IF('FE-FxServ-Exploração'!H19=0,0,'FE-Faixa de Servidão'!$C$10*'FE-FxServ-Exploração'!H19) -> 0 | I19: =IF('FE-FxServ-Exploração'!I19=0,0,'FE-Faixa de Servidão'!$C$11*'FE-FxServ-Exploração'!I19) -> 0 | J19: =IF('FE-FxServ-Exploração'!J19=0,0,'FE-Faixa de Servidão'!$C$12*'FE-FxServ-Exploração'!J19) -> 0 | K19: =SUM(E19:J19) -> 0 | L19: =IF(K19=0,0,K19+'FE-Faixa de Servidão'!$E$8) -> 0 | N19: =L19*M19 -> 0
C20: 2.3.3 Agricultura com espaços naturais e seminaturais | E20: =IF('FE-FxServ-Exploração'!E20=0,0,'FE-Faixa de Servidão'!$C$8*'FE-FxServ-Exploração'!E20) -> 0 | F20: =IF('FE-FxServ-Exploração'!F20=0,0,'FE-Faixa de Servidão'!$C$8*'FE-FxServ-Exploração'!F20) -> 0 | G20: =IF('FE-FxServ-Exploração'!G20=0,0,'FE-Faixa de Servidão'!$C$9*'FE-FxServ-Exploração'!G20) -> 12.281422 | H20: =IF('FE-FxServ-Exploração'!H20=0,0,'FE-Faixa de Servidão'!$C$10*'FE-FxServ-Exploração'!H20) -> 0 | I20: =IF('FE-FxServ-Exploração'!I20=0,0,'FE-Faixa de Servidão'!$C$11*'FE-FxServ-Exploração'!I20) -> 0 | J20: =IF('FE-FxServ-Exploração'!J20=0,0,'FE-Faixa de Servidão'!$C$12*'FE-FxServ-Exploração'!J20) -> 0 | K20: =SUM(E20:J20) -> 12.281422 | L20: =IF(K20=0,0,K20+'FE-Faixa de Servidão'!$E$8) -> 92.693575 | M20: ='Inserção de dados_Linhas'!$D$13 -> 5.2153006 | N20: =L20*M20 -> 483.42486
B21: 2.4 Agricultura protegida (estufas) e viveiros | E21: =IF('FE-FxServ-Exploração'!E21=0,0,'FE-Faixa de Servidão'!$C$8*'FE-FxServ-Exploração'!E21) -> 0 | F21: =IF('FE-FxServ-Exploração'!F21=0,0,'FE-Faixa de Servidão'!$C$8*'FE-FxServ-Exploração'!F21) -> 0 | G21: =IF('FE-FxServ-Exploração'!G21=0,0,'FE-Faixa de Servidão'!$C$9*'FE-FxServ-Exploração'!G21) -> 0 | H21: =IF('FE-FxServ-Exploração'!H21=0,0,'FE-Faixa de Servidão'!$C$10*'FE-FxServ-Exploração'!H21) -> 0 | I21: =IF('FE-FxServ-Exploração'!I21=0,0,'FE-Faixa de Servidão'!$C$11*'FE-FxServ-Exploração'!I21) -> 0 | J21: =IF('FE-FxServ-Exploração'!J21=0,0,'FE-Faixa de Servidão'!$C$12*'FE-FxServ-Exploração'!J21) -> 0 | K21: =SUM(E21:J21) -> 0 | L21: =IF(K21=0,0,K21+'FE-Faixa de Servidão'!$E$8) -> 0 | N21: =L21*M21 -> 0
A22: 3. Pastagens | B22: 3.1 Pastagens | C22: 3.1.1 Pastagens melhoradas | E22: =IF('FE-FxServ-Exploração'!E22=0,0,'FE-Faixa de Servidão'!$C$8*'FE-FxServ-Exploração'!E22) -> 0 | F22: =IF('FE-FxServ-Exploração'!F22=0,0,'FE-Faixa de Servidão'!$C$8*'FE-FxServ-Exploração'!F22) -> 0 | G22: =IF('FE-FxServ-Exploração'!G22=0,0,'FE-Faixa de Servidão'!$C$9*'FE-FxServ-Exploração'!G22) -> 0 | H22: =IF('FE-FxServ-Exploração'!H22=0,0,'FE-Faixa de Servidão'!$C$10*'FE-FxServ-Exploração'!H22) -> 0 | I22: =IF('FE-FxServ-Exploração'!I22=0,0,'FE-Faixa de Servidão'!$C$11*'FE-FxServ-Exploração'!I22) -> 0 | J22: =IF('FE-FxServ-Exploração'!J22=0,0,'FE-Faixa de Servidão'!$C$12*'FE-FxServ-Exploração'!J22) -> 0 | K22: =SUM(E22:J22) -> 0 | L22: =IF(K22=0,0,K22+'FE-Faixa de Servidão'!$E$8) -> 0 | N22: =L22*M22 -> 0 | O22: =SUM(N22:N23) -> 0
C23: 3.1.2 Pastagens espontâneas | E23: =IF('FE-FxServ-Exploração'!E23=0,0,'FE-Faixa de Servidão'!$C$8*'FE-FxServ-Exploração'!E23) -> 0 | F23: =IF('FE-FxServ-Exploração'!F23=0,0,'FE-Faixa de Servidão'!$C$8*'FE-FxServ-Exploração'!F23) -> 0 | G23: =IF('FE-FxServ-Exploração'!G23=0,0,'FE-Faixa de Servidão'!$C$9*'FE-FxServ-Exploração'!G23) -> 0 | H23: =IF('FE-FxServ-Exploração'!H23=0,0,'FE-Faixa de Servidão'!$C$10*'FE-FxServ-Exploração'!H23) -> 66.700734 | I23: =IF('FE-FxServ-Exploração'!I23=0,0,'FE-Faixa de Servidão'!$C$11*'FE-FxServ-Exploração'!I23) -> 0 | J23: =IF('FE-FxServ-Exploração'!J23=0,0,'FE-Faixa de Servidão'!$C$12*'FE-FxServ-Exploração'!J23) -> 0 | K23: =SUM(E23:J23) -> 66.700734 | L23: =IF(K23=0,0,K23+'FE-Faixa de Servidão'!$E$8) -> 147.11289 | M23: ='Inserção de dados_Linhas'!$E$13 -> 0 | N23: =L23*M23 -> 0
A24: 4. Superfícies Agroflorestais (SAF) | B24: 4.1 Superfícies agroflorestais (SAF) | C24: 4.1.1 Superfícies agroflorestais (SAF) | D24: 4.1.1.1 SAF de sobreiro | E24: =IF('FE-FxServ-Exploração'!E24=0,0,'FE-Faixa de Servidão'!$C$8*'FE-FxServ-Exploração'!E24) -> 0 | F24: =IF('FE-FxServ-Exploração'!F24=0,0,'FE-Faixa de Servidão'!$C$8*'FE-FxServ-Exploração'!F24) -> 0 | G24: =IF('FE-FxServ-Exploração'!G24=0,0,'FE-Faixa de Servidão'!$C$9*'FE-FxServ-Exploração'!G24) -> 12.281422 | H24: =IF('FE-FxServ-Exploração'!H24=0,0,'FE-Faixa de Servidão'!$C$10*'FE-FxServ-Exploração'!H24) -> 106.72117 | I24: =IF('FE-FxServ-Exploração'!I24=0,0,'FE-Faixa de Servidão'!$C$11*'FE-FxServ-Exploração'!I24) -> 0 | J24: =IF('FE-FxServ-Exploração'!J24=0,0,'FE-Faixa de Servidão'!$C$12*'FE-FxServ-Exploração'!J24) -> 0 | K24: =SUM(E24:J24) -> 119.0026 | L24: =IF(K24=0,0,K24+'FE-Faixa de Servidão'!$E$8) -> 199.41475 | M24: ='Inserção de dados_Linhas'!$F14 -> 0 | N24: =L24*M24 -> 0 | O24: =SUM(N24:N28) -> 0
D25: 4.1.1.2 SAF de azinheira | E25: =IF('FE-FxServ-Exploração'!E25=0,0,'FE-Faixa de Servidão'!$C$8*'FE-FxServ-Exploração'!E25) -> 0 | F25: =IF('FE-FxServ-Exploração'!F25=0,0,'FE-Faixa de Servidão'!$C$8*'FE-FxServ-Exploração'!F25) -> 0 | G25: =IF('FE-FxServ-Exploração'!G25=0,0,'FE-Faixa de Servidão'!$C$9*'FE-FxServ-Exploração'!G25) -> 12.281422 | H25: =IF('FE-FxServ-Exploração'!H25=0,0,'FE-Faixa de Servidão'!$C$10*'FE-FxServ-Exploração'!H25) -> 106.72117 | I25: =IF('FE-FxServ-Exploração'!I25=0,0,'FE-Faixa de Servidão'!$C$11*'FE-FxServ-Exploração'!I25) -> 0 | J25: =IF('FE-FxServ-Exploração'!J25=0,0,'FE-Faixa de Servidão'!$C$12*'FE-FxServ-Exploração'!J25) -> 0 | K25: =SUM(E25:J25) -> 119.0026 | L25: =IF(K25=0,0,K25+'FE-Faixa de Servidão'!$E$8) -> 199.41475 | M25: ='Inserção de dados_Linhas'!$G$13 -> 0 | N25: =L25*M25 -> 0
D26: 4.1.1.3 SAF de outros carvalhos | E26: =IF('FE-FxServ-Exploração'!E26=0,0,'FE-Faixa de Servidão'!$C$8*'FE-FxServ-Exploração'!E26) -> 0 | F26: =IF('FE-FxServ-Exploração'!F26=0,0,'FE-Faixa de Servidão'!$C$8*'FE-FxServ-Exploração'!F26) -> 0 | G26: =IF('FE-FxServ-Exploração'!G26=0,0,'FE-Faixa de Servidão'!$C$9*'FE-FxServ-Exploração'!G26) -> 12.281422 | H26: =IF('FE-FxServ-Exploração'!H26=0,0,'FE-Faixa de Servidão'!$C$10*'FE-FxServ-Exploração'!H26) -> 106.72117 | I26: =IF('FE-FxServ-Exploração'!I26=0,0,'FE-Faixa de Servidão'!$C$11*'FE-FxServ-Exploração'!I26) -> 0 | J26: =IF('FE-FxServ-Exploração'!J26=0,0,'FE-Faixa de Servidão'!$C$12*'FE-FxServ-Exploração'!J26) -> 0 | K26: =SUM(E26:J26) -> 119.0026 | L26: =IF(K26=0,0,K26+'FE-Faixa de Servidão'!$E$8) -> 199.41475 | M26: ='Inserção de dados_Linhas'!$H$13 -> 0 | N26: =L26*M26 -> 0
D27: 4.1.1.4 SAF de pinheiro manso (produção fruto) | E27: =IF('FE-FxServ-Exploração'!E27=0,0,'FE-Faixa de Servidão'!$C$8*'FE-FxServ-Exploração'!E27) -> 0 | F27: =IF('FE-FxServ-Exploração'!F27=0,0,'FE-Faixa de Servidão'!$C$8*'FE-FxServ-Exploração'!F27) -> 0 | G27: =IF('FE-FxServ-Exploração'!G27=0,0,'FE-Faixa de Servidão'!$C$9*'FE-FxServ-Exploração'!G27) -> 12.281422 | H27: =IF('FE-FxServ-Exploração'!H27=0,0,'FE-Faixa de Servidão'!$C$10*'FE-FxServ-Exploração'!H27) -> 106.72117 | I27: =IF('FE-FxServ-Exploração'!I27=0,0,'FE-Faixa de Servidão'!$C$11*'FE-FxServ-Exploração'!I27) -> 0 | J27: =IF('FE-FxServ-Exploração'!J27=0,0,'FE-Faixa de Servidão'!$C$12*'FE-FxServ-Exploração'!J27) -> 0 | K27: =SUM(E27:J27) -> 119.0026 | L27: =IF(K27=0,0,K27+'FE-Faixa de Servidão'!$E$8) -> 199.41475 | M27: ='Inserção de dados_Linhas'!I$13 -> 0 | N27: =L27*M27 -> 0
D28: 4.1.1.5 SAF de outras espécies | E28: =IF('FE-FxServ-Exploração'!E28=0,0,'FE-Faixa de Servidão'!$C$8*'FE-FxServ-Exploração'!E28) -> 0 | F28: =IF('FE-FxServ-Exploração'!F28=0,0,'FE-Faixa de Servidão'!$C$8*'FE-FxServ-Exploração'!F28) -> 0 | G28: =IF('FE-FxServ-Exploração'!G28=0,0,'FE-Faixa de Servidão'!$C$9*'FE-FxServ-Exploração'!G28) -> 12.281422 | H28: =IF('FE-FxServ-Exploração'!H28=0,0,'FE-Faixa de Servidão'!$C$10*'FE-FxServ-Exploração'!H28) -> 106.72117 | I28: =IF('FE-FxServ-Exploração'!I28=0,0,'FE-Faixa de Servidão'!$C$11*'FE-FxServ-Exploração'!I28) -> 0 | J28: =IF('FE-FxServ-Exploração'!J28=0,0,'FE-Faixa de Servidão'!$C$12*'FE-FxServ-Exploração'!J28) -> 0 | K28: =SUM(E28:J28) -> 119.0026 | L28: =IF(K28=0,0,K28+'FE-Faixa de Servidão'!$E$8) -> 199.41475 | M28: ='Inserção de dados_Linhas'!J$13 -> 0 | N28: =L28*M28 -> 0
A29: 5. Florestas | B29: 5.1 Florestas | C29: 5.1.1 Florestas de folhosas | D29: 5.1.1.1 Florestas de sobreiro (sobreiral) | E29: =IF('FE-FxServ-Exploração'!E29=0,0,'FE-Faixa de Servidão'!$C$8*'FE-FxServ-Exploração'!E29) -> 0 | F29: =IF('FE-FxServ-Exploração'!F29=0,0,'FE-Faixa de Servidão'!$C$8*'FE-FxServ-Exploração'!F29) -> 0 | G29: =IF('FE-FxServ-Exploração'!G29=0,0,'FE-Faixa de Servidão'!$C$9*'FE-FxServ-Exploração'!G29) -> 12.281422 | H29: =IF('FE-FxServ-Exploração'!H29=0,0,'FE-Faixa de Servidão'!$C$10*'FE-FxServ-Exploração'!H29) -> 106.72117 | I29: =IF('FE-FxServ-Exploração'!I29=0,0,'FE-Faixa de Servidão'!$C$11*'FE-FxServ-Exploração'!I29) -> 0 | J29: =IF('FE-FxServ-Exploração'!J29=0,0,'FE-Faixa de Servidão'!$C$12*'FE-FxServ-Exploração'!J29) -> 0 | K29: =SUM(E29:J29) -> 119.0026 | L29: =IF(K29=0,0,K29+'FE-Faixa de Servidão'!$E$8) -> 199.41475 | M29: ='Inserção de dados_Linhas'!K$13 -> 9.8867445 | N29: =L29*M29 -> 1971.5627 | O29: =SUM(N29:N38) -> 114480.26
D30: 5.1.1.2 Florestas de azinheira (azinhal) | E30: =IF('FE-FxServ-Exploração'!E30=0,0,'FE-Faixa de Servidão'!$C$8*'FE-FxServ-Exploração'!E30) -> 0 | F30: =IF('FE-FxServ-Exploração'!F30=0,0,'FE-Faixa de Servidão'!$C$8*'FE-FxServ-Exploração'!F30) -> 0 | G30: =IF('FE-FxServ-Exploração'!G30=0,0,'FE-Faixa de Servidão'!$C$9*'FE-FxServ-Exploração'!G30) -> 12.281422 | H30: =IF('FE-FxServ-Exploração'!H30=0,0,'FE-Faixa de Servidão'!$C$10*'FE-FxServ-Exploração'!H30) -> 106.72117 | I30: =IF('FE-FxServ-Exploração'!I30=0,0,'FE-Faixa de Servidão'!$C$11*'FE-FxServ-Exploração'!I30) -> 0 | J30: =IF('FE-FxServ-Exploração'!J30=0,0,'FE-Faixa de Servidão'!$C$12*'FE-FxServ-Exploração'!J30) -> 0 | K30: =SUM(E30:J30) -> 119.0026 | L30: =IF(K30=0,0,K30+'FE-Faixa de Servidão'!$E$8) -> 199.41475 | M30: ='Inserção de dados_Linhas'!L$13 -> 0 | N30: =L30*M30 -> 0
D31: 5.1.1.3 Florestas de outros carvalhos | E31: =IF('FE-FxServ-Exploração'!E31=0,0,'FE-Faixa de Servidão'!$C$8*'FE-FxServ-Exploração'!E31) -> 0 | F31: =IF('FE-FxServ-Exploração'!F31=0,0,'FE-Faixa de Servidão'!$C$8*'FE-FxServ-Exploração'!F31) -> 0 | G31: =IF('FE-FxServ-Exploração'!G31=0,0,'FE-Faixa de Servidão'!$C$9*'FE-FxServ-Exploração'!G31) -> 12.281422 | H31: =IF('FE-FxServ-Exploração'!H31=0,0,'FE-Faixa de Servidão'!$C$10*'FE-FxServ-Exploração'!H31) -> 106.72117 | I31: =IF('FE-FxServ-Exploração'!I31=0,0,'FE-Faixa de Servidão'!$C$11*'FE-FxServ-Exploração'!I31) -> 0 | J31: =IF('FE-FxServ-Exploração'!J31=0,0,'FE-Faixa de Servidão'!$C$12*'FE-FxServ-Exploração'!J31) -> 0 | K31: =SUM(E31:J31) -> 119.0026 | L31: =IF(K31=0,0,K31+'FE-Faixa de Servidão'!$E$8) -> 199.41475 | M31: ='Inserção de dados_Linhas'!M$13 -> 0.14314825 | N31: =L31*M31 -> 28.545872
D32: 5.1.1.4 Florestas de castanheiro (castinçal) | E32: =IF('FE-FxServ-Exploração'!E32=0,0,'FE-Faixa de Servidão'!$C$8*'FE-FxServ-Exploração'!E32) -> 0 | F32: =IF('FE-FxServ-Exploração'!F32=0,0,'FE-Faixa de Servidão'!$C$8*'FE-FxServ-Exploração'!F32) -> 0 | G32: =IF('FE-FxServ-Exploração'!G32=0,0,'FE-Faixa de Servidão'!$C$9*'FE-FxServ-Exploração'!G32) -> 12.281422 | H32: =IF('FE-FxServ-Exploração'!H32=0,0,'FE-Faixa de Servidão'!$C$10*'FE-FxServ-Exploração'!H32) -> 106.72117 | I32: =IF('FE-FxServ-Exploração'!I32=0,0,'FE-Faixa de Servidão'!$C$11*'FE-FxServ-Exploração'!I32) -> 0 | J32: =IF('FE-FxServ-Exploração'!J32=0,0,'FE-Faixa de Servidão'!$C$12*'FE-FxServ-Exploração'!J32) -> 0 | K32: =SUM(E32:J32) -> 119.0026 | L32: =IF(K32=0,0,K32+'FE-Faixa de Servidão'!$E$8) -> 199.41475 | M32: ='Inserção de dados_Linhas'!N$13 -> 0.97287599 | N32: =L32*M32 -> 194.00582
D33: 5.1.1.5 Florestas de eucalipto | E33: =IF('FE-FxServ-Exploração'!E33=0,0,'FE-Faixa de Servidão'!$C$8*'FE-FxServ-Exploração'!E33) -> 0 | F33: =IF('FE-FxServ-Exploração'!F33=0,0,'FE-Faixa de Servidão'!$C$8*'FE-FxServ-Exploração'!F33) -> 0 | G33: =IF('FE-FxServ-Exploração'!G33=0,0,'FE-Faixa de Servidão'!$C$9*'FE-FxServ-Exploração'!G33) -> 12.281422 | H33: =IF('FE-FxServ-Exploração'!H33=0,0,'FE-Faixa de Servidão'!$C$10*'FE-FxServ-Exploração'!H33) -> 106.72117 | I33: =IF('FE-FxServ-Exploração'!I33=0,0,'FE-Faixa de Servidão'!$C$11*'FE-FxServ-Exploração'!I33) -> 0 | J33: =IF('FE-FxServ-Exploração'!J33=0,0,'FE-Faixa de Servidão'!$C$12*'FE-FxServ-Exploração'!J33) -> 0 | K33: =SUM(E33:J33) -> 119.0026 | L33: =IF(K33=0,0,K33+'FE-Faixa de Servidão'!$E$8) -> 199.41475 | M33: ='Inserção de dados_Linhas'!O$13 -> 379.15027 | N33: =L33*M33 -> 75608.157
D34: 5.1.1.6 Florestas de espécies invasoras | E34: =IF('FE-FxServ-Exploração'!E34=0,0,'FE-Faixa de Servidão'!$C$8*'FE-FxServ-Exploração'!E34) -> 0 | F34: =IF('FE-FxServ-Exploração'!F34=0,0,'FE-Faixa de Servidão'!$C$8*'FE-FxServ-Exploração'!F34) -> 0 | G34: =IF('FE-FxServ-Exploração'!G34=0,0,'FE-Faixa de Servidão'!$C$9*'FE-FxServ-Exploração'!G34) -> 12.281422 | H34: =IF('FE-FxServ-Exploração'!H34=0,0,'FE-Faixa de Servidão'!$C$10*'FE-FxServ-Exploração'!H34) -> 106.72117 | I34: =IF('FE-FxServ-Exploração'!I34=0,0,'FE-Faixa de Servidão'!$C$11*'FE-FxServ-Exploração'!I34) -> 0 | J34: =IF('FE-FxServ-Exploração'!J34=0,0,'FE-Faixa de Servidão'!$C$12*'FE-FxServ-Exploração'!J34) -> 0 | K34: =SUM(E34:J34) -> 119.0026 | L34: =IF(K34=0,0,K34+'FE-Faixa de Servidão'!$E$8) -> 199.41475 | M34: ='Inserção de dados_Linhas'!P$13 -> 1.858352 | N34: =L34*M34 -> 370.58279
D35: 5.1.1.7 Florestas de outras folhosas (inclui medronheiro) | E35: =IF('FE-FxServ-Exploração'!E35=0,0,'FE-Faixa de Servidão'!$C$8*'FE-FxServ-Exploração'!E35) -> 0 | F35: =IF('FE-FxServ-Exploração'!F35=0,0,'FE-Faixa de Servidão'!$C$8*'FE-FxServ-Exploração'!F35) -> 0 | G35: =IF('FE-FxServ-Exploração'!G35=0,0,'FE-Faixa de Servidão'!$C$9*'FE-FxServ-Exploração'!G35) -> 12.281422 | H35: =IF('FE-FxServ-Exploração'!H35=0,0,'FE-Faixa de Servidão'!$C$10*'FE-FxServ-Exploração'!H35) -> 106.72117 | I35: =IF('FE-FxServ-Exploração'!I35=0,0,'FE-Faixa de Servidão'!$C$11*'FE-FxServ-Exploração'!I35) -> 0 | J35: =IF('FE-FxServ-Exploração'!J35=0,0,'FE-Faixa de Servidão'!$C$12*'FE-FxServ-Exploração'!J35) -> 0 | K35: =SUM(E35:J35) -> 119.0026 | L35: =IF(K35=0,0,K35+'FE-Faixa de Servidão'!$E$8) -> 199.41475 | M35: ='Inserção de dados_Linhas'!Q$13 -> 29.237942 | N35: =L35*M35 -> 5830.477
C36: 5.1.2 Florestas de resinosas | D36: 5.1.2.1 Florestas de pinheiro bravo | E36: =IF('FE-FxServ-Exploração'!E36=0,0,'FE-Faixa de Servidão'!$C$8*'FE-FxServ-Exploração'!E36) -> 0 | F36: =IF('FE-FxServ-Exploração'!F36=0,0,'FE-Faixa de Servidão'!$C$8*'FE-FxServ-Exploração'!F36) -> 0 | G36: =IF('FE-FxServ-Exploração'!G36=0,0,'FE-Faixa de Servidão'!$C$9*'FE-FxServ-Exploração'!G36) -> 12.281422 | H36: =IF('FE-FxServ-Exploração'!H36=0,0,'FE-Faixa de Servidão'!$C$10*'FE-FxServ-Exploração'!H36) -> 106.72117 | I36: =IF('FE-FxServ-Exploração'!I36=0,0,'FE-Faixa de Servidão'!$C$11*'FE-FxServ-Exploração'!I36) -> 0 | J36: =IF('FE-FxServ-Exploração'!J36=0,0,'FE-Faixa de Servidão'!$C$12*'FE-FxServ-Exploração'!J36) -> 0 | K36: =SUM(E36:J36) -> 119.0026 | L36: =IF(K36=0,0,K36+'FE-Faixa de Servidão'!$E$8) -> 199.41475 | M36: ='Inserção de dados_Linhas'!R$13 -> 152.83186 | N36: =L36*M36 -> 30476.927
D37: 5.1.2.2 Florestas de pinheiro manso (produção lenho) | E37: =IF('FE-FxServ-Exploração'!E37=0,0,'FE-Faixa de Servidão'!$C$8*'FE-FxServ-Exploração'!E37) -> 0 | F37: =IF('FE-FxServ-Exploração'!F37=0,0,'FE-Faixa de Servidão'!$C$8*'FE-FxServ-Exploração'!F37) -> 0 | G37: =IF('FE-FxServ-Exploração'!G37=0,0,'FE-Faixa de Servidão'!$C$9*'FE-FxServ-Exploração'!G37) -> 12.281422 | H37: =IF('FE-FxServ-Exploração'!H37=0,0,'FE-Faixa de Servidão'!$C$10*'FE-FxServ-Exploração'!H37) -> 106.72117 | I37: =IF('FE-FxServ-Exploração'!I37=0,0,'FE-Faixa de Servidão'!$C$11*'FE-FxServ-Exploração'!I37) -> 0 | J37: =IF('FE-FxServ-Exploração'!J37=0,0,'FE-Faixa de Servidão'!$C$12*'FE-FxServ-Exploração'!J37) -> 0 | K37: =SUM(E37:J37) -> 119.0026 | L37: =IF(K37=0,0,K37+'FE-Faixa de Servidão'!$E$8) -> 199.41475 | M37: ='Inserção de dados_Linhas'!S$13 -> 0 | N37: =L37*M37 -> 0
D38: 5.1.2.3 Florestas de outras resinosas | E38: =IF('FE-FxServ-Exploração'!E38=0,0,'FE-Faixa de Servidão'!$C$8*'FE-FxServ-Exploração'!E38) -> 0 | F38: =IF('FE-FxServ-Exploração'!F38=0,0,'FE-Faixa de Servidão'!$C$8*'FE-FxServ-Exploração'!F38) -> 0 | G38: =IF('FE-FxServ-Exploração'!G38=0,0,'FE-Faixa de Servidão'!$C$9*'FE-FxServ-Exploração'!G38) -> 12.281422 | H38: =IF('FE-FxServ-Exploração'!H38=0,0,'FE-Faixa de Servidão'!$C$10*'FE-FxServ-Exploração'!H38) -> 106.72117 | I38: =IF('FE-FxServ-Exploração'!I38=0,0,'FE-Faixa de Servidão'!$C$11*'FE-FxServ-Exploração'!I38) -> 0 | J38: =IF('FE-FxServ-Exploração'!J38=0,0,'FE-Faixa de Servidão'!$C$12*'FE-FxServ-Exploração'!J38) -> 0 | K38: =SUM(E38:J38) -> 119.0026 | L38: =IF(K38=0,0,K38+'FE-Faixa de Servidão'!$E$8) -> 199.41475 | M38: ='Inserção de dados_Linhas'!T$13 -> 0 | N38: =L38*M38 -> 0
A39: 6. Matos | E39: =IF('FE-FxServ-Exploração'!E39=0,0,'FE-Faixa de Servidão'!$C$8*'FE-FxServ-Exploração'!E39) -> 0 | F39: =IF('FE-FxServ-Exploração'!F39=0,0,'FE-Faixa de Servidão'!$C$8*'FE-FxServ-Exploração'!F39) -> 0 | G39: =IF('FE-FxServ-Exploração'!G39=0,0,'FE-Faixa de Servidão'!$C$9*'FE-FxServ-Exploração'!G39) -> 0 | H39: =IF('FE-FxServ-Exploração'!H39=0,0,'FE-Faixa de Servidão'!$C$10*'FE-FxServ-Exploração'!H39) -> 133.40147 | I39: =IF('FE-FxServ-Exploração'!I39=0,0,'FE-Faixa de Servidão'!$C$11*'FE-FxServ-Exploração'!I39) -> 0 | J39: =IF('FE-FxServ-Exploração'!J39=0,0,'FE-Faixa de Servidão'!$C$12*'FE-FxServ-Exploração'!J39) -> 0 | K39: =SUM(E39:J39) -> 133.40147 | L39: =IF(K39=0,0,K39+'FE-Faixa de Servidão'!$E$8) -> 213.81362 | M39: ='Inserção de dados_Linhas'!$U$13 -> 83.742401 | N39: =L39*M39 -> 17905.266 | O39: =N39 -> 17905.266
A40: 7. Espaços descobertos ou com pouca vegetação | B40: 7.1 Espaços descobertos ou com pouca vegetação | C40: 7.1.1 Praias, dunas e areais | E40: =IF('FE-FxServ-Exploração'!E40=0,0,'FE-Faixa de Servidão'!$C$8*'FE-FxServ-Exploração'!E40) -> 0 | F40: =IF('FE-FxServ-Exploração'!F40=0,0,'FE-Faixa de Servidão'!$C$8*'FE-FxServ-Exploração'!F40) -> 0 | G40: =IF('FE-FxServ-Exploração'!G40=0,0,'FE-Faixa de Servidão'!$C$9*'FE-FxServ-Exploração'!G40) -> 0 | H40: =IF('FE-FxServ-Exploração'!H40=0,0,'FE-Faixa de Servidão'!$C$10*'FE-FxServ-Exploração'!H40) -> 66.700734 | I40: =IF('FE-FxServ-Exploração'!I40=0,0,'FE-Faixa de Servidão'!$C$11*'FE-FxServ-Exploração'!I40) -> 0 | J40: =IF('FE-FxServ-Exploração'!J40=0,0,'FE-Faixa de Servidão'!$C$12*'FE-FxServ-Exploração'!J40) -> 0 | K40: =SUM(E40:J40) -> 66.700734 | L40: =IF(K40=0,0,K40+'FE-Faixa de Servidão'!$E$8) -> 147.11289 | M40: ='Inserção de dados_Linhas'!$V$13 -> 0 | N40: =L40*M40 -> 0 | O40: =SUM(N40:N42) -> 0
C41: 7.1.2 Rocha nua | E41: =IF('FE-FxServ-Exploração'!E41=0,0,'FE-Faixa de Servidão'!$C$8*'FE-FxServ-Exploração'!E41) -> 0 | F41: =IF('FE-FxServ-Exploração'!F41=0,0,'FE-Faixa de Servidão'!$C$8*'FE-FxServ-Exploração'!F41) -> 0 | G41: =IF('FE-FxServ-Exploração'!G41=0,0,'FE-Faixa de Servidão'!$C$9*'FE-FxServ-Exploração'!G41) -> 0 | H41: =IF('FE-FxServ-Exploração'!H41=0,0,'FE-Faixa de Servidão'!$C$10*'FE-FxServ-Exploração'!H41) -> 66.700734 | I41: =IF('FE-FxServ-Exploração'!I41=0,0,'FE-Faixa de Servidão'!$C$11*'FE-FxServ-Exploração'!I41) -> 0 | J41: =IF('FE-FxServ-Exploração'!J41=0,0,'FE-Faixa de Servidão'!$C$12*'FE-FxServ-Exploração'!J41) -> 0 | K41: =SUM(E41:J41) -> 66.700734 | L41: =IF(K41=0,0,K41+'FE-Faixa de Servidão'!$E$8) -> 147.11289 | M41: ='Inserção de dados_Linhas'!$W$13 -> 0 | N41: =L41*M41 -> 0
C42: 7.1.3 Vegetação esparsa | E42: =IF('FE-FxServ-Exploração'!E42=0,0,'FE-Faixa de Servidão'!$C$8*'FE-FxServ-Exploração'!E42) -> 0 | F42: =IF('FE-FxServ-Exploração'!F42=0,0,'FE-Faixa de Servidão'!$C$8*'FE-FxServ-Exploração'!F42) -> 0 | G42: =IF('FE-FxServ-Exploração'!G42=0,0,'FE-Faixa de Servidão'!$C$9*'FE-FxServ-Exploração'!G42) -> 0 | H42: =IF('FE-FxServ-Exploração'!H42=0,0,'FE-Faixa de Servidão'!$C$10*'FE-FxServ-Exploração'!H42) -> 66.700734 | I42: =IF('FE-FxServ-Exploração'!I42=0,0,'FE-Faixa de Servidão'!$C$11*'FE-FxServ-Exploração'!I42) -> 0 | J42: =IF('FE-FxServ-Exploração'!J42=0,0,'FE-Faixa de Servidão'!$C$12*'FE-FxServ-Exploração'!J42) -> 0 | K42: =SUM(E42:J42) -> 66.700734 | L42: =IF(K42=0,0,K42+'FE-Faixa de Servidão'!$E$8) -> 147.11289 | M42: ='Inserção de dados_Linhas'!$X$13 -> 0 | N42: =L42*M42 -> 0
A43: 8. Zonas húmidas | E43: =IF('FE-FxServ-Exploração'!E43=0,0,'FE-Faixa de Servidão'!$C$8*'FE-FxServ-Exploração'!E43) -> 0 | F43: =IF('FE-FxServ-Exploração'!F43=0,0,'FE-Faixa de Servidão'!$C$8*'FE-FxServ-Exploração'!F43) -> 0 | G43: =IF('FE-FxServ-Exploração'!G43=0,0,'FE-Faixa de Servidão'!$C$9*'FE-FxServ-Exploração'!G43) -> 0 | H43: =IF('FE-FxServ-Exploração'!H43=0,0,'FE-Faixa de Servidão'!$C$10*'FE-FxServ-Exploração'!H43) -> 0 | I43: =IF('FE-FxServ-Exploração'!I43=0,0,'FE-Faixa de Servidão'!$C$11*'FE-FxServ-Exploração'!I43) -> 0 | J43: =IF('FE-FxServ-Exploração'!J43=0,0,'FE-Faixa de Servidão'!$C$12*'FE-FxServ-Exploração'!J43) -> 0 | K43: =SUM(E43:J43) -> 0 | L43: =IF(K43=0,0,K43+'FE-Faixa de Servidão'!$E$8) -> 0 | N43: =L43*M43 -> 0 | O43: =N43 -> 0
A44: 9. Massas água superficiais | E44: =IF('FE-FxServ-Exploração'!E44=0,0,'FE-Faixa de Servidão'!$C$8*'FE-FxServ-Exploração'!E44) -> 0 | F44: =IF('FE-FxServ-Exploração'!F44=0,0,'FE-Faixa de Servidão'!$C$8*'FE-FxServ-Exploração'!F44) -> 0 | G44: =IF('FE-FxServ-Exploração'!G44=0,0,'FE-Faixa de Servidão'!$C$9*'FE-FxServ-Exploração'!G44) -> 0 | H44: =IF('FE-FxServ-Exploração'!H44=0,0,'FE-Faixa de Servidão'!$C$10*'FE-FxServ-Exploração'!H44) -> 0 | I44: =IF('FE-FxServ-Exploração'!I44=0,0,'FE-Faixa de Servidão'!$C$11*'FE-FxServ-Exploração'!I44) -> 0 | J44: =IF('FE-FxServ-Exploração'!J44=0,0,'FE-Faixa de Servidão'!$C$12*'FE-FxServ-Exploração'!J44) -> 0 | K44: =SUM(E44:J44) -> 0 | L44: =IF(K44=0,0,K44+'FE-Faixa de Servidão'!$E$8) -> 0 | N44: =L44*M44 -> 0 | O44: =N44 -> 0

Sheet FE-FxServ-Estabelecimento
A1: Contabilização de emissões GEE
G3: Tipo de Intervenção
E4: Ocultar | F4: Ocultar | G4: ATE (corte raso) | H4: ATE (desbaste) | I4: AAI+DTA+DTP | J4: LMT | K4: ECP | L4: MBS (PLT)
A5: 1 - Territórios artificializados | B5: 1.1 Tecido edificado | E5: =B5 -> 1.1 Tecido edificado | F5: =SUM(G5:I5) -> 0 | G5: 0 | H5: 0 | I5: 0 | J5: 0 | K5: 0 | L5: 0
B6: 1.2. Indústria, comércio, e instalações agricola | E6: =B6 -> 1.2. Indústria, comércio, e instalações agricola | F6: =SUM(G6:I6) -> 0 | G6: 0 | H6: 0 | I6: 0 | J6: 0 | K6: 0 | L6: 0
B7: 1.3 Infraestruturas | E7: =B7 -> 1.3 Infraestruturas | F7: =SUM(G7:I7) -> 0 | G7: 0 | H7: 0 | I7: 0 | J7: 0 | K7: 0 | L7: 0
B8: 1.4 Transportes | E8: =B8 -> 1.4 Transportes | F8: =SUM(G8:I8) -> 0 | G8: 0 | H8: 0 | I8: 0 | J8: 0 | K8: 0 | L8: 0
B9: 1.5 Área de extração de inertes, áreas de deposição de resíduos e estaleiros de construção | C9: 1.5.1 Áreas de extração de inertes | E9: =C9 -> 1.5.1 Áreas de extração de inertes | F9: =SUM(G9:I9) -> 0 | G9: 0 | H9: 0 | I9: 0 | J9: 0 | K9: 0 | L9: 0
C10: 1.5.2 Áreas de deposição de resíduos | E10: =C10 -> 1.5.2 Áreas de deposição de resíduos | F10: =SUM(G10:I10) -> 0 | G10: 0 | H10: 0 | I10: 0 | J10: 0 | K10: 0 | L10: 0
B11: 1.6 Equipamentos | C11: 1.6.1 Equipamentos desportivos (inclui campos de golfe) | E11: =B11 -> 1.6 Equipamentos | F11: =SUM(G11:I11) -> 0 | G11: 0 | H11: 0 | I11: 0 | J11: 0 | K11: 0 | L11: 0
C12: 1.6.2 Equipamentos de lazer e parques de campismo | E12: =C12 -> 1.6.2 Equipamentos de lazer e parques de campismo | F12: =SUM(G12:I12) -> 0 | G12: 0 | H12: 0 | I12: 0 | J12: 0 | K12: 0 | L12: 0
B13: 1.7 Parques e jardins | E13: =B13 -> 1.7 Parques e jardins | F13: =SUM(G13:I13) -> 0 | G13: 0 | H13: 0 | I13: 0 | J13: 0 | K13: 0 | L13: 0
A14: 2. Agricultura | B14: 2.1 Culturas temporárias | C14: 2.1.1 Culturas temporárias de sequeiro e regadio e arrozais | E14: =C14 -> 2.1.1 Culturas temporárias de sequeiro e regadio e arrozais | F14: =SUM(G14:I14) -> 0 | G14: 0 | H14: 0 | I14: 0 | J14: 0 | K14: 0 | L14: 0
B15: 2.2 Culturas permanentes | C15: 2.2.1 Vinhas | E15: =C15 -> 2.2.1 Vinhas | F15: =SUM(G15:I15) -> 0 | G15: 0 | H15: 0 | I15: 0 | J15: 0 | K15: 0 | L15: 0
C16: 2.2.2 Pomares (inclui produção de castanha, frutos de casca rija, cereja, etc) | E16: =C16 -> 2.2.2 Pomares (inclui produção de castanha, frutos de casca rija, cereja, etc) | F16: =SUM(G16:I16) -> 0 | G16: 0 | H16: 0 | I16: 0 | J16: 0 | K16: 0 | L16: 0
C17: 2.2.3 Olivais | E17: =C17 -> 2.2.3 Olivais | F17: =SUM(G17:I17) -> 0 | G17: 0 | H17: 0 | I17: 0 | J17: 0 | K17: 0 | L17: 0
B18: 2.3 Áreas agrícolas heterogéneas | C18: 2.3.1 Culturas temporárias e/ou pastagens melhoradas | E18: =C18 -> 2.3.1 Culturas temporárias e/ou pastagens melhoradas | F18: =SUM(G18:I18) -> 0 | G18: 0 | H18: 0 | I18: 0 | J18: 0 | K18: 0 | L18: 0
C19: 2.3.2 Mosaicos culturais e parcelares complexos | E19: =C19 -> 2.3.2 Mosaicos culturais e parcelares complexos | F19: =SUM(G19:I19) -> 0 | G19: 0 | H19: 0 | I19: 0 | J19: 0 | K19: 0 | L19: 0
C20: 2.3.3 Agricultura com espaços naturais e seminaturais | E20: =C20 -> 2.3.3 Agricultura com espaços naturais e seminaturais | F20: =SUM(G20:I20) -> 0.2 | G20: 0 | H20: 0 | I20: 0.2 | J20: 0 | K20: 0 | L20: 0
B21: 2.4 Agricultura protegida (estufas) e viveiros | E21: =B21 -> 2.4 Agricultura protegida (estufas) e viveiros | F21: =SUM(G21:I21) -> 0 | G21: 0 | H21: 0 | I21: 0 | J21: 0 | K21: 0 | L21: 0
A22: 3. Pastagens | B22: 3.1 Pastagens | C22: 3.1.1 Pastagens melhoradas | E22: =C22 -> 3.1.1 Pastagens melhoradas | F22: =SUM(G22:I22) -> 0 | G22: 0 | H22: 0 | I22: 0 | J22: 0 | K22: 0 | L22: 0
C23: 3.1.2 Pastagens espontâneas | E23: =C23 -> 3.1.2 Pastagens espontâneas | F23: =SUM(G23:I23) -> 0 | G23: 0 | H23: 0 | I23: 0 | J23: 0.5 | K23: 0 | L23: 0
A24: 4. Superfícies Agroflorestais (SAF) | B24: 4.1 Superfícies agroflorestais (SAF) | C24: 4.1.1 Superfícies agroflorestais (SAF) | D24: 4.1.1.1 SAF de sobreiro | E24: =D24 -> 4.1.1.1 SAF de sobreiro | F24: =SUM(G24:I24) -> 0.2 | G24: 0 | H24: 0 | I24: 0.2 | J24: 0.8 | K24: 0 | L24: 0
D25: 4.1.1.2 SAF de azinheira | E25: =D25 -> 4.1.1.2 SAF de azinheira | F25: =SUM(G25:I25) -> 0.2 | G25: 0 | H25: 0 | I25: 0.2 | J25: 0.8 | K25: 0 | L25: 0
D26: 4.1.1.3 SAF de outros carvalhos | E26: =D26 -> 4.1.1.3 SAF de outros carvalhos | F26: =SUM(G26:I26) -> 0.2 | G26: 0 | H26: 0 | I26: 0.2 | J26: 0.8 | K26: 0 | L26: 0
D27: 4.1.1.4 SAF de pinheiro manso (produção fruto) | E27: =D27 -> 4.1.1.4 SAF de pinheiro manso (produção fruto) | F27: =SUM(G27:I27) -> 0.2 | G27: 0 | H27: 0 | I27: 0.2 | J27: 0.8 | K27: 0 | L27: 0
D28: 4.1.1.5 SAF de outras espécies | E28: =D28 -> 4.1.1.5 SAF de outras espécies | F28: =SUM(G28:I28) -> 0.2 | G28: 0 | H28: 0 | I28: 0.2 | J28: 0.8 | K28: 0 | L28: 0
A29: 5. Florestas | B29: 5.1 Florestas | C29: 5.1.1 Florestas de folhosas | D29: 5.1.1.1 Florestas de sobreiro (sobreiral) | E29: =D29 -> 5.1.1.1 Florestas de sobreiro (sobreiral) | F29: =SUM(G29:I29) -> 1 | G29: 0 | H29: 1 | I29: 0 | J29: 1 | K29: 0 | L29: 0
D30: 5.1.1.2 Florestas de azinheira (azinhal) | E30: =D30 -> 5.1.1.2 Florestas de azinheira (azinhal) | F30: =SUM(G30:I30) -> 1 | G30: 0 | H30: 1 | I30: 0 | J30: 1 | K30: 0 | L30: 0
D31: 5.1.1.3 Florestas de outros carvalhos | E31: =D31 -> 5.1.1.3 Florestas de outros carvalhos | F31: =SUM(G31:I31) -> 1 | G31: 0 | H31: 1 | I31: 0 | J31: 1 | K31: 0 | L31: 0
D32: 5.1.1.4 Florestas de castanheiro (castinçal) | E32: =D32 -> 5.1.1.4 Florestas de castanheiro (castinçal) | F32: =SUM(G32:I32) -> 1 | G32: 0 | H32: 1 | I32: 0 | J32: 1 | K32: 0 | L32: 0
D33: 5.1.1.5 Florestas de eucalipto | E33: =D33 -> 5.1.1.5 Florestas de eucalipto | F33: =SUM(G33:I33) -> 1 | G33: 1 | H33: 0 | I33: 0 | J33: 1 | K33: 1 | L33: 1
D34: 5.1.1.6 Florestas de espécies invasoras | E34: =D34 -> 5.1.1.6 Florestas de espécies invasoras | F34: =SUM(G34:I34) -> 1 | G34: 1 | H34: 0 | I34: 0 | J34: 1 | K34: 1 | L34: 1
D35: 5.1.1.7 Florestas de outras folhosas (inclui medronheiro) | E35: =D35 -> 5.1.1.7 Florestas de outras folhosas (inclui medronheiro) | F35: =SUM(G35:I35) -> 1 | G35: 0 | H35: 1 | I35: 0 | J35: 1 | K35: 0 | L35: 0
C36: 5.1.2 Florestas de resinosas | D36: 5.1.2.1 Florestas de pinheiro bravo | E36: =D36 -> 5.1.2.1 Florestas de pinheiro bravo | F36: =SUM(G36:I36) -> 1 | G36: 1 | H36: 0 | I36: 0 | J36: 1 | K36: 0 | L36: 1
D37: 5.1.2.2 Florestas de pinheiro manso (produção lenho) | E37: =D37 -> 5.1.2.2 Florestas de pinheiro manso (produção lenho) | F37: =SUM(G37:I37) -> 1 | G37: 0 | H37: 1 | I37: 0 | J37: 1 | K37: 0 | L37: 0
D38: 5.1.2.3 Florestas de outras resinosas | E38: =D38 -> 5.1.2.3 Florestas de outras resinosas | F38: =SUM(G38:I38) -> 1 | G38: 0 | H38: 1 | I38: 0 | J38: 1 | K38: 0 | L38: 1
A39: 6. Matos | E39: =A39 -> 6. Matos | F39: =SUM(G39:I39) -> 0 | G39: 0 | H39: 0 | I39: 0 | J39: 1 | K39: 0 | L39: 0
A40: 7. Espaços descobertos ou com pouca vegetação | B40: 7.1 Espaços descobertos ou com pouca vegetação | C40: 7.1.1 Praias, dunas e areais | E40: =C40 -> 7.1.1 Praias, dunas e areais | F40: =SUM(G40:I40) -> 0 | G40: 0 | H40: 0 | I40: 0 | J40: 0.5 | K40: 0 | L40: 0
C41: 7.1.2 Rocha nua | E41: =C41 -> 7.1.2 Rocha nua | F41: =SUM(G41:I41) -> 0 | G41: 0 | H41: 0 | I41: 0 | J41: 0.5 | K41: 0 | L41: 0
C42: 7.1.3 Vegetação esparsa | E42: =C42 -> 7.1.3 Vegetação esparsa | F42: =SUM(G42:I42) -> 0 | G42: 0 | H42: 0 | I42: 0 | J42: 0.5 | K42: 0 | L42: 0
A43: 8. Zonas húmidas | E43: =A43 -> 8. Zonas húmidas | F43: =SUM(G43:I43) -> 0 | G43: 0 | H43: 0 | I43: 0 | J43: 0 | K43: 0 | L43: 0
A44: 9. Massas água superficiais | E44: =A44 -> 9. Massas água superficiais | F44: =SUM(G44:I44) -> 0 | G44: 0 | H44: 0 | I44: 0 | J44: 0 | K44: 0 | L44: 0

Sheet FE-FxServ-EmissõesEstableciment
A1: Contabilização de emissões GE
E3: Emissões por intervenção (kgCO2e/ha)
E4: ATE (corte raso) | F4: ATE (desbaste) | G4: AAI+DTA+DTP | H4: LMT | I4: ECP | J4: MBS (PLT) | K4: Emissões totais s/ deslocação (kgCO2e/ha) | L4: Emissões totais c/ deslocação (kgCO2e/ha) | M4: Área (ha) | N4: Emissões (kgCO2e) | O4: Total por AOT
A5: 1 - Territórios artificializados | B5: 1.1 Tecido edificado | E5: =IF('FE-FxServ-Estabelecimento'!G5=0,0,'FE-Faixa de Servidão'!$C$8*'FE-FxServ-Estabelecimento'!G5) -> 0 | F5: =IF('FE-FxServ-Estabelecimento'!H5=0,0,'FE-Faixa de Servidão'!$C$8*'FE-FxServ-Estabelecimento'!H5) -> 0 | G5: =IF('FE-FxServ-Estabelecimento'!I5=0,0,'FE-Faixa de Servidão'!$C$9*'FE-FxServ-Estabelecimento'!I5) -> 0 | H5: =IF('FE-FxServ-Estabelecimento'!J5=0,0,'FE-Faixa de Servidão'!$C$10*'FE-FxServ-Estabelecimento'!J5) -> 0 | I5: =IF('FE-FxServ-Estabelecimento'!K5=0,0,'FE-Faixa de Servidão'!$C$11*'FE-FxServ-Estabelecimento'!K5) -> 0 | J5: =IF('FE-FxServ-Estabelecimento'!L5=0,0,'FE-Faixa de Servidão'!$C$12*'FE-FxServ-Estabelecimento'!L5) -> 0 | K5: =SUM(E5:J5) -> 0 | L5: =IF(K5=0,0,K5+'FE-Faixa de Servidão'!$E$8) -> 0 | N5: =L5*M5 -> 0 | O5: =SUM(N5:N13) -> 0
B6: 1.2. Indústria, comércio, e instalações agricola | E6: =IF('FE-FxServ-Estabelecimento'!G6=0,0,'FE-Faixa de Servidão'!$C$8*'FE-FxServ-Estabelecimento'!G6) -> 0 | F6: =IF('FE-FxServ-Estabelecimento'!H6=0,0,'FE-Faixa de Servidão'!$C$8*'FE-FxServ-Estabelecimento'!H6) -> 0 | G6: =IF('FE-FxServ-Estabelecimento'!I6=0,0,'FE-Faixa de Servidão'!$C$9*'FE-FxServ-Estabelecimento'!I6) -> 0 | H6: =IF('FE-FxServ-Estabelecimento'!J6=0,0,'FE-Faixa de Servidão'!$C$10*'FE-FxServ-Estabelecimento'!J6) -> 0 | I6: =IF('FE-FxServ-Estabelecimento'!K6=0,0,'FE-Faixa de Servidão'!$C$11*'FE-FxServ-Estabelecimento'!K6) -> 0 | J6: =IF('FE-FxServ-Estabelecimento'!L6=0,0,'FE-Faixa de Servidão'!$C$12*'FE-FxServ-Estabelecimento'!L6) -> 0 | K6: =SUM(E6:J6) -> 0 | L6: =IF(K6=0,0,K6+'FE-Faixa de Servidão'!$E$8) -> 0 | N6: =L6*M6 -> 0
B7: 1.3 Infraestruturas | E7: =IF('FE-FxServ-Estabelecimento'!G7=0,0,'FE-Faixa de Servidão'!$C$8*'FE-FxServ-Estabelecimento'!G7) -> 0 | F7: =IF('FE-FxServ-Estabelecimento'!H7=0,0,'FE-Faixa de Servidão'!$C$8*'FE-FxServ-Estabelecimento'!H7) -> 0 | G7: =IF('FE-FxServ-Estabelecimento'!I7=0,0,'FE-Faixa de Servidão'!$C$9*'FE-FxServ-Estabelecimento'!I7) -> 0 | H7: =IF('FE-FxServ-Estabelecimento'!J7=0,0,'FE-Faixa de Servidão'!$C$10*'FE-FxServ-Estabelecimento'!J7) -> 0 | I7: =IF('FE-FxServ-Estabelecimento'!K7=0,0,'FE-Faixa de Servidão'!$C$11*'FE-FxServ-Estabelecimento'!K7) -> 0 | J7: =IF('FE-FxServ-Estabelecimento'!L7=0,0,'FE-Faixa de Servidão'!$C$12*'FE-FxServ-Estabelecimento'!L7) -> 0 | K7: =SUM(E7:J7) -> 0 | L7: =IF(K7=0,0,K7+'FE-Faixa de Servidão'!$E$8) -> 0 | N7: =L7*M7 -> 0
B8: 1.4 Transportes | E8: =IF('FE-FxServ-Estabelecimento'!G8=0,0,'FE-Faixa de Servidão'!$C$8*'FE-FxServ-Estabelecimento'!G8) -> 0 | F8: =IF('FE-FxServ-Estabelecimento'!H8=0,0,'FE-Faixa de Servidão'!$C$8*'FE-FxServ-Estabelecimento'!H8) -> 0 | G8: =IF('FE-FxServ-Estabelecimento'!I8=0,0,'FE-Faixa de Servidão'!$C$9*'FE-FxServ-Estabelecimento'!I8) -> 0 | H8: =IF('FE-FxServ-Estabelecimento'!J8=0,0,'FE-Faixa de Servidão'!$C$10*'FE-FxServ-Estabelecimento'!J8) -> 0 | I8: =IF('FE-FxServ-Estabelecimento'!K8=0,0,'FE-Faixa de Servidão'!$C$11*'FE-FxServ-Estabelecimento'!K8) -> 0 | J8: =IF('FE-FxServ-Estabelecimento'!L8=0,0,'FE-Faixa de Servidão'!$C$12*'FE-FxServ-Estabelecimento'!L8) -> 0 | K8: =SUM(E8:J8) -> 0 | L8: =IF(K8=0,0,K8+'FE-Faixa de Servidão'!$E$8) -> 0 | N8: =L8*M8 -> 0
B9: 1.5 Área de extração de inertes, áreas de deposição de resíduos e estaleiros de construção | C9: 1.5.1 Áreas de extração de inertes | E9: =IF('FE-FxServ-Estabelecimento'!G9=0,0,'FE-Faixa de Servidão'!$C$8*'FE-FxServ-Estabelecimento'!G9) -> 0 | F9: =IF('FE-FxServ-Estabelecimento'!H9=0,0,'FE-Faixa de Servidão'!$C$8*'FE-FxServ-Estabelecimento'!H9) -> 0 | G9: =IF('FE-FxServ-Estabelecimento'!I9=0,0,'FE-Faixa de Servidão'!$C$9*'FE-FxServ-Estabelecimento'!I9) -> 0 | H9: =IF('FE-FxServ-Estabelecimento'!J9=0,0,'FE-Faixa de Servidão'!$C$10*'FE-FxServ-Estabelecimento'!J9) -> 0 | I9: =IF('FE-FxServ-Estabelecimento'!K9=0,0,'FE-Faixa de Servidão'!$C$11*'FE-FxServ-Estabelecimento'!K9) -> 0 | J9: =IF('FE-FxServ-Estabelecimento'!L9=0,0,'FE-Faixa de Servidão'!$C$12*'FE-FxServ-Estabelecimento'!L9) -> 0 | K9: =SUM(E9:J9) -> 0 | L9: =IF(K9=0,0,K9+'FE-Faixa de Servidão'!$E$8) -> 0 | N9: =L9*M9 -> 0
C10: 1.5.2 Áreas de deposição de resíduos | E10: =IF('FE-FxServ-Estabelecimento'!G10=0,0,'FE-Faixa de Servidão'!$C$8*'FE-FxServ-Estabelecimento'!G10) -> 0 | F10: =IF('FE-FxServ-Estabelecimento'!H10=0,0,'FE-Faixa de Servidão'!$C$8*'FE-FxServ-Estabelecimento'!H10) -> 0 | G10: =IF('FE-FxServ-Estabelecimento'!I10=0,0,'FE-Faixa de Servidão'!$C$9*'FE-FxServ-Estabelecimento'!I10) -> 0 | H10: =IF('FE-FxServ-Estabelecimento'!J10=0,0,'FE-Faixa de Servidão'!$C$10*'FE-FxServ-Estabelecimento'!J10) -> 0 | I10: =IF('FE-FxServ-Estabelecimento'!K10=0,0,'FE-Faixa de Servidão'!$C$11*'FE-FxServ-Estabelecimento'!K10) -> 0 | J10: =IF('FE-FxServ-Estabelecimento'!L10=0,0,'FE-Faixa de Servidão'!$C$12*'FE-FxServ-Estabelecimento'!L10) -> 0 | K10: =SUM(E10:J10) -> 0 | L10: =IF(K10=0,0,K10+'FE-Faixa de Servidão'!$E$8) -> 0 | N10: =L10*M10 -> 0
B11: 1.6 Equipamentos | C11: 1.6.1 Equipamentos desportivos (inclui campos de golfe) | E11: =IF('FE-FxServ-Estabelecimento'!G11=0,0,'FE-Faixa de Servidão'!$C$8*'FE-FxServ-Estabelecimento'!G11) -> 0 | F11: =IF('FE-FxServ-Estabelecimento'!H11=0,0,'FE-Faixa de Servidão'!$C$8*'FE-FxServ-Estabelecimento'!H11) -> 0 | G11: =IF('FE-FxServ-Estabelecimento'!I11=0,0,'FE-Faixa de Servidão'!$C$9*'FE-FxServ-Estabelecimento'!I11) -> 0 | H11: =IF('FE-FxServ-Estabelecimento'!J11=0,0,'FE-Faixa de Servidão'!$C$10*'FE-FxServ-Estabelecimento'!J11) -> 0 | I11: =IF('FE-FxServ-Estabelecimento'!K11=0,0,'FE-Faixa de Servidão'!$C$11*'FE-FxServ-Estabelecimento'!K11) -> 0 | J11: =IF('FE-FxServ-Estabelecimento'!L11=0,0,'FE-Faixa de Servidão'!$C$12*'FE-FxServ-Estabelecimento'!L11) -> 0 | K11: =SUM(E11:J11) -> 0 | L11: =IF(K11=0,0,K11+'FE-Faixa de Servidão'!$E$8) -> 0 | N11: =L11*M11 -> 0
C12: 1.6.2 Equipamentos de lazer e parques de campismo | E12: =IF('FE-FxServ-Estabelecimento'!G12=0,0,'FE-Faixa de Servidão'!$C$8*'FE-FxServ-Estabelecimento'!G12) -> 0 | F12: =IF('FE-FxServ-Estabelecimento'!H12=0,0,'FE-Faixa de Servidão'!$C$8*'FE-FxServ-Estabelecimento'!H12) -> 0 | G12: =IF('FE-FxServ-Estabelecimento'!I12=0,0,'FE-Faixa de Servidão'!$C$9*'FE-FxServ-Estabelecimento'!I12) -> 0 | H12: =IF('FE-FxServ-Estabelecimento'!J12=0,0,'FE-Faixa de Servidão'!$C$10*'FE-FxServ-Estabelecimento'!J12) -> 0 | I12: =IF('FE-FxServ-Estabelecimento'!K12=0,0,'FE-Faixa de Servidão'!$C$11*'FE-FxServ-Estabelecimento'!K12) -> 0 | J12: =IF('FE-FxServ-Estabelecimento'!L12=0,0,'FE-Faixa de Servidão'!$C$12*'FE-FxServ-Estabelecimento'!L12) -> 0 | K12: =SUM(E12:J12) -> 0 | L12: =IF(K12=0,0,K12+'FE-Faixa de Servidão'!$E$8) -> 0 | N12: =L12*M12 -> 0
B13: 1.7 Parques e jardins | E13: =IF('FE-FxServ-Estabelecimento'!G13=0,0,'FE-Faixa de Servidão'!$C$8*'FE-FxServ-Estabelecimento'!G13) -> 0 | F13: =IF('FE-FxServ-Estabelecimento'!H13=0,0,'FE-Faixa de Servidão'!$C$8*'FE-FxServ-Estabelecimento'!H13) -> 0 | G13: =IF('FE-FxServ-Estabelecimento'!I13=0,0,'FE-Faixa de Servidão'!$C$9*'FE-FxServ-Estabelecimento'!I13) -> 0 | H13: =IF('FE-FxServ-Estabelecimento'!J13=0,0,'FE-Faixa de Servidão'!$C$10*'FE-FxServ-Estabelecimento'!J13) -> 0 | I13: =IF('FE-FxServ-Estabelecimento'!K13=0,0,'FE-Faixa de Servidão'!$C$11*'FE-FxServ-Estabelecimento'!K13) -> 0 | J13: =IF('FE-FxServ-Estabelecimento'!L13=0,0,'FE-Faixa de Servidão'!$C$12*'FE-FxServ-Estabelecimento'!L13) -> 0 | K13: =SUM(E13:J13) -> 0 | L13: =IF(K13=0,0,K13+'FE-Faixa de Servidão'!$E$8) -> 0 | N13: =L13*M13 -> 0
A14: 2. Agricultura | B14: 2.1 Culturas temporárias | C14: 2.1.1 Culturas temporárias de sequeiro e regadio e arrozais | E14: =IF('FE-FxServ-Estabelecimento'!G14=0,0,'FE-Faixa de Servidão'!$C$8*'FE-FxServ-Estabelecimento'!G14) -> 0 | F14: =IF('FE-FxServ-Estabelecimento'!H14=0,0,'FE-Faixa de Servidão'!$C$8*'FE-FxServ-Estabelecimento'!H14) -> 0 | G14: =IF('FE-FxServ-Estabelecimento'!I14=0,0,'FE-Faixa de Servidão'!$C$9*'FE-FxServ-Estabelecimento'!I14) -> 0 | H14: =IF('FE-FxServ-Estabelecimento'!J14=0,0,'FE-Faixa de Servidão'!$C$10*'FE-FxServ-Estabelecimento'!J14) -> 0 | I14: =IF('FE-FxServ-Estabelecimento'!K14=0,0,'FE-Faixa de Servidão'!$C$11*'FE-FxServ-Estabelecimento'!K14) -> 0 | J14: =IF('FE-FxServ-Estabelecimento'!L14=0,0,'FE-Faixa de Servidão'!$C$12*'FE-FxServ-Estabelecimento'!L14) -> 0 | K14: =SUM(E14:J14) -> 0 | L14: =IF(K14=0,0,K14+'FE-Faixa de Servidão'!$E$8) -> 0 | N14: =L14*M14 -> 0 | O14: =SUM(N14:N21) -> 483.42486
B15: 2.2 Culturas permanentes | C15: 2.2.1 Vinhas | E15: =IF('FE-FxServ-Estabelecimento'!G15=0,0,'FE-Faixa de Servidão'!$C$8*'FE-FxServ-Estabelecimento'!G15) -> 0 | F15: =IF('FE-FxServ-Estabelecimento'!H15=0,0,'FE-Faixa de Servidão'!$C$8*'FE-FxServ-Estabelecimento'!H15) -> 0 | G15: =IF('FE-FxServ-Estabelecimento'!I15=0,0,'FE-Faixa de Servidão'!$C$9*'FE-FxServ-Estabelecimento'!I15) -> 0 | H15: =IF('FE-FxServ-Estabelecimento'!J15=0,0,'FE-Faixa de Servidão'!$C$10*'FE-FxServ-Estabelecimento'!J15) -> 0 | I15: =IF('FE-FxServ-Estabelecimento'!K15=0,0,'FE-Faixa de Servidão'!$C$11*'FE-FxServ-Estabelecimento'!K15) -> 0 | J15: =IF('FE-FxServ-Estabelecimento'!L15=0,0,'FE-Faixa de Servidão'!$C$12*'FE-FxServ-Estabelecimento'!L15) -> 0 | K15: =SUM(E15:J15) -> 0 | L15: =IF(K15=0,0,K15+'FE-Faixa de Servidão'!$E$8) -> 0 | N15: =L15*M15 -> 0
C16: 2.2.2 Pomares (inclui produção de castanha, frutos de casca rija, cereja, etc) | E16: =IF('FE-FxServ-Estabelecimento'!G16=0,0,'FE-Faixa de Servidão'!$C$8*'FE-FxServ-Estabelecimento'!G16) -> 0 | F16: =IF('FE-FxServ-Estabelecimento'!H16=0,0,'FE-Faixa de Servidão'!$C$8*'FE-FxServ-Estabelecimento'!H16) -> 0 | G16: =IF('FE-FxServ-Estabelecimento'!I16=0,0,'FE-Faixa de Servidão'!$C$9*'FE-FxServ-Estabelecimento'!I16) -> 0 | H16: =IF('FE-FxServ-Estabelecimento'!J16=0,0,'FE-Faixa de Servidão'!$C$10*'FE-FxServ-Estabelecimento'!J16) -> 0 | I16: =IF('FE-FxServ-Estabelecimento'!K16=0,0,'FE-Faixa de Servidão'!$C$11*'FE-FxServ-Estabelecimento'!K16) -> 0 | J16: =IF('FE-FxServ-Estabelecimento'!L16=0,0,'FE-Faixa de Servidão'!$C$12*'FE-FxServ-Estabelecimento'!L16) -> 0 | K16: =SUM(E16:J16) -> 0 | L16: =IF(K16=0,0,K16+'FE-Faixa de Servidão'!$E$8) -> 0 | N16: =L16*M16 -> 0
C17: 2.2.3 Olivais | E17: =IF('FE-FxServ-Estabelecimento'!G17=0,0,'FE-Faixa de Servidão'!$C$8*'FE-FxServ-Estabelecimento'!G17) -> 0 | F17: =IF('FE-FxServ-Estabelecimento'!H17=0,0,'FE-Faixa de Servidão'!$C$8*'FE-FxServ-Estabelecimento'!H17) -> 0 | G17: =IF('FE-FxServ-Estabelecimento'!I17=0,0,'FE-Faixa de Servidão'!$C$9*'FE-FxServ-Estabelecimento'!I17) -> 0 | H17: =IF('FE-FxServ-Estabelecimento'!J17=0,0,'FE-Faixa de Servidão'!$C$10*'FE-FxServ-Estabelecimento'!J17) -> 0 | I17: =IF('FE-FxServ-Estabelecimento'!K17=0,0,'FE-Faixa de Servidão'!$C$11*'FE-FxServ-Estabelecimento'!K17) -> 0 | J17: =IF('FE-FxServ-Estabelecimento'!L17=0,0,'FE-Faixa de Servidão'!$C$12*'FE-FxServ-Estabelecimento'!L17) -> 0 | K17: =SUM(E17:J17) -> 0 | L17: =IF(K17=0,0,K17+'FE-Faixa de Servidão'!$E$8) -> 0 | N17: =L17*M17 -> 0
B18: 2.3 Áreas agrícolas heterogéneas | C18: 2.3.1 Culturas temporárias e/ou pastagens melhoradas | E18: =IF('FE-FxServ-Estabelecimento'!G18=0,0,'FE-Faixa de Servidão'!$C$8*'FE-FxServ-Estabelecimento'!G18) -> 0 | F18: =IF('FE-FxServ-Estabelecimento'!H18=0,0,'FE-Faixa de Servidão'!$C$8*'FE-FxServ-Estabelecimento'!H18) -> 0 | G18: =IF('FE-FxServ-Estabelecimento'!I18=0,0,'FE-Faixa de Servidão'!$C$9*'FE-FxServ-Estabelecimento'!I18) -> 0 | H18: =IF('FE-FxServ-Estabelecimento'!J18=0,0,'FE-Faixa de Servidão'!$C$10*'FE-FxServ-Estabelecimento'!J18) -> 0 | I18: =IF('FE-FxServ-Estabelecimento'!K18=0,0,'FE-Faixa de Servidão'!$C$11*'FE-FxServ-Estabelecimento'!K18) -> 0 | J18: =IF('FE-FxServ-Estabelecimento'!L18=0,0,'FE-Faixa de Servidão'!$C$12*'FE-FxServ-Estabelecimento'!L18) -> 0 | K18: =SUM(E18:J18) -> 0 | L18: =IF(K18=0,0,K18+'FE-Faixa de Servidão'!$E$8) -> 0 | N18: =L18*M18 -> 0
C19: 2.3.2 Mosaicos culturais e parcelares complexos | E19: =IF('FE-FxServ-Estabelecimento'!G19=0,0,'FE-Faixa de Servidão'!$C$8*'FE-FxServ-Estabelecimento'!G19) -> 0 | F19: =IF('FE-FxServ-Estabelecimento'!H19=0,0,'FE-Faixa de Servidão'!$C$8*'FE-FxServ-Estabelecimento'!H19) -> 0 | G19: =IF('FE-FxServ-Estabelecimento'!I19=0,0,'FE-Faixa de Servidão'!$C$9*'FE-FxServ-Estabelecimento'!I19) -> 0 | H19: =IF('FE-FxServ-Estabelecimento'!J19=0,0,'FE-Faixa de Servidão'!$C$10*'FE-FxServ-Estabelecimento'!J19) -> 0 | I19: =IF('FE-FxServ-Estabelecimento'!K19=0,0,'FE-Faixa de Servidão'!$C$11*'FE-FxServ-Estabelecimento'!K19) -> 0 | J19: =IF('FE-FxServ-Estabelecimento'!L19=0,0,'FE-Faixa de Servidão'!$C$12*'FE-FxServ-Estabelecimento'!L19) -> 0 | K19: =SUM(E19:J19) -> 0 | L19: =IF(K19=0,0,K19+'FE-Faixa de Servidão'!$E$8) -> 0 | N19: =L19*M19 -> 0
C20: 2.3.3 Agricultura com espaços naturais e seminaturais | E20: =IF('FE-FxServ-Estabelecimento'!G20=0,0,'FE-Faixa de Servidão'!$C$8*'FE-FxServ-Estabelecimento'!G20) -> 0 | F20: =IF('FE-FxServ-Estabelecimento'!H20=0,0,'FE-Faixa de Servidão'!$C$8*'FE-FxServ-Estabelecimento'!H20) -> 0 | G20: =IF('FE-FxServ-Estabelecimento'!I20=0,0,'FE-Faixa de Servidão'!$C$9*'FE-FxServ-Estabelecimento'!I20) -> 12.281422 | H20: =IF('FE-FxServ-Estabelecimento'!J20=0,0,'FE-Faixa de Servidão'!$C$10*'FE-FxServ-Estabelecimento'!J20) -> 0 | I20: =IF('FE-FxServ-Estabelecimento'!K20=0,0,'FE-Faixa de Servidão'!$C$11*'FE-FxServ-Estabelecimento'!K20) -> 0 | J20: =IF('FE-FxServ-Estabelecimento'!L20=0,0,'FE-Faixa de Servidão'!$C$12*'FE-FxServ-Estabelecimento'!L20) -> 0 | K20: =SUM(E20:J20) -> 12.281422 | L20: =IF(K20=0,0,K20+'FE-Faixa de Servidão'!$E$8) -> 92.693575 | M20: ='Inserção de dados_Linhas'!$D$13 -> 5.2153006 | N20: =L20*M20 -> 483.42486
B21: 2.4 Agricultura protegida (estufas) e viveiros | E21: =IF('FE-FxServ-Estabelecimento'!G21=0,0,'FE-Faixa de Servidão'!$C$8*'FE-FxServ-Estabelecimento'!G21) -> 0 | F21: =IF('FE-FxServ-Estabelecimento'!H21=0,0,'FE-Faixa de Servidão'!$C$8*'FE-FxServ-Estabelecimento'!H21) -> 0 | G21: =IF('FE-FxServ-Estabelecimento'!I21=0,0,'FE-Faixa de Servidão'!$C$9*'FE-FxServ-Estabelecimento'!I21) -> 0 | H21: =IF('FE-FxServ-Estabelecimento'!J21=0,0,'FE-Faixa de Servidão'!$C$10*'FE-FxServ-Estabelecimento'!J21) -> 0 | I21: =IF('FE-FxServ-Estabelecimento'!K21=0,0,'FE-Faixa de Servidão'!$C$11*'FE-FxServ-Estabelecimento'!K21) -> 0 | J21: =IF('FE-FxServ-Estabelecimento'!L21=0,0,'FE-Faixa de Servidão'!$C$12*'FE-FxServ-Estabelecimento'!L21) -> 0 | K21: =SUM(E21:J21) -> 0 | L21: =IF(K21=0,0,K21+'FE-Faixa de Servidão'!$E$8) -> 0 | N21: =L21*M21 -> 0
A22: 3. Pastagens | B22: 3.1 Pastagens | C22: 3.1.1 Pastagens melhoradas | E22: =IF('FE-FxServ-Estabelecimento'!G22=0,0,'FE-Faixa de Servidão'!$C$8*'FE-FxServ-Estabelecimento'!G22) -> 0 | F22: =IF('FE-FxServ-Estabelecimento'!H22=0,0,'FE-Faixa de Servidão'!$C$8*'FE-FxServ-Estabelecimento'!H22) -> 0 | G22: =IF('FE-FxServ-Estabelecimento'!I22=0,0,'FE-Faixa de Servidão'!$C$9*'FE-FxServ-Estabelecimento'!I22) -> 0 | H22: =IF('FE-FxServ-Estabelecimento'!J22=0,0,'FE-Faixa de Servidão'!$C$10*'FE-FxServ-Estabelecimento'!J22) -> 0 | I22: =IF('FE-FxServ-Estabelecimento'!K22=0,0,'FE-Faixa de Servidão'!$C$11*'FE-FxServ-Estabelecimento'!K22) -> 0 | J22: =IF('FE-FxServ-Estabelecimento'!L22=0,0,'FE-Faixa de Servidão'!$C$12*'FE-FxServ-Estabelecimento'!L22) -> 0 | K22: =SUM(E22:J22) -> 0 | L22: =IF(K22=0,0,K22+'FE-Faixa de Servidão'!$E$8) -> 0 | N22: =L22*M22 -> 0 | O22: =SUM(N22:N23) -> 0
C23: 3.1.2 Pastagens espontâneas | E23: =IF('FE-FxServ-Estabelecimento'!G23=0,0,'FE-Faixa de Servidão'!$C$8*'FE-FxServ-Estabelecimento'!G23) -> 0 | F23: =IF('FE-FxServ-Estabelecimento'!H23=0,0,'FE-Faixa de Servidão'!$C$8*'FE-FxServ-Estabelecimento'!H23) -> 0 | G23: =IF('FE-FxServ-Estabelecimento'!I23=0,0,'FE-Faixa de Servidão'!$C$9*'FE-FxServ-Estabelecimento'!I23) -> 0 | H23: =IF('FE-FxServ-Estabelecimento'!J23=0,0,'FE-Faixa de Servidão'!$C$10*'FE-FxServ-Estabelecimento'!J23) -> 66.700734 | I23: =IF('FE-FxServ-Estabelecimento'!K23=0,0,'FE-Faixa de Servidão'!$C$11*'FE-FxServ-Estabelecimento'!K23) -> 0 | J23: =IF('FE-FxServ-Estabelecimento'!L23=0,0,'FE-Faixa de Servidão'!$C$12*'FE-FxServ-Estabelecimento'!L23) -> 0 | K23: =SUM(E23:J23) -> 66.700734 | L23: =IF(K23=0,0,K23+'FE-Faixa de Servidão'!$E$8) -> 147.11289 | M23: ='Inserção de dados_Linhas'!$E$13 -> 0 | N23: =L23*M23 -> 0
A24: 4. Superfícies Agroflorestais (SAF) | B24: 4.1 Superfícies agroflorestais (SAF) | C24: 4.1.1 Superfícies agroflorestais (SAF) | D24: 4.1.1.1 SAF de sobreiro | E24: =IF('FE-FxServ-Estabelecimento'!G24=0,0,'FE-Faixa de Servidão'!$C$8*'FE-FxServ-Estabelecimento'!G24) -> 0 | F24: =IF('FE-FxServ-Estabelecimento'!H24=0,0,'FE-Faixa de Servidão'!$C$8*'FE-FxServ-Estabelecimento'!H24) -> 0 | G24: =IF('FE-FxServ-Estabelecimento'!I24=0,0,'FE-Faixa de Servidão'!$C$9*'FE-FxServ-Estabelecimento'!I24) -> 12.281422 | H24: =IF('FE-FxServ-Estabelecimento'!J24=0,0,'FE-Faixa de Servidão'!$C$10*'FE-FxServ-Estabelecimento'!J24) -> 106.72117 | I24: =IF('FE-FxServ-Estabelecimento'!K24=0,0,'FE-Faixa de Servidão'!$C$11*'FE-FxServ-Estabelecimento'!K24) -> 0 | J24: =IF('FE-FxServ-Estabelecimento'!L24=0,0,'FE-Faixa de Servidão'!$C$12*'FE-FxServ-Estabelecimento'!L24) -> 0 | K24: =SUM(E24:J24) -> 119.0026 | L24: =IF(K24=0,0,K24+'FE-Faixa de Servidão'!$E$8) -> 199.41475 | M24: ='Inserção de dados_Linhas'!$F13 -> 0 | N24: =L24*M24 -> 0 | O24: =SUM(N24:N28) -> 0
D25: 4.1.1.2 SAF de azinheira | E25: =IF('FE-FxServ-Estabelecimento'!G25=0,0,'FE-Faixa de Servidão'!$C$8*'FE-FxServ-Estabelecimento'!G25) -> 0 | F25: =IF('FE-FxServ-Estabelecimento'!H25=0,0,'FE-Faixa de Servidão'!$C$8*'FE-FxServ-Estabelecimento'!H25) -> 0 | G25: =IF('FE-FxServ-Estabelecimento'!I25=0,0,'FE-Faixa de Servidão'!$C$9*'FE-FxServ-Estabelecimento'!I25) -> 12.281422 | H25: =IF('FE-FxServ-Estabelecimento'!J25=0,0,'FE-Faixa de Servidão'!$C$10*'FE-FxServ-Estabelecimento'!J25) -> 106.72117 | I25: =IF('FE-FxServ-Estabelecimento'!K25=0,0,'FE-Faixa de Servidão'!$C$11*'FE-FxServ-Estabelecimento'!K25) -> 0 | J25: =IF('FE-FxServ-Estabelecimento'!L25=0,0,'FE-Faixa de Servidão'!$C$12*'FE-FxServ-Estabelecimento'!L25) -> 0 | K25: =SUM(E25:J25) -> 119.0026 | L25: =IF(K25=0,0,K25+'FE-Faixa de Servidão'!$E$8) -> 199.41475 | M25: ='Inserção de dados_Linhas'!$G$13 -> 0 | N25: =L25*M25 -> 0
D26: 4.1.1.3 SAF de outros carvalhos | E26: =IF('FE-FxServ-Estabelecimento'!G26=0,0,'FE-Faixa de Servidão'!$C$8*'FE-FxServ-Estabelecimento'!G26) -> 0 | F26: =IF('FE-FxServ-Estabelecimento'!H26=0,0,'FE-Faixa de Servidão'!$C$8*'FE-FxServ-Estabelecimento'!H26) -> 0 | G26: =IF('FE-FxServ-Estabelecimento'!I26=0,0,'FE-Faixa de Servidão'!$C$9*'FE-FxServ-Estabelecimento'!I26) -> 12.281422 | H26: =IF('FE-FxServ-Estabelecimento'!J26=0,0,'FE-Faixa de Servidão'!$C$10*'FE-FxServ-Estabelecimento'!J26) -> 106.72117 | I26: =IF('FE-FxServ-Estabelecimento'!K26=0,0,'FE-Faixa de Servidão'!$C$11*'FE-FxServ-Estabelecimento'!K26) -> 0 | J26: =IF('FE-FxServ-Estabelecimento'!L26=0,0,'FE-Faixa de Servidão'!$C$12*'FE-FxServ-Estabelecimento'!L26) -> 0 | K26: =SUM(E26:J26) -> 119.0026 | L26: =IF(K26=0,0,K26+'FE-Faixa de Servidão'!$E$8) -> 199.41475 | M26: ='Inserção de dados_Linhas'!$H$13 -> 0 | N26: =L26*M26 -> 0
D27: 4.1.1.4 SAF de pinheiro manso (produção fruto) | E27: =IF('FE-FxServ-Estabelecimento'!G27=0,0,'FE-Faixa de Servidão'!$C$8*'FE-FxServ-Estabelecimento'!G27) -> 0 | F27: =IF('FE-FxServ-Estabelecimento'!H27=0,0,'FE-Faixa de Servidão'!$C$8*'FE-FxServ-Estabelecimento'!H27) -> 0 | G27: =IF('FE-FxServ-Estabelecimento'!I27=0,0,'FE-Faixa de Servidão'!$C$9*'FE-FxServ-Estabelecimento'!I27) -> 12.281422 | H27: =IF('FE-FxServ-Estabelecimento'!J27=0,0,'FE-Faixa de Servidão'!$C$10*'FE-FxServ-Estabelecimento'!J27) -> 106.72117 | I27: =IF('FE-FxServ-Estabelecimento'!K27=0,0,'FE-Faixa de Servidão'!$C$11*'FE-FxServ-Estabelecimento'!K27) -> 0 | J27: =IF('FE-FxServ-Estabelecimento'!L27=0,0,'FE-Faixa de Servidão'!$C$12*'FE-FxServ-Estabelecimento'!L27) -> 0 | K27: =SUM(E27:J27) -> 119.0026 | L27: =IF(K27=0,0,K27+'FE-Faixa de Servidão'!$E$8) -> 199.41475 | M27: ='Inserção de dados_Linhas'!I$13 -> 0 | N27: =L27*M27 -> 0
D28: 4.1.1.5 SAF de outras espécies | E28: =IF('FE-FxServ-Estabelecimento'!G28=0,0,'FE-Faixa de Servidão'!$C$8*'FE-FxServ-Estabelecimento'!G28) -> 0 | F28: =IF('FE-FxServ-Estabelecimento'!H28=0,0,'FE-Faixa de Servidão'!$C$8*'FE-FxServ-Estabelecimento'!H28) -> 0 | G28: =IF('FE-FxServ-Estabelecimento'!I28=0,0,'FE-Faixa de Servidão'!$C$9*'FE-FxServ-Estabelecimento'!I28) -> 12.281422 | H28: =IF('FE-FxServ-Estabelecimento'!J28=0,0,'FE-Faixa de Servidão'!$C$10*'FE-FxServ-Estabelecimento'!J28) -> 106.72117 | I28: =IF('FE-FxServ-Estabelecimento'!K28=0,0,'FE-Faixa de Servidão'!$C$11*'FE-FxServ-Estabelecimento'!K28) -> 0 | J28: =IF('FE-FxServ-Estabelecimento'!L28=0,0,'FE-Faixa de Servidão'!$C$12*'FE-FxServ-Estabelecimento'!L28) -> 0 | K28: =SUM(E28:J28) -> 119.0026 | L28: =IF(K28=0,0,K28+'FE-Faixa de Servidão'!$E$8) -> 199.41475 | M28: ='Inserção de dados_Linhas'!J$13 -> 0 | N28: =L28*M28 -> 0
A29: 5. Florestas | B29: 5.1 Florestas | C29: 5.1.1 Florestas de folhosas | D29: 5.1.1.1 Florestas de sobreiro (sobreiral) | E29: =IF('FE-FxServ-Estabelecimento'!G29=0,0,'FE-Faixa de Servidão'!$C$8*'FE-FxServ-Estabelecimento'!G29) -> 0 | F29: =IF('FE-FxServ-Estabelecimento'!H29=0,0,'FE-Faixa de Servidão'!$C$8*'FE-FxServ-Estabelecimento'!H29) -> 108.6705 | G29: =IF('FE-FxServ-Estabelecimento'!I29=0,0,'FE-Faixa de Servidão'!$C$9*'FE-FxServ-Estabelecimento'!I29) -> 0 | H29: =IF('FE-FxServ-Estabelecimento'!J29=0,0,'FE-Faixa de Servidão'!$C$10*'FE-FxServ-Estabelecimento'!J29) -> 133.40147 | I29: =IF('FE-FxServ-Estabelecimento'!K29=0,0,'FE-Faixa de Servidão'!$C$11*'FE-FxServ-Estabelecimento'!K29) -> 0 | J29: =IF('FE-FxServ-Estabelecimento'!L29=0,0,'FE-Faixa de Servidão'!$C$12*'FE-FxServ-Estabelecimento'!L29) -> 0 | K29: =SUM(E29:J29) -> 242.07197 | L29: =IF(K29=0,0,K29+'FE-Faixa de Servidão'!$E$8) -> 322.48412 | M29: ='Inserção de dados_Linhas'!K$13 -> 9.8867445 | N29: =L29*M29 -> 3188.3181 | O29: =SUM(N29:N38) -> 614265.56
D30: 5.1.1.2 Florestas de azinheira (azinhal) | E30: =IF('FE-FxServ-Estabelecimento'!G30=0,0,'FE-Faixa de Servidão'!$C$8*'FE-FxServ-Estabelecimento'!G30) -> 0 | F30: =IF('FE-FxServ-Estabelecimento'!H30=0,0,'FE-Faixa de Servidão'!$C$8*'FE-FxServ-Estabelecimento'!H30) -> 108.6705 | G30: =IF('FE-FxServ-Estabelecimento'!I30=0,0,'FE-Faixa de Servidão'!$C$9*'FE-FxServ-Estabelecimento'!I30) -> 0 | H30: =IF('FE-FxServ-Estabelecimento'!J30=0,0,'FE-Faixa de Servidão'!$C$10*'FE-FxServ-Estabelecimento'!J30) -> 133.40147 | I30: =IF('FE-FxServ-Estabelecimento'!K30=0,0,'FE-Faixa de Servidão'!$C$11*'FE-FxServ-Estabelecimento'!K30) -> 0 | J30: =IF('FE-FxServ-Estabelecimento'!L30=0,0,'FE-Faixa de Servidão'!$C$12*'FE-FxServ-Estabelecimento'!L30) -> 0 | K30: =SUM(E30:J30) -> 242.07197 | L30: =IF(K30=0,0,K30+'FE-Faixa de Servidão'!$E$8) -> 322.48412 | M30: ='Inserção de dados_Linhas'!L$13 -> 0 | N30: =L30*M30 -> 0
D31: 5.1.1.3 Florestas de outros carvalhos | E31: =IF('FE-FxServ-Estabelecimento'!G31=0,0,'FE-Faixa de Servidão'!$C$8*'FE-FxServ-Estabelecimento'!G31) -> 0 | F31: =IF('FE-FxServ-Estabelecimento'!H31=0,0,'FE-Faixa de Servidão'!$C$8*'FE-FxServ-Estabelecimento'!H31) -> 108.6705 | G31: =IF('FE-FxServ-Estabelecimento'!I31=0,0,'FE-Faixa de Servidão'!$C$9*'FE-FxServ-Estabelecimento'!I31) -> 0 | H31: =IF('FE-FxServ-Estabelecimento'!J31=0,0,'FE-Faixa de Servidão'!$C$10*'FE-FxServ-Estabelecimento'!J31) -> 133.40147 | I31: =IF('FE-FxServ-Estabelecimento'!K31=0,0,'FE-Faixa de Servidão'!$C$11*'FE-FxServ-Estabelecimento'!K31) -> 0 | J31: =IF('FE-FxServ-Estabelecimento'!L31=0,0,'FE-Faixa de Servidão'!$C$12*'FE-FxServ-Estabelecimento'!L31) -> 0 | K31: =SUM(E31:J31) -> 242.07197 | L31: =IF(K31=0,0,K31+'FE-Faixa de Servidão'!$E$8) -> 322.48412 | M31: ='Inserção de dados_Linhas'!M$13 -> 0.14314825 | N31: =L31*M31 -> 46.163037
D32: 5.1.1.4 Florestas de castanheiro (castinçal) | E32: =IF('FE-FxServ-Estabelecimento'!G32=0,0,'FE-Faixa de Servidão'!$C$8*'FE-FxServ-Estabelecimento'!G32) -> 0 | F32: =IF('FE-FxServ-Estabelecimento'!H32=0,0,'FE-Faixa de Servidão'!$C$8*'FE-FxServ-Estabelecimento'!H32) -> 108.6705 | G32: =IF('FE-FxServ-Estabelecimento'!I32=0,0,'FE-Faixa de Servidão'!$C$9*'FE-FxServ-Estabelecimento'!I32) -> 0 | H32: =IF('FE-FxServ-Estabelecimento'!J32=0,0,'FE-Faixa de Servidão'!$C$10*'FE-FxServ-Estabelecimento'!J32) -> 133.40147 | I32: =IF('FE-FxServ-Estabelecimento'!K32=0,0,'FE-Faixa de Servidão'!$C$11*'FE-FxServ-Estabelecimento'!K32) -> 0 | J32: =IF('FE-FxServ-Estabelecimento'!L32=0,0,'FE-Faixa de Servidão'!$C$12*'FE-FxServ-Estabelecimento'!L32) -> 0 | K32: =SUM(E32:J32) -> 242.07197 | L32: =IF(K32=0,0,K32+'FE-Faixa de Servidão'!$E$8) -> 322.48412 | M32: ='Inserção de dados_Linhas'!N$13 -> 0.97287599 | N32: =L32*M32 -> 313.73706
D33: 5.1.1.5 Florestas de eucalipto | E33: =IF('FE-FxServ-Estabelecimento'!G33=0,0,'FE-Faixa de Servidão'!$C$8*'FE-FxServ-Estabelecimento'!G33) -> 108.6705 | F33: =IF('FE-FxServ-Estabelecimento'!H33=0,0,'FE-Faixa de Servidão'!$C$8*'FE-FxServ-Estabelecimento'!H33) -> 0 | G33: =IF('FE-FxServ-Estabelecimento'!I33=0,0,'FE-Faixa de Servidão'!$C$9*'FE-FxServ-Estabelecimento'!I33) -> 0 | H33: =IF('FE-FxServ-Estabelecimento'!J33=0,0,'FE-Faixa de Servidão'!$C$10*'FE-FxServ-Estabelecimento'!J33) -> 133.40147 | I33: =IF('FE-FxServ-Estabelecimento'!K33=0,0,'FE-Faixa de Servidão'!$C$11*'FE-FxServ-Estabelecimento'!K33) -> 487.82138 | J33: =IF('FE-FxServ-Estabelecimento'!L33=0,0,'FE-Faixa de Servidão'!$C$12*'FE-FxServ-Estabelecimento'!L33) -> 455.69668 | K33: =SUM(E33:J33) -> 1185.59 | L33: =IF(K33=0,0,K33+'FE-Faixa de Servidão'!$E$8) -> 1266.0022 | M33: ='Inserção de dados_Linhas'!O$13 -> 379.15027 | N33: =L33*M33 -> 480005.07
D34: 5.1.1.6 Florestas de espécies invasoras | E34: =IF('FE-FxServ-Estabelecimento'!G34=0,0,'FE-Faixa de Servidão'!$C$8*'FE-FxServ-Estabelecimento'!G34) -> 108.6705 | F34: =IF('FE-FxServ-Estabelecimento'!H34=0,0,'FE-Faixa de Servidão'!$C$8*'FE-FxServ-Estabelecimento'!H34) -> 0 | G34: =IF('FE-FxServ-Estabelecimento'!I34=0,0,'FE-Faixa de Servidão'!$C$9*'FE-FxServ-Estabelecimento'!I34) -> 0 | H34: =IF('FE-FxServ-Estabelecimento'!J34=0,0,'FE-Faixa de Servidão'!$C$10*'FE-FxServ-Estabelecimento'!J34) -> 133.40147 | I34: =IF('FE-FxServ-Estabelecimento'!K34=0,0,'FE-Faixa de Servidão'!$C$11*'FE-FxServ-Estabelecimento'!K34) -> 487.82138 | J34: =IF('FE-FxServ-Estabelecimento'!L34=0,0,'FE-Faixa de Servidão'!$C$12*'FE-FxServ-Estabelecimento'!L34) -> 455.69668 | K34: =SUM(E34:J34) -> 1185.59 | L34: =IF(K34=0,0,K34+'FE-Faixa de Servidão'!$E$8) -> 1266.0022 | M34: ='Inserção de dados_Linhas'!P$13 -> 1.858352 | N34: =L34*M34 -> 2352.6776
D35: 5.1.1.7 Florestas de outras folhosas (inclui medronheiro) | E35: =IF('FE-FxServ-Estabelecimento'!G35=0,0,'FE-Faixa de Servidão'!$C$8*'FE-FxServ-Estabelecimento'!G35) -> 0 | F35: =IF('FE-FxServ-Estabelecimento'!H35=0,0,'FE-Faixa de Servidão'!$C$8*'FE-FxServ-Estabelecimento'!H35) -> 108.6705 | G35: =IF('FE-FxServ-Estabelecimento'!I35=0,0,'FE-Faixa de Servidão'!$C$9*'FE-FxServ-Estabelecimento'!I35) -> 0 | H35: =IF('FE-FxServ-Estabelecimento'!J35=0,0,'FE-Faixa de Servidão'!$C$10*'FE-FxServ-Estabelecimento'!J35) -> 133.40147 | I35: =IF('FE-FxServ-Estabelecimento'!K35=0,0,'FE-Faixa de Servidão'!$C$11*'FE-FxServ-Estabelecimento'!K35) -> 0 | J35: =IF('FE-FxServ-Estabelecimento'!L35=0,0,'FE-Faixa de Servidão'!$C$12*'FE-FxServ-Estabelecimento'!L35) -> 0 | K35: =SUM(E35:J35) -> 242.07197 | L35: =IF(K35=0,0,K35+'FE-Faixa de Servidão'!$E$8) -> 322.48412 | M35: ='Inserção de dados_Linhas'!Q$13 -> 29.237942 | N35: =L35*M35 -> 9428.7722
C36: 5.1.2 Florestas de resinosas | D36: 5.1.2.1 Florestas de pinheiro bravo | E36: =IF('FE-FxServ-Estabelecimento'!G36=0,0,'FE-Faixa de Servidão'!$C$8*'FE-FxServ-Estabelecimento'!G36) -> 108.6705 | F36: =IF('FE-FxServ-Estabelecimento'!H36=0,0,'FE-Faixa de Servidão'!$C$8*'FE-FxServ-Estabelecimento'!H36) -> 0 | G36: =IF('FE-FxServ-Estabelecimento'!I36=0,0,'FE-Faixa de Servidão'!$C$9*'FE-FxServ-Estabelecimento'!I36) -> 0 | H36: =IF('FE-FxServ-Estabelecimento'!J36=0,0,'FE-Faixa de Servidão'!$C$10*'FE-FxServ-Estabelecimento'!J36) -> 133.40147 | I36: =IF('FE-FxServ-Estabelecimento'!K36=0,0,'FE-Faixa de Servidão'!$C$11*'FE-FxServ-Estabelecimento'!K36) -> 0 | J36: =IF('FE-FxServ-Estabelecimento'!L36=0,0,'FE-Faixa de Servidão'!$C$12*'FE-FxServ-Estabelecimento'!L36) -> 455.69668 | K36: =SUM(E36:J36) -> 697.76865 | L36: =IF(K36=0,0,K36+'FE-Faixa de Servidão'!$E$8) -> 778.1808 | M36: ='Inserção de dados_Linhas'!R$13 -> 152.83186 | N36: =L36*M36 -> 118930.82
D37: 5.1.2.2 Florestas de pinheiro manso (produção lenho) | E37: =IF('FE-FxServ-Estabelecimento'!G37=0,0,'FE-Faixa de Servidão'!$C$8*'FE-FxServ-Estabelecimento'!G37) -> 0 | F37: =IF('FE-FxServ-Estabelecimento'!H37=0,0,'FE-Faixa de Servidão'!$C$8*'FE-FxServ-Estabelecimento'!H37) -> 108.6705 | G37: =IF('FE-FxServ-Estabelecimento'!I37=0,0,'FE-Faixa de Servidão'!$C$9*'FE-FxServ-Estabelecimento'!I37) -> 0 | H37: =IF('FE-FxServ-Estabelecimento'!J37=0,0,'FE-Faixa de Servidão'!$C$10*'FE-FxServ-Estabelecimento'!J37) -> 133.40147 | I37: =IF('FE-FxServ-Estabelecimento'!K37=0,0,'FE-Faixa de Servidão'!$C$11*'FE-FxServ-Estabelecimento'!K37) -> 0 | J37: =IF('FE-FxServ-Estabelecimento'!L37=0,0,'FE-Faixa de Servidão'!$C$12*'FE-FxServ-Estabelecimento'!L37) -> 0 | K37: =SUM(E37:J37) -> 242.07197 | L37: =IF(K37=0,0,K37+'FE-Faixa de Servidão'!$E$8) -> 322.48412 | M37: ='Inserção de dados_Linhas'!S$13 -> 0 | N37: =L37*M37 -> 0
D38: 5.1.2.3 Florestas de outras resinosas | E38: =IF('FE-FxServ-Estabelecimento'!G38=0,0,'FE-Faixa de Servidão'!$C$8*'FE-FxServ-Estabelecimento'!G38) -> 0 | F38: =IF('FE-FxServ-Estabelecimento'!H38=0,0,'FE-Faixa de Servidão'!$C$8*'FE-FxServ-Estabelecimento'!H38) -> 108.6705 | G38: =IF('FE-FxServ-Estabelecimento'!I38=0,0,'FE-Faixa de Servidão'!$C$9*'FE-FxServ-Estabelecimento'!I38) -> 0 | H38: =IF('FE-FxServ-Estabelecimento'!J38=0,0,'FE-Faixa de Servidão'!$C$10*'FE-FxServ-Estabelecimento'!J38) -> 133.40147 | I38: =IF('FE-FxServ-Estabelecimento'!K38=0,0,'FE-Faixa de Servidão'!$C$11*'FE-FxServ-Estabelecimento'!K38) -> 0 | J38: =IF('FE-FxServ-Estabelecimento'!L38=0,0,'FE-Faixa de Servidão'!$C$12*'FE-FxServ-Estabelecimento'!L38) -> 455.69668 | K38: =SUM(E38:J38) -> 697.76865 | L38: =IF(K38=0,0,K38+'FE-Faixa de Servidão'!$E$8) -> 778.1808 | M38: ='Inserção de dados_Linhas'!T$13 -> 0 | N38: =L38*M38 -> 0
A39: 6. Matos | E39: =IF('FE-FxServ-Estabelecimento'!G39=0,0,'FE-Faixa de Servidão'!$C$8*'FE-FxServ-Estabelecimento'!G39) -> 0 | F39: =IF('FE-FxServ-Estabelecimento'!H39=0,0,'FE-Faixa de Servidão'!$C$8*'FE-FxServ-Estabelecimento'!H39) -> 0 | G39: =IF('FE-FxServ-Estabelecimento'!I39=0,0,'FE-Faixa de Servidão'!$C$9*'FE-FxServ-Estabelecimento'!I39) -> 0 | H39: =IF('FE-FxServ-Estabelecimento'!J39=0,0,'FE-Faixa de Servidão'!$C$10*'FE-FxServ-Estabelecimento'!J39) -> 133.40147 | I39: =IF('FE-FxServ-Estabelecimento'!K39=0,0,'FE-Faixa de Servidão'!$C$11*'FE-FxServ-Estabelecimento'!K39) -> 0 | J39: =IF('FE-FxServ-Estabelecimento'!L39=0,0,'FE-Faixa de Servidão'!$C$12*'FE-FxServ-Estabelecimento'!L39) -> 0 | K39: =SUM(E39:J39) -> 133.40147 | L39: =IF(K39=0,0,K39+'FE-Faixa de Servidão'!$E$8) -> 213.81362 | M39: ='Inserção de dados_Linhas'!$U$13 -> 83.742401 | N39: =L39*M39 -> 17905.266 | O39: =N39 -> 17905.266
A40: 7. Espaços descobertos ou com pouca vegetação | B40: 7.1 Espaços descobertos ou com pouca vegetação | C40: 7.1.1 Praias, dunas e areais | E40: =IF('FE-FxServ-Estabelecimento'!G40=0,0,'FE-Faixa de Servidão'!$C$8*'FE-FxServ-Estabelecimento'!G40) -> 0 | F40: =IF('FE-FxServ-Estabelecimento'!H40=0,0,'FE-Faixa de Servidão'!$C$8*'FE-FxServ-Estabelecimento'!H40) -> 0 | G40: =IF('FE-FxServ-Estabelecimento'!I40=0,0,'FE-Faixa de Servidão'!$C$9*'FE-FxServ-Estabelecimento'!I40) -> 0 | H40: =IF('FE-FxServ-Estabelecimento'!J40=0,0,'FE-Faixa de Servidão'!$C$10*'FE-FxServ-Estabelecimento'!J40) -> 66.700734 | I40: =IF('FE-FxServ-Estabelecimento'!K40=0,0,'FE-Faixa de Servidão'!$C$11*'FE-FxServ-Estabelecimento'!K40) -> 0 | J40: =IF('FE-FxServ-Estabelecimento'!L40=0,0,'FE-Faixa de Servidão'!$C$12*'FE-FxServ-Estabelecimento'!L40) -> 0 | K40: =SUM(E40:J40) -> 66.700734 | L40: =IF(K40=0,0,K40+'FE-Faixa de Servidão'!$E$8) -> 147.11289 | M40: ='Inserção de dados_Linhas'!$V$13 -> 0 | N40: =L40*M40 -> 0 | O40: =SUM(N40:N42) -> 0
C41: 7.1.2 Rocha nua | E41: =IF('FE-FxServ-Estabelecimento'!G41=0,0,'FE-Faixa de Servidão'!$C$8*'FE-FxServ-Estabelecimento'!G41) -> 0 | F41: =IF('FE-FxServ-Estabelecimento'!H41=0,0,'FE-Faixa de Servidão'!$C$8*'FE-FxServ-Estabelecimento'!H41) -> 0 | G41: =IF('FE-FxServ-Estabelecimento'!I41=0,0,'FE-Faixa de Servidão'!$C$9*'FE-FxServ-Estabelecimento'!I41) -> 0 | H41: =IF('FE-FxServ-Estabelecimento'!J41=0,0,'FE-Faixa de Servidão'!$C$10*'FE-FxServ-Estabelecimento'!J41) -> 66.700734 | I41: =IF('FE-FxServ-Estabelecimento'!K41=0,0,'FE-Faixa de Servidão'!$C$11*'FE-FxServ-Estabelecimento'!K41) -> 0 | J41: =IF('FE-FxServ-Estabelecimento'!L41=0,0,'FE-Faixa de Servidão'!$C$12*'FE-FxServ-Estabelecimento'!L41) -> 0 | K41: =SUM(E41:J41) -> 66.700734 | L41: =IF(K41=0,0,K41+'FE-Faixa de Servidão'!$E$8) -> 147.11289 | M41: ='Inserção de dados_Linhas'!$W$13 -> 0 | N41: =L41*M41 -> 0
C42: 7.1.3 Vegetação esparsa | E42: =IF('FE-FxServ-Estabelecimento'!G42=0,0,'FE-Faixa de Servidão'!$C$8*'FE-FxServ-Estabelecimento'!G42) -> 0 | F42: =IF('FE-FxServ-Estabelecimento'!H42=0,0,'FE-Faixa de Servidão'!$C$8*'FE-FxServ-Estabelecimento'!H42) -> 0 | G42: =IF('FE-FxServ-Estabelecimento'!I42=0,0,'FE-Faixa de Servidão'!$C$9*'FE-FxServ-Estabelecimento'!I42) -> 0 | H42: =IF('FE-FxServ-Estabelecimento'!J42=0,0,'FE-Faixa de Servidão'!$C$10*'FE-FxServ-Estabelecimento'!J42) -> 66.700734 | I42: =IF('FE-FxServ-Estabelecimento'!K42=0,0,'FE-Faixa de Servidão'!$C$11*'FE-FxServ-Estabelecimento'!K42) -> 0 | J42: =IF('FE-FxServ-Estabelecimento'!L42=0,0,'FE-Faixa de Servidão'!$C$12*'FE-FxServ-Estabelecimento'!L42) -> 0 | K42: =SUM(E42:J42) -> 66.700734 | L42: =IF(K42=0,0,K42+'FE-Faixa de Servidão'!$E$8) -> 147.11289 | M42: ='Inserção de dados_Linhas'!$X$13 -> 0 | N42: =L42*M42 -> 0
A43: 8. Zonas húmidas | E43: =IF('FE-FxServ-Estabelecimento'!G43=0,0,'FE-Faixa de Servidão'!$C$8*'FE-FxServ-Estabelecimento'!G43) -> 0 | F43: =IF('FE-FxServ-Estabelecimento'!H43=0,0,'FE-Faixa de Servidão'!$C$8*'FE-FxServ-Estabelecimento'!H43) -> 0 | G43: =IF('FE-FxServ-Estabelecimento'!I43=0,0,'FE-Faixa de Servidão'!$C$9*'FE-FxServ-Estabelecimento'!I43) -> 0 | H43: =IF('FE-FxServ-Estabelecimento'!J43=0,0,'FE-Faixa de Servidão'!$C$10*'FE-FxServ-Estabelecimento'!J43) -> 0 | I43: =IF('FE-FxServ-Estabelecimento'!K43=0,0,'FE-Faixa de Servidão'!$C$11*'FE-FxServ-Estabelecimento'!K43) -> 0 | J43: =IF('FE-FxServ-Estabelecimento'!L43=0,0,'FE-Faixa de Servidão'!$C$12*'FE-FxServ-Estabelecimento'!L43) -> 0 | K43: =SUM(E43:J43) -> 0 | L43: =IF(K43=0,0,K43+'FE-Faixa de Servidão'!$E$8) -> 0 | N43: =L43*M43 -> 0 | O43: =N43 -> 0
A44: 9. Massas água superficiais | E44: =IF('FE-FxServ-Estabelecimento'!G44=0,0,'FE-Faixa de Servidão'!$C$8*'FE-FxServ-Estabelecimento'!G44) -> 0 | F44: =IF('FE-FxServ-Estabelecimento'!H44=0,0,'FE-Faixa de Servidão'!$C$8*'FE-FxServ-Estabelecimento'!H44) -> 0 | G44: =IF('FE-FxServ-Estabelecimento'!I44=0,0,'FE-Faixa de Servidão'!$C$9*'FE-FxServ-Estabelecimento'!I44) -> 0 | H44: =IF('FE-FxServ-Estabelecimento'!J44=0,0,'FE-Faixa de Servidão'!$C$10*'FE-FxServ-Estabelecimento'!J44) -> 0 | I44: =IF('FE-FxServ-Estabelecimento'!K44=0,0,'FE-Faixa de Servidão'!$C$11*'FE-FxServ-Estabelecimento'!K44) -> 0 | J44: =IF('FE-FxServ-Estabelecimento'!L44=0,0,'FE-Faixa de Servidão'!$C$12*'FE-FxServ-Estabelecimento'!L44) -> 0 | K44: =SUM(E44:J44) -> 0 | L44: =IF(K44=0,0,K44+'FE-Faixa de Servidão'!$E$8) -> 0 | N44: =L44*M44 -> 0 | O44: =N44 -> 0

Sheet FE-DAP
A1: Contabilização de emissões GEE
A3: Metalogalva - Por tonelada de produto
A5: Link para o documento
A27: ACSR: Midal Cables Turkey - Por metro de cabo
A29: Link para o documento
A52: OPGW: Prysmian Cabos e Sistemas do Brasil S.A. - Por km de cabo
A54: Link para o documento
A76: ACSR Conductors: IPROEB S.A. - Por km de cabo
A78: Link para o documento
A101: Isoladores: Zhengzhou Xianghe Group Electric Equipment Manufacturing Co. LTD - Por cadeia de isoladores
A103: Link para o documento

Sheet 6. DAPs
A1: Contabilização de emissões GEE - Sustentabilidade Operacional
C6: Categoria | D6: Lifetime Estimado | E6: Fase de fabrico (kg CO2) | F6: Fase de distribuição (kg CO2) | G6: Fase de instalação (kg CO2) | H6: Fase de uso (kg CO2) | I6: Fim de vida (kg CO2) | J6: Pegada carbónica total (t CO2) | K6: Link | L6: Pressupostos
C7: Autotransformador (óleo mineral) | D7: 35 Anos | E7: 1180000 | F7: 82900 | G7: 14200 | H7: 37900000 | I7: -202000 | J7: =SUM(E7:I7)/1000 -> 38975.1 | K7: Transformador SIEMENS | L7: DAP da siemens não disponível online | Y7: Autotransformer | Z7: =J7 -> 38975.1 | AB7: =SUM(Z8:Z23)/Z7 -> 0.0099529415
C8: Seccionador | D8: 20 anos | E8: 30800 | F8: 1650 | G8: 20.5 | H8: 695 | I8: 565 | J8: =SUM(E8:I8)/1000 -> 33.7305 | K8: Disconnector 420 kW | L8: Assumiu-se a mesma DAP para todo o tipo de seccionadores | Y8: Disconnector | Z8: =J8 -> 33.7305
C9: Seccionador terra | D9: 20 anos | E9: 10600 | F9: 176 | G9: 41.6 | H9: 19.5 | I9: -624 | J9: =SUM(E9:I9)/1000 -> 10.2131 | K9: Disconnect Switch-Disconnecter and | Y9: Seccionador terra | Z9: =J9 -> 10.2131
C10: Transformador de potência | D10: 35 Anos | E10: 5.98E+05 | F10: 7.80E+03 | G10: 1.59E+03 | H10: Uso: 3.30E+07 | I10: Fim de Vida: 1.77E+04 | J10: =SUM(E10:I10)/1000 -> 0 | K10: Transformador de potência | Y10: Transformador de potência | Z10: =J10 -> 0
C11: Transformador de auxiliar | D11: 35 anos | E11: 2560.52 | F11: 145.6 | G11: 12.95 | H11: 26700 | I11: 435.85 | J11: =SUM(E11:I11)/1000 -> 29.85492 | K11: Distribution Transformer – 75kVA | Y11: Auxiliar Distribution Transformer | Z11: =J11 -> 29.85492
C12: Transformador de corrente | D12: 35 Anos | E12: 6898 | F12: 95.3 | G12: 41.6 | H12: 2510 | I12: 1360 | J12: =SUM(E12:I12)/1000 -> 10.9049 | K12: Jiangsu Sieyuan Hertz Instrument Transformer | Y12: Current Transformer | Z12: =J12 -> 10.9049
C13: Transformador de tensão capacitivo | D13: 35 Anos | E13: 1302 | F13: 44.7 | G13: 41.5 | H13: 1830 | I13: 515.2 | J13: =SUM(E13:I13)/1000 -> 3.7334 | K13: Capacitor voltage transformer | Y13: Capacitive Transformer | Z13: =J13 -> 3.7334
C14: Transformador de tensão indutivo | D14: 35 Anos | E14: 6430 | F14: 112 | G14: 41.5 | H14: 13700 | I14: 1080 | J14: =SUM(E14:I14)/1000 -> 21.3635 | K14: Instrument Transformer-Inductive | Y14: Inductive Transformer | Z14: =J14 -> 21.3635
C15: Disjuntor live tank | D15: 20 Anos | E15: 38800 | F15: 2080 | G15: 7330 | H15: 90000 | I15: 60000 | J15: =SUM(E15:I15)/1000 -> 198.21 | K15: Circuit Breaker 550 kV | Y15: Live Tank Circuit Breaker | Z15: =J15 -> 198.21
C16: Descarregador de Sobretensão | D16: 25 Anos | E16: 681 | G16: 0 | H16: 1.481 | I16: -282 | J16: =SUM(E16:I16)/1000 -> 0.400481 | K16: Descarregador de sobretensão | L16: DAP da siemens fornecida, não disponível online. | Y16: Surge Arrester | Z16: =J16 -> 0.400481
C17: Isolador | D17: 20 Anos | E17: 16.4 | F17: 1.31 | G17: 0.066 | H17: 0 | I17: 0.03457 | J17: =SUM(E17:I17)/1000 -> 0.01781057 | K17: Insulators | Y17: Insulator | Z17: =J17 -> 0.01781057
C18: Sistemas de comando e proteção - Telecontrolo | D18: 10 Anos | E18: 223 | F18: 10.2 | G18: 160 | H18: 329 | I18: 53.5 | J18: =SUM(E18:I18)/1000 -> 0.7757 | K18: COL Group telecontrol | Y18: Command and Protection Systems - Telecontrol | Z18: =J18 -> 0.7757
C19: Bateria | D19: 10 Anos | E19: 88.2 | F19: 2.08 | G19: 1.48 | H19: 3850 | I19: 2.53 | J19: =SUM(E19:I19)/1000 -> 3.94429 | K19: bateria lead-acid | Y19: Battery | Z19: =J19 -> 3.94429
C20: Armários | D20: 20 anos | E20: 1640 | F20: 16.7 | G20: 37.5 | H20: 2830 | I20: 37 | J20: =SUM(E20:I20)/1000 -> 4.5612 | K20: Medium-voltage gas-insulated Ring Main Unit Safe Air-V | Y20: Cabinets | Z20: =J20 -> 4.5612
C21: Betão | J21: =857.58/1000 -> 0.85758 | K21: Secil Relatório anual 2023 | Y21: Concrete | Z21: =J21 -> 0.85758
C22: Estruturas metálicas | D22: 63 anos | E22: 3400 | F22: 200 | G22: 0 | H22: 0 | I22: 31.87 | J22: =SUM(E22:I22)/1000 -> 3.63187 | K22: DAP Metalogalva | Y22: Metal Structures | Z22: =J22 -> 3.63187
C23: Cabo XV5G*2,5mm^2 | D23: 30 anos | E23: 0.89 | F23: 0.0447 | G23: 0.0231 | H23: 0.315 | I23: 0.19 | J23: =SUM(E23:I23)/1000 -> 0.0014628 | K23: Aceflex Pure E Path 5G2,5mm² EPD | Y23: Cables | Z23: =SUM(J23:J41) -> 65.717637
C24: Cabo XV 3G*2,5mm^2 | D24: 30 anos | E24: 0.59 | F24: 0.0322 | G24: 0.0165 | H24: 0.158 | I24: 0.16 | J24: =SUM(E24:I24)/1000 -> 0.0009567 | K24: Aceflex Pure E Path 3G2,5mm²
C25: Cabo XV 3G*1,5mm^2 | D25: 30 anos | E25: 0.3486 | F25: 0.0331 | G25: 0.00972 | H25: 0.242 | I25: 0.09146 | J25: =SUM(E25:I25)/1000 -> 0.00028482 | K25: EXQ Pure 3G1,5
C26: Cabos terra 150 | D26: 40 anos | E26: 3930 | F26: 50.2 | G26: 232 | H26: 342.2 | I26: 532 | J26: =SUM(E26:I26)/1000 -> 5.0864 | K26: Cabo terra
C27: Cabo VHV 2 x 2,5 mm^2 | D27: 40 anos | E27: 1135 | F27: 39.2 | G27: 21.8 | H27: 961 | I27: 141 | J27: =SUM(E27:I27)/1000 -> 2.298 | K27: Low voltage, multi-core cables of the
C28: Cabo VHV 2 x 4 mm^2 | D28: 40 anos | E28: 1535 | F28: 63.7 | G28: 27.7 | H28: 596 | I28: 190 | J28: =SUM(E28:I28)/1000 -> 2.4124 | K28: Low voltage, multi-core cables of the
C29: Cabo VHV 2 x 6 mm^2 | D29: 40 anos | E29: 1535 | F29: 63.7 | G29: 27.7 | H29: 596 | I29: 190 | J29: =SUM(E29:I29)/1000 -> 2.4124 | K29: Low voltage, multi-core cables of the
C30: Cabo VHV 2 x 10 mm^2 | D30: 40 anos | E30: 2767 | F30: 22 | G30: 44.6 | H30: 230 | I30: 298 | J30: =SUM(E30:I30)/1000 -> 3.3616 | K30: Low voltage, multi-core cables of the
C31: Cabo VHV 4 x 2,5 mm^2 | D31: 40 anos | E31: 1582 | F31: 59.1 | G31: 26.9 | H31: 961 | I31: 172 | J31: =SUM(E31:I31)/1000 -> 2.801 | K31: Low voltage, multi-core cables of the
C32: Cabo VHV 4 x 4mm^2 | D32: 40 anos | E32: 2240 | F32: 107 | G32: 37.8 | H32: 596 | I32: 247 | J32: =SUM(E32:I32)/1000 -> 3.2278 | K32: Low voltage, multi-core cables of the
C33: Cabo VHV 4 x 6 mm^2 | D33: 40 anos | E33: 2886 | F33: 130 | G33: 45.3 | H33: 398 | I33: 293 | J33: =SUM(E33:I33)/1000 -> 3.7523 | K33: Low voltage, multi-core cables of the
C34: Cabo VHV 4 x 10 mm^2 | D34: 40 anos | E34: 4276 | F34: 80.6 | G34: 64.8 | H34: 230 | I34: 380 | J34: =SUM(E34:I34)/1000 -> 5.0314 | K34: Low voltage, multi-core cables of the
C35: Cabo VHV 4 X 16 mm^2 | D35: 40 anos | E35: 5819 | F35: 201 | G35: 83.6 | H35: 146 | I35: 456 | J35: =SUM(E35:I35)/1000 -> 6.7056 | K35: Low voltage, multi-core cables of the
C36: Cabo VHV 7 X 2,5 mm^2 | D36: 40 anos | E36: 2362 | F36: 34.1 | G36: 37.9 | H36: 961 | I36: 239 | J36: =SUM(E36:I36)/1000 -> 3.634 | K36: Low voltage, multi-core cables of the
C37: Cabo VHV 14 X 2,5 mm^2 | D37: 40 anos | E37: 3501 | F37: 139 | G37: 53.5 | H37: 961 | I37: 330 | J37: =SUM(E37:I37)/1000 -> 4.9845 | K37: Low voltage, multi-core cables of the
... C41: Cabo VHV 3 x 50 + 25 mm^2 | D41: 40 anos | E41: 12.1 | F41: 0.396 | G41: 0 | H41: 0.037 | I41: -1.2 | J41: =SUM(E41:I41)/1000 -> 0.011333 | K41: AXALJ-TT E Path 3x50/25 ALCL 12kV
C42: Total por fase | E42: =SUM(E7:E41) -> 1334777.7 | F42: =SUM(F7:F41) -> 88641.496 | G42: =SUM(G7:G41) -> 22841.845 | H42: =SUM(H7:H41) -> 38050449 | I42: =SUM(I7:I41) -> -134550.87 | J42: =SUM(J7:J41) -> 39363.017

Sheet FE-Manutenção
A1: Contabilização de emissões GEE
B6: Dados gerais | G6: Visita de jeep (ir e vir)
B7: km | C7: Nº apoios | D7: Zona | E7: Remodelação de 25 em 25 anos | F7: Tempo de vida limite (anos) | G7: Deslocação (km) | H7: Deslocação (horas) | I7: Veiculos jeep
A8: Linha Aérea tipo (exemplo LAG.PR1) | B8: 30 | C8: 75 | D8: Centro | E8: 25 | F8: 50 | G8: 400 | H8: 4 | I8: Mitsubishi L200
A10: nº apoios | B10: 19500
A11: Km faixa | B11: 7300
A12: Km circuito | B12: 9500
I13: kg CO2
A14: Tipologias | B14: Ciclos (anos) | C14: Nº apoios por semana por equipa | D14: Km circ./faixa por ano | E14: Nº apoios por ano | F14: Kms Ferry entre locais por ano | G14: Kms total por tipologia/ano | H14: Meio | I14: Emissões totais por tipologia/ano com valores da APA | J14: Emissões por tipologia/apoio/ano com valores da APA e emissões indiretas
A15: Inspecções Visuais Terrestres | B15: 1 | C15: =10*5 -> 50 | D15: =+B11 -> 7300 | E15: =+B10 -> 19500 | F15: =+(E15/C15)*G8 -> 156000 | G15: =+F15+D15 -> 163300 | H15: Mitsubishi L200 | I15: =G15*$C$30+G15*$D$30*28+G15*$E$30*265 -> 31344.063 | J15: =(I15/E15)*$B$56 -> 1.9912496
A16: Medições da Resistência de Terra | B16: 5 | C16: =6*5 -> 30 | D16: =+B11/5 -> 1460 | E16: =+B10/5 -> 3900 | F16: =+(E16/C16)*G8 -> 52000 | G16: =+F16+D16 -> 53460 | H16: Mitsubishi L200 | I16: =G16*$C$30+G16*$D$30*28+G16*$E$30*265 -> 10261.198 | J16: =(I16/E16)*$B$56 -> 3.2594062
A17: Inspecções Tripla Aérea (Lidar+Termografia+Visual) | B17: 1 | D17: =+B17*B11 -> 7300 | E17: =+B10 -> 19500 | F17: =30*50 -> 1500 | G17: =+F17+D17 -> 8800 | H17: Eurocopter AS350 B2 Écureuil | I17: =((G17/$E$34*$E$35*1/$E$36)*$C$32)+((G17/$E$34*$E$35*1/$E$36)*$E$37*D$32*28+((G17/$E$34*$E$35*1/$E$36)*$E$37*E$32*265)) -> 16447.557 | J17: =(I17/E17)*$B$61 -> 1.0343111
A18: Inspecções Ninhos de Cegonha | B18: 1 | D18: 1500 | E18: 4000 | F18: =10*50 -> 500 | G18: =+F18+D18 -> 2000 | H18: Eurocopter AS350 B2 Écureuil | I18: =((G18/$E$34*$E$35*1/$E$36)*$C$32)+((G18/$E$34*$E$35*1/$E$36)*$E$37*D$32*28+((G18/$E$34*$E$35*1/$E$36)*$E$37*E$32*265)) -> 3738.0811 | J18: =(I18/E18)*$B$61 -> 1.1459697
A19: Inspecções Técnicos REN | B19: 1 | C19: =6*5 -> 30 | D19: =+B11/5 -> 1460 | E19: =+B10/5 -> 3900 | F19: =+(E19/C19)*G8 -> 52000 | G19: =+F19+D19 -> 53460 | H19: Mitsubishi L200 | I19: =G19*$C$30+G19*$D$30*28+G19*$E$30*265 -> 10261.198 | J19: =(I19/E19)*$B$56 -> 3.2594062
A21: Mudança de ninhos e montagem de dissuasores | B21: 1 | C21: 50 | D21: =+E21*0.5 -> 50 | E21: 100 | F21: =+(E21/C21)*G8 -> 800 | G21: =+F21+D21 -> 850 | H21: 2xMitsubishi L200 | I21: =(2*G21*$C$30+G21*$D$30*28+G21*$E$30*265) -> 324.65036 | J21: =(I21/E21)*$B$56 -> 4.0218041
A22: Lavagens isoladores | B22: 1 | C22: 30 | D22: =+E22*0.5 -> 115 | E22: 230 | F22: =+(E22/C22)*G8 -> 3066.6667 | G22: =+F22+D22 -> 3181.6667 | H22: Mitsubishi L200+Camião | I22: =(G22*$C$30+G22*$D$30*28+G22*$E$30*265)+($G$22*F$30+$G$22*G$30*28+$G$22*H$30*265) -> 2415.1987 | J22: =(I22/E22)*$B$56 -> 13.008585
C27: Ligeiros | F27: Pesados
B28: Combustível | C28: FE CO2 | D28: FE CH4 | E28: FE N2O | F28: FE CO2 | G28: FE CH4 | H28: FE N2O
C29: (kg/km) | D29: (kg/km) | E29: (kg/km) | F29: (kg/km) | G29: (kg/km) | H29: (kg/km)
B30: Gasóleo | C30: 0.19 | D30: =1.2*10^-6 -> 1.2e-06 | E30: =7.2*10^-6 -> 7.2e-06 | F30: 0.56 | G30: =1.9*10^-5 -> 1.9e-05 | H30: =25/(10^6) -> 2.5e-05
C31: kg/L | D31: kg/TJ | E31: kg/TJ
B32: Aviation fuel | C32: 2.3 | D32: =4.4*10^-4 -> 0.00044 | E32: =2.7*10^-5 -> 2.7e-05 | G32: (Ferramenta da APA)
B34: Velocidade média recomendada | E34: 242 | F34: km/h | G34: (Informação técnica: https://www.remotehelicopters.com.au/wp-content/uploads/2014/03/AS350B2.pdf)
B35: Consumo de combustível à veloc. Méd. | E35: 147 | F35: kg/h | G35: (Informação técnica: https://www.remotehelicopters.com.au/wp-content/uploads/2014/03/AS350B2.pdf)
B36: Massa vol. combustível | E36: =AVERAGE(715,780)/1000 -> 0.7475 | F36: kg/L | G36: (Ferramenta da APA)
B37: PCI Jet Fuel | E37: =33*10^-6 -> 3.3e-05 | F37: TJ/L | G37: (Ferramenta da APA)
A46: Emissões indiretas - produção de combustível
A48: Mitsubishi L200
A49: Kms total por tipologia/ano | B49: =G15 -> 163300
A50: L/km | B50: =AVERAGE(6.7,6.9,7.5)/100 -> 0.070333333 | C50: https://www.mitsubishi-motors.pt/content/dam/mitsubishi-motors-pt/images/brochures/L200_Brochure.pdf
A51: L por tipologia/ano | B51: =B49*B50 -> 11485.433
A52: g CO2 eq/MJ para o gasóleo | B52: 18.17 | C52: Ref. estudo EU no relatório
A53: kg/L | B53: 0.84 | C53: Ferramenta APA
A54: MJ/kg | B54: 42.7 | C54: Ferramenta APA
A55: Emissões indiretas, kg CO2 eq | B55: =(B52*B54*B53*B51)/(10^3) -> 7485.3045
A56: Aumento | B56: =(B55+I15)/I15 -> 1.2388109
A58: Eurocopter AS350 B2 Écureuil
A59: g CO2 eq/MJ para o kerosene | B59: =15.77 -> 15.77
A60: Emissões indiretas, kg CO2 eq | B60: =B59*((SUM(G17:G18)/E34)*E35*(1/E36)*E37*10^6)/1000 -> 4567.3065
A61: Aumento | B61: =(B60+SUM(I17:I18))/SUM(I17:I18) -> 1.2262652
A63: Camião
A64: Other 2-axle, 4-Tire Vehicles, km/L | B64: 7.5680272 | C64: GHG protocol cross-sector tool
A65: Combination Trucks, km/L | B65: 2.7210884 | C65: GHG protocol cross-sector tool
A66: Consumo mín gasóleo, L | B66: =(1/B64)*$G$22 -> 420.40899
A67: Consumo máx gasóleo, L | B67: =(1/B65)*$G$22 -> 1169.2625
A68: Emissões indiretas, mín, kg CO2 eq | B68: =$B$52*$B$54*$B$53*B66/1000 -> 273.9896
A69: Emissões indiretas, máx, kg CO2 eq | B69: =$B$52*$B$54*$B$53*B67/1000 -> 762.03358
A75: Emissões | B75: GEE | C75: FE (kg/l)
A76: Gasolina | B76: CO2 | C76: 2.3
B77: CH4 | C77: 0.00033
B78: N2O | C78: 5.8e-05
A79: Gasóleo | B79: CO2 | C79: 2.6
B80: CH4 | C80: 0.00038
B81: N2O | C81: 6.8e-05
A84: GEE | B84: GWP (kgCO2eq/kg)
A85: CO2 | B85: 1
A86: CH4 | B86: 28
A87: N2O | B87: 265
