Workbook

Sheet Folha 1 Metodologia
A1: Determinação da capacidade de gestão de resíduos (revisão 1, outubro 2025)
A3: Para a determinação da capacidade de gestão de resíduos foi seguida a seguinte metodologia:
B4: Ação | C4: Registo
A5: 1 | B5: Identificação das operações de gestão de resíduos realizadas na instalação, incluindo a listagem dos resíduos que entram e que saem em cada operação. | C5: Colunas A a G da folha 4 Resumo
A6: 2 | B6: Identificação das áreas de armazenamento dos resíduos rececionados e processados. | C6: Folha 2 Capidades inst. arm Coluna H da folha resumo
A7: 3 | B7: Determinação da capacidade de armazenamento instantânea (em t) de cada parque de resíduos. | C7: Folha 2 Capidades inst. Arm
B8: A capacidade instantânea de armazenamento de resíduos armazenados a granel, em cada parque, foi determinada tendo em consideração os seguintes aspetos: # a densidade dos resíduos armazenados em cada PA foi obtida através dos fatores de conversão desenvolvidos pela Scottish Environment Protection Agency (SEPA), disponíveis em https://www.sepa.org.uk/media/163323/uk-conversion-factors-for-waste.xlsx (folhas 6 e 7); # a altura máxima (m) de armazenamento em cada parque; # a geometria que melhor representa o armazenamento a granel é a apresentada na Figura seguinte: # A capacidade instantânea de armazenamento de cada PA é obtida através da seguinte fórmula: Volume (m3) * Densidade (m3/t); # O volume é calculado pela seguinte fórmula: (Área (m2) * Altura máxima (m))/2; # Quando num PA se armazenam diferentes tipos de LER, considerou-se para o cálculo da capacidade instantânea de armazenamento do PA, o fator de conversão de densidade maior atribuído a determinado LER. Quando o armazenamento não é efetuado a granel, o cálculo da capacidade instantânea de armazenamento é efetuado tendo em consideração o(s) volume(s) do(s) recipiente(s)/contentor(es) que armazena o resíduo.
A9: 4 | B9: Determinação da capacidade máxima de armazenagem instantânea (t) por operação. | C9: Colunas I e J da folha 4 resumo
B10: Corresponde ao somatório da capacidade máxima de armazenagem instantânea de cada PA, tendo em conta todos os PA onde os resíduos tratados na operação podem estar armazenados.
A11: 5 | B11: Determinação da capacidade máxima de processamento (t/h) por operação | C11: Colunas K e L da folha 4 resumo
B12: Os pressupostos de cálculo assumidos tiveram em consideração os equipamentos que contribuem para a capacidade instalada associada à operação e respetivas capacidades, em tonelada por hora.
A13: 6 | B13: Determinação da capacidade instalada (t/ano) por operação | C13: Coluna M da folha 4 resumo
B14: Os pressupostos de cálculo assumidos tiveram em consideração que a capacidade instalada corresponde à capacidade máxima de sujeição dos resíduos a processamento/tratamento na instalação (i.e. input de resíduos, à entrada do processo tratamento, ou seja, resíduos passíveis de tratamento no processo) para um período de laboração de vinte e quatro horas, independentemente do seu regime de funcionamento, turnos, horário de laboração, ou valor do processamento/tratamento efetivo para resposta à procura do mercado. A capacidade é determinada com base nas capacidades máximas de cada equipamento e/ou linhas de tratamento.
A15: 6 | B15: Determinação da capacidade a licenciar (t/ano) por operação | C15: Coluna N da folha 4 resumo
B16: Esta quantidade é determinada com base no regime de laboração da instalação, de 8horas/dia e 250 dias/ano.

Sheet Folha 2 Capacidades Inst. Arm
A1: Identificação das áreas de armazenamento dos resíduos e cálculo das capacidades de armazenamento.
A3: Local | B3: IDENTIFICAÇÃO DO PARQUE | C3: OPERAÇÃO | D3: CAPACIDADE DE PROCESSAMENTO DE RESÍDUOS | E3: Resíduos Armazenados (designação e código LER) | G3: Altura máxima (m) | H3: Área (m2) | I3: Volume (m3) | J3: Densidade resíduos (m3/t) UK Conversor Factors for Waste | K3: Maior densidade do resíduo no parque (m3/t) | L3: Capacidade de armazenamento (t)
A5: Parque exterior | B5: PA1 - FERRO | C5: R 12 A (Tratamento mecânico) | D5: Prensa hidráulica LOURITEX: | E5: resíduos sem outras especificações – resíduos metálicos NOVO | F5: 010399 | G5: 6 | H5: 1125 | I5: =H5*G5/2 -> 3375 | J5: 1.23 | K5: =MAX(J5:J53) -> 1.54 | L5: =I5*K5 -> 5197.5 | N5: PA1 | O5: =L5 -> 5197.5
D6: 31 | E6: resíduos metálicos NOVO | F6: 020110 | J6: 0.3037 | N6: PA2 | O6: =L54 -> 2910.6
D7: 2 giratórias + 3 funcionários afetos à triagem: | E7: resíduos sem outras especificações – resíduos metálicos NOVO | F7: 020299 | J7: 0.1852 | N7: PA3 | O7: =L100 -> 922.5
D8: 15 | E8: resíduos sem outras especificações – resíduos metálicos NOVO | F8: 020399 | J8: 0.1852 | N8: PA4 | O8: =L130 -> 1432.2
E9: resíduos sem outras especificações – resíduos metálicos NOVO | F9: 020599 | J9: 0.28 | N9: PA5 | O9: =L162 -> 109.332
E10: resíduos sem outras especificações – resíduos metálicos NOVO | F10: 020699 | J10: 0.1852 | N10: PA6 | O10: =L164 -> 4833.9
E11: resíduos sem outras especificações – resíduos metálicos NOVO | F11: 020799 | J11: 0.1852 | N11: PA7 | O11: =L194 -> 653.13
E12: resíduos sem outras especificações – resíduos metálicos NOVO | F12: 030199 | J12: 0.1852 | N12: PA8 | O12: =L220 -> 34.0144
E13: resíduos sem outras especificações – resíduos metálicos NOVO | F13: 030399 | J13: 0.41 | N13: PA9 | O13: =L222 -> 151.2
E14: resíduos sem outras especificações – resíduos metálicos NOVO | F14: 040199 | J14: 0.22 | N14: PA10 | O14: =L223 -> 98.4
E15: resíduos sem outras especificações – resíduos metálicos NOVO | F15: 040299 | J15: 0.05 | N15: PA11 | O15: =L248 -> 41.82
E16: resíduos sem outras especificações – resíduos metálicos NOVO | F16: 050199 | J16: 0.1852 | N16: PA12 | O16: =L279 -> 279.42
E17: escórias não processadas NOVO | F17: 100202 | J17: 1.08 | N17: PA13 | O17: =L280 -> 264.219
E18: resíduos sem outras especificações – resíduos metálicos NOVO | F18: 100299 | J18: 0.1852 | N18: PA14 | O18: =L283+L284 -> 45.97
E19: partículas e poeiras | F19: 100804 | J19: 0.738 | N19: PA15 | O19: =L285 -> 9.9
E20: escórias do forno NOVO | F20: 100903 | J20: 1.08 | N20: PA16 | O20: =L289 -> 59.4
E21: moldes e machos de fundição vazados não abrangidos em 10 09 07 | F21: 100908 | J21: 0.47 | N21: PA17 | O21: =L300 -> 17
E22: resíduos sem outras especificações – resíduos metálicos NOVO | F22: 100999 | J22: 0.1852 | N22: PA18 | O22: =L304 -> 57.72
E23: resíduos sem outras especificações – resíduos metálicos NOVO | F23: 101099 | J23: 0.1852 | N23: PA19 | O23: =L306 -> 12.6
E24: resíduos de materiais fibrosos à base de vidro | F24: 101103 | J24: 0.22 | N24: PA20 | O24: =L308 -> 52.8
E25: resíduos sem outras especificações – resíduos metálicos NOVO | F25: 101199 | J25: 0.17 | N25: PA21 | O25: =L312+L313+L314+L315 -> 3.42
E26: moldes fora de uso | F26: 101206 | J26: 1.54 | N26: PA22 | O26: =L316+L317+L318+L321 -> 1.966
E27: resíduos sem outras especificações – resíduos metálicos NOVO | F27: 101299 | J27: 0.1852 | N27: PA23 | O27: =L322+L323 -> 77.467709
E28: resíduos sem outras especificações – resíduos metálicos NOVO | F28: 101399 | J28: 0.1852 | N28: PA24 | O28: =L326 -> 71.07552
E29: resíduos sem outras especificações – resíduos metálicos NOVO | F29: 110199 | J29: 0.1852 | N29: PA25 | O29: =L332 -> 100.221
E30: resíduos sem outras especificações – resíduos metálicos NOVO | F30: 110299 | J30: 0.1852 | N30: PA26 | O30: =L335+L336 -> 46.365
E31: aparas e limalhas de metais ferrosos | F31: 120101 | J31: 0.3037 | N31: PA27 | O31: =L339 -> 579.33
E32: poeiras e partículas de metais ferrosos | F32: 120102 | J32: 0.3037 | N32: PA28 | O32: =L376 -> 11.8443
E33: poeiras e partículas de metais não ferrosos | F33: 120104 | J33: 0.22 | N33: PA29 | O33: =L379+L380 -> 0.098
E34: resíduos de Soldadura | F34: 120113 | J34: 0.9 | N34: PA30 | O34: =L311 -> 199.8
E35: resíduos de materiais de granalhagem não abrangidos em 12 01 16 | F35: 120117 | J35: 0.97
E36: mós e materiais de rectificação usados não abrangidos em 12 01 20 | F36: 120121 | J36: 1.26
E37: resíduos sem outras especificações – resíduos metálicos NOVO | F37: 120199 | J37: 0.1852
E38: embalagens de metal | F38: 150104 | J38: 0.22
E39: mistura de embalagens | F39: 150106 | J39: 0.2
E40: veículos em fim de vida esvaziados de líquidos e outros componentes perigosos | F40: 160106 | J40: 0.45
E41: pastilhas dos travões não abrangidas em 16 01 11 | F41: 160112 | J41: 0.4369
E42: depósito para gás liquefeito | F42: 160116 | J42: 0.2267
...

Sheet Folha 3 ResíduosPerigosos
C4: CÁLCULO DA CAPACIDADE INSTANTÂNEA DE ARMAZENAMENTO DE RESÍDUOS PERIGOSOS
C5: RESÍDUOS | D5: CÓDIGO LER | E5: Designação | F5: PARQUE | G5: CAPACIDADE DE ARMAZENAMENTO INSTANTÂNEA (TON) | H5: ÁREA (m2) | I5: ALTURA (m) | J5: VOLUME (m3) | K5: Nº Recipientes Empilhados | L5: Densidade resíduo [Ton/m3] UK Conversion Factors for Waste | M5: Densidade máxima [Ton/m3] | N5: ACONDICIONAMENTO
C6: RESÍDUOS PERIGOSOS | D6: 150110* | E6: embalagens contendo ou contaminadas por resíduos de substâncias perigosas | F6: PA19 | G6: =M6*J6 -> 12.6 | H6: 25 | I6: 2.4 | J6: =H6*I6 -> 60 | K6: 1 | L6: 0.21 | M6: 0.21 | N6: Contentor metálico
D7: 150111* | E7: embalagens de metal, incluindo recipientes vazios sob pressão, contendo uma matriz porosa sólida perigosa (por exemplo amianto) | L7: 0.17
D8: 150202* | E8: absorventes, materiais filtrantes (incluindo filtros de óleo sem outras especificações), panos de limpeza e vestuário de proteção, contaminados por substâncias perigosas | F8: PA29 | G8: =J8*M8 -> 0.0836 | H8: 1 tambor de 200 L | J8: 0.2 | K8: 1 | L8: 0.418 | M8: 0.418 | N8: Tambor de 200 L
D9: 160107* | E9: filtros de óleo | F9: PA22 | G9: =J9*M9 -> 0.14816 | H9: 4 tambores de 200 L | J9: =4*0.2 -> 0.8 | K9: 1 | L9: 0.1852 | M9: 0.1852 | N9: Tambor de 200 L
D10: 160211* | E10: equipamento fora de uso contendo clorofluorocarbonetos, HCFC, HFC | F10: PA24 | G10: =J10*M10 -> 71.07552 | H10: 64.38 | I10: 2.4 | J10: =H10*I10 -> 154.512 | K10: 1 | L10: 0.3037 | M10: 0.46 | N10: Palete c/ filme
D11: 200123* | E11: equipamento fora de uso contendo clorofluorocarbonetos | K11: 1 | L11: 0.3037
D12: 160213* | E12: equipamento fora de uso, contendo componentes perigosos, não abrangidos em 16 02 09 a 16 02 12 | K12: 1 | L12: 0.26 | N12: Big-bag
D13: 200135* | E13: equipamento elétrico e eletrónico fora de uso, não abrangido em 20 01 21 ou 20 01 23, contendo componentes perigosos | K13: 1 | L13: 0.2131
D14: 200121* | E14: lâmpadas fluorescentes e outros resíduos contendo mercúrio | K14: 1 | L14: 0.1886 | N14: Caixas de Cartão
D15: 160215* | E15: componentes perigosos retirados de equipamento fora de uso | K15: 1 | L15: 0.4597 | N15: Cuba
D16: 160602* | E16: acumuladores de níquel-cádmio | F16: PA23 | G16: =J16*M16 -> 1.35 | H16: 5 Tambores de 200 L | J16: =5*0.2 -> 1 | K16: 1 | L16: 1.35 | M16: =MEDIAN(L16:L19) -> 1.35 | N16: 5 recipientes metálicos isolados com tampa de 200 l + Palete
D17: 160603* | E17: pilhas contendo mercúrio | K17: 1 | L17: 1.35
D18: 200133* | E18: pilhas e acumuladores abrangidos em 16 06 01, 16 06 02 ou 16 06 03 e pilhas e acumuladores, não triados, contendo desses acumuladores ou pilhas | K18: 1 | L18: 1.35
D19: 160601* | E19: acumuladores de chumbo | G19: =J19*M19 -> 76.117709 | H19: 76 caixas (dimensão de cada caixa:0,92mX1,12mX0,6m) | J19: =0.92*1.12*0.6*76 -> 46.98624 | K19: 4 | L19: 1.35 | M19: 1.62 | N19: Caixas plásticas herméticas
D20: 160104* | E20: veículos em fim de vida | F20: PA14 | G20: =J20*M20 -> 22.985 | H20: 50 | I20: 1 | J20: =H20*I20 -> 50 | K20: 1 | L20: 0.4597 | M20: 0.4597 | N20: VFV ao nível do solo
G21: =SUM(G6:G20) -> 184.35999
C22: NOTAS: Os valores das densidades, foram obtidos para cada resíduo com base nos fatores de conversão desenvolvidos pela Scottish Environment Protection Agency (SEPA), disponíveis em https://www.sepa.org.uk/media/163323/uk-conversion-factors-for-waste.xlsx;. No caso do PA24, considerou-se no cálculo da capacidade instantânea a área e altura máxima de armazenamento, bem como a densidade máxima dos resíduos que partilham o mesmo parque de armazenamento, pelo facto de não ser possível fixar o n.º de recipientes existentes no local podendo variar.
C23: * Para os resíduos identificados na LER com o código 160601*, a densidade considerada teve por base o histórico de pesagens da BRAGUINOX de vários recipientes contendo esta tipologia de resíduos. Considerou-se a densidade de 1,62.

Sheet Folha 4 Resumo
A1: Capacidade de gestão de resíduos
A3: Linha de tratamento | B3: Operação | C3: Operações | D3: Entradas | F3: Locais de armazenamento de resíduos rececionados/entradas | G3: Saídas | I3: Pressupostos de cálculo da capacidade de armazenagem instantânea | J3: Capacidade de armazenamento instantânea (t) | K3: Pressupostos de cálculo da capacidade máxima | L3: Capacidade máxima (t/h) | M3: Capacidade instalada (t/ano) 24*365 h/ano | N3: Capacidade a licenciar (t/ano) 8*250 h/ano
D4: Código LER | E4: Designação LER | G4: Código LER | H4: Designação LER
A5: Tratamento de metais ferrosos e não ferrosos | B5: R 12 A (Tratamento mecânico) | C5: Receção Pesagem Armazenamento Triagem Corte Trituração/separação Compactação Armazenamento Encaminhamento | D5: 010399 | E5: resíduos sem outras especificações – resíduos metálicos NOVO | F5: PA1, PA2, PA3, PA4, PA6, PA7, PA10, PA11, PA27 | G5: 191202 | H5: metais ferrosos | I5: PA1 + PA2 + PA3 + PA4 + PA5 + PA6 + PA7 + PA8 + PA9 + PA10 + PA11 + PA13 + PA16 + PA18 + PA22 + PA25 + PA26 + PA27 + PA28 + PA30 Capacidade de cada PA, em t, consta da folha PA-Capacidades Inst.Arm | J5: ='Folha 2 Capacidades Inst. Arm'!O5+'Folha 2 Capacidades Inst. Arm'!O6+'Folha 2 Capacidades Inst. Arm'!O7+'Folha 2 Capacidades Inst. Arm'!O8+'Folha 2 Capacidades Inst. Arm'!O9+'Folha 2 Capacidades Inst. Arm'!O10+'Folha 2 Capacidades Inst. Arm'!O11+'Folha 2 Capacidades Inst. Arm'!O12+'Folha 2 Capacidades Inst. Arm'!O13+'Folha 2 Capacidades Inst. Arm'!O14+'Folha 2 Capacidades Inst. Arm'!O15+'Folha 2 Capacidades Inst. Arm'!O17+'Folha 2 Capacidades Inst. Arm'!O20+'Folha 2 Capacidades Inst. Arm'!O22+'Folha 2 Capacidades Inst. Arm'!O26+'Folha 2 Capacidades Inst. Arm'!O29+'Folha 2 Capacidades Inst. Arm'!O30+'Folha 2 Capacidades Inst. Arm'!O31+'Folha 2 Capacidades Inst. Arm'!O32+'Folha 2 Capacidades Inst. Arm'!O34-'Folha 2 Capacidades Inst. Arm'!L336-'Folha 2 Capacidades Inst. Arm'!L336 -> 17703.842 | K5: Equipamentos afetos à atividade: Triturador de alumínio MTB: 15 t/h Triturador de cabo de cobre: 0,2 t/h Prensa Tesoura - Sierra: 10 t/h Prensa hidráulica guilhotina fixa LOURITEX: 31 t/h Prensa hidráulica enfardadora embutida no piso: 1 t/h 2 giratórias + 3 funcionários afetos à triagem: 15 t/h Os equipamentos identificados podem estar a funcionar em simultâneo. Total de 72,2 t/h | L5: 72.2 | M5: =L5*24*365 -> 632472 | N5: =L5*8*250 -> 144400
D6: 020110 | E6: resíduos metálicos NOVO | F6: PA1, PA2, PA3, PA4, PA6, PA7, PA10, PA11, PA27 | G6: 191203 | H6: metais não ferrosos
D7: 020299 | E7: resíduos sem outras especificações – resíduos metálicos NOVO | F7: PA1, PA2, PA3, PA4, PA6, PA7, PA10, PA11, PA27 | G7: 191212 | H7: outros resíduos (incluindo misturas de materiais) do tratamento mecânico de resíduos, não abrangidos em 19 12 11
D8: 020399 | E8: resíduos sem outras especificações – resíduos metálicos NOVO | F8: PA1, PA2, PA3, PA4, PA6, PA7, PA10, PA11, PA27
D9: 020599 | E9: resíduos sem outras especificações – resíduos metálicos NOVO | F9: PA1, PA2, PA3, PA4, PA6, PA7, PA10, PA11, PA27
D10: 020699 | E10: resíduos sem outras especificações – resíduos metálicos NOVO | F10: PA1, PA2, PA3, PA4, PA6, PA7, PA10, PA11, PA27
D11: 020799 | E11: resíduos sem outras especificações – resíduos metálicos NOVO | F11: PA1, PA2, PA3, PA4, PA6, PA7, PA10, PA11, PA27
D12: 030199 | E12: resíduos sem outras especificações – resíduos metálicos NOVO | F12: PA1, PA2, PA3, PA4, PA6, PA7, PA10, PA11, PA27
D13: 030399 | E13: resíduos sem outras especificações – resíduos metálicos NOVO | F13: PA1, PA2, PA3, PA4, PA6, PA7, PA10, PA11, PA27
D14: 040199 | E14: resíduos sem outras especificações – resíduos metálicos NOVO | F14: PA1, PA2, PA3, PA4, PA6, PA7, PA10, PA11, PA27
D15: 040299 | E15: resíduos sem outras especificações – resíduos metálicos NOVO | F15: PA1, PA2, PA3, PA4, PA6, PA7, PA10, PA11, PA27
D16: 050199 | E16: resíduos sem outras especificações – resíduos metálicos NOVO | F16: PA1, PA2, PA3, PA4, PA6, PA7, PA10, PA11, PA27
D17: 100202 | E17: escórias não processadas NOVO | F17: PA1, PA2, PA7
D18: 100299 | E18: resíduos sem outras especificações – resíduos metálicos NOVO | F18: PA1, PA2, PA3, PA4, PA6, PA7, PA10, PA11, PA27
D19: 100501 | E19: escórias da produção primária e secundária | F19: PA11
D20: 100903 | E20: escórias do forno NOVO | F20: PA1, PA2
D21: 100908 | E21: machos e moldes de fundição vazados, não abrangidos em 10 09 07 | F21: PA1, PA2
D22: 100999 | E22: resíduos sem outras especificações – resíduos metálicos NOVO | F22: PA1, PA2
D23: 101003 | E23: escórias do forno | F23: PA27
D24: 101008 | E24: machos e moldes de fundição vazados, não abrangidos em 10 10 07 | F24: PA3, PA4,PA6 e PA27
D25: 101099 | E25: resíduos sem outras especificações – resíduos metálicos NOVO | F25: PA1, PA2, PA4, PA27
D26: 101199 | E26: resíduos sem outras especificações – resíduos metálicos NOVO | F26: PA1, PA2, PA3, PA4, PA6, PA7, PA10, PA11, PA27
D27: 101206 | E27: moldes fora de uso | F27: PA1, PA2, PA4
D28: 101299 | E28: resíduos sem outras especificações – resíduos metálicos NOVO | F28: PA1, PA2, PA3, PA4, PA6, PA7, PA10, PA11, PA27
... D66: 200140 | E66: metais | F66: PA1, PA2, PA3, PA4, PA6, PA7, PA10, PA11, PA27
A67: Tratamento de outros resíduos não perigosos | B67: R 12 A (Tratamento mecânico) | C67: Receção Pesagem Armazenamento Triagem Corte Armazenamento Encaminhamento | D67: 101103 | E67: resíduos de materiais fibrosos à base de vidro | F67: PA1 | G67: 191212 | H67: outros resíduos (incluindo misturas de materiais) do tratamento mecânico de resíduos, não abrangidos em 19 12 11 | I67: PA1 Capacidade de cada PA, em t, consta da folha PA-Capacidades Inst.Arm | J67: ='Folha 2 Capacidades Inst. Arm'!O5 -> 5197.5 | K67: Equipamentos afetos à atividade: Corte na Prensa hidráulica guilhotina fixa LOURITEX: 31 t/h | L67: 31 | M67: =L67*24*365 -> 271560 | N67: =L67*8*250 -> 62000
A68: Tratamento de metais ferrosos e não ferrosos | B68: R 12 B (Triagem) | C68: Receção Pesagem Armazenamento Triagem Armazenamento Encaminhamento | D68: 100804 | E68: partículas e poeiras | F68: PA1, PA27 | G68: 100804 | H68: partículas e poeiras | I68: PA1 + PA2 + PA27 Capacidade de cada PA, em t, consta da folha PA-Capacidades Inst.Arm | J68: ='Folha 2 Capacidades Inst. Arm'!O5+'Folha 2 Capacidades Inst. Arm'!O6+'Folha 2 Capacidades Inst. Arm'!O31 -> 8687.43 | K68: Equipamentos afetos à atividade: 1 giratória + 2 funcionários afetos à triagem: 7 t/h | L68: =7 -> 7 | M68: =L68*24*365 -> 61320 | N68: =L68*8*250 -> 14000
D69: 120102 | E69: poeiras e partículas de metais ferrosos | F69: PA1, PA2 | G69: 120102 | H69: poeiras e partículas de metais ferrosos
D70: 120104 | E70: poeiras e partículas de metais não ferrosos | F70: PA1, PA2, PA27 | G70: 120104 | H70: poeiras e partículas de metais não ferrosos
D71: 190102 | E71: materiais ferrosos removidos das cinzas | F71: PA1, PA2 | G71: 190102 | H71: materiais ferrosos removidos das cinzas
D72: 190112 | E72: cinzas e escórias, não abrangidas em 19 01 11 | F72: PA1, PA2, PA27 | G72: 190112 | H72: cinzas e escórias, não abrangidas em 19 01 11
G73: 191202 | H73: metais ferrosos
G74: 191203 | H74: metais não ferrosos
G75: 191212 | H75: outros resíduos (incluindo misturas de materiais) do tratamento mecânico de resíduos, não abrangidos em 19 12 11
A76: Tratamento de VFV | B76: R 12 F (Despoluição e desmantelamento de VFV, incluindo a remoção das substâncias perigosas) | C76: Receção Pesagem Classificação Armazenamento Despoluição Desmantelamento Triagem Compactação Armazenamento Encaminhamento | D76: 160104* | E76: veículos em fim de vida | F76: PA14 | G76: 130208* | H76: outros óleos de motores, transmissões e lubrificação | I76: PA14 Capacidade de cada PA, em t, consta da folha PA-Capacidades Inst.Arm | J76: ='Folha 2 Capacidades Inst. Arm'!O18 -> 45.97 | K76: Equipamentos afetos à atividade (VFV* - LER 160104*): Equipamento de descontaminação de VFV + 2 funcionários: 6 veículos/8horas = 7,94 t/8horas 1 t/h*24 h =24 t/dia | L76: =7.94/8 -> 0.9925 | M76: =L76*24*365 -> 8694.3 | N76: =L76*8*250 -> 1985
D77: 160106 | E77: veículos em fim de vida que não contenham líquidos nem outros componentes perigosos | F77: PA14 | G77: 160103 | H77: pneus usados
G78: 160106 | H78: veículos em fim de vida que não contenham líquidos nem outros componentes perigosos
...

Sheet Folha 5 Capacidades AIA e PCIP
A1: Determinação das capacidades associadas às rubricas AIA e PCIP
A3: Rubrica AIA | B3: Capacidade instalada (t/dia) | D3: Considerações para o cálculo da capacidade instalada | F3: Categoria PCIP | G3: Capacidade instalada (t/dia) | I3: Considerações para o cálculo da capacidade instalada
A4: Anexo II do RJAIA | B4: Antes do projeto | C4: Após o projeto | F4: Anexo I do RJPCIP | G4: Antes do projeto | H4: Após o projeto
A5: 11 b) Instalações destinadas a operações de eliminação de resíduos perigosos ii) Armazenamento ≥ 50 t | B5: 31.1 | C5: ='Folha 3 ResíduosPerigosos'!G21 -> 184.35999 | D5: Ficheiro de cálculo da capacidade máxima de armazenamento de resíduos perigosos | F5: 5.1 Eliminação ou valorização de resíduos perigosos, com uma capacidade superior a 10 toneladas por dia (VFV*) | G5: 150t/ano | H5: 24 | I5: Ficheiro de cálculo "Resumo" - Coluna K
F6: 5.1 Eliminação ou valorização de resíduos perigosos, com uma capacidade superior a 10 toneladas por dia, envolvendo uma ou mais das seguintes atividades: d) Reembalagem antes da sujeição a qualquer das outras atividades enumeradas nos pontos 5.1 e 5.2. | G6: 0 | H6: =('Folha 4 Resumo'!L109+'Folha 4 Resumo'!L120+'Folha 4 Resumo'!L150)*24 -> 73.2 | I6: 3 operações de reembalagem (R13 D ou R12 I)
A7: 11 c) Instalações destinadas a operações de eliminação de resíduos não perigosos ii) Tratamento biológico (aeróbio ou anaeróbio), pré-tratamento de resíduos para incineração ou coincineração, tratamento de escórias e cinzas, tratamento de resíduos metálicos em fragmentadores ou trituradores, incluindo os resíduos de equipamentos elétricos e eletrónicos e os veículos em fim de vida útil e seus componentes ≥ 100 t/dia | B7: 48 | C7: =(15+0.2)*24 -> 364.8 | D7: 2 trituradores (MTB + cabo de cobre) | F7: 5.3 Eliminação e valorização de resíduos não perigosos: b) Valorização, ou uma combinação de valorização e eliminação, de resíduos não perigosos com uma capacidade superior a 75 toneladas por dia, envolvendo uma ou mais das seguintes atividades, excluindo as atividades abrangidas pelo Decreto-Lei n.º 152/97, de 19 de junho: iv) Tratamento de resíduos metálicos ou fragmentados, incluindo os resíduos de equipamentos elétricos e eletrónicos e os veículos em fim de vida útil e seus componentes. | G7: 48 | H7: =C7 -> 364.8 | I7: igual à determinada para a rubrica AIA
F8: 5.5 Armazenamento temporário de resíduos perigosos não abrangidos pelo ponto 5.4 enquanto se aguarda a execução de uma das atividades enumeradas nos pontos 5.1, 5.2, 5.4 e 5.6 com uma capacidade total superior a 50 toneladas, com exclusão do armazenamento temporário, antes da recolha, no local onde os resíduos foram produzidos | G8: 31.1 | H8: =C5 -> 184.35999 | I8: igual à determinada para a rubrica AIA

Sheet Folha 6 NOTES
B2: Density conversion factors for waste
B4: These density conversion factors were developed by the Environment Agency for the 1998/99 commercial and industrial waste survey in England and have since been used across the UK by all of the Agencies including SEPA. The factors were derived from a number of different sources including published research, advice from the waste management industry and some original research at the time. There is a factor for each of the EWC codes in the List of Wastes. The factor for mixed construction waste 17 09 04 was changed in January 2014 from 0.42 to 0.32. This was agreed at the UK level following a desktop study carried out on behalf of the UK Agencies. The new factor was calculated using actual weight and volume data obtained from the waste management industry. The factors for non-hazardous waste are used in the edoc database.
B7: How to calculate the weight of waste in a bin using a conversion factor

Sheet Folha 7 FACTORS
A1: EWC Code | B1: Waste Description | C1: Density Conversion Factor
A2: 01 01 01 | B2: wastes from mineral metalliferous excavation | C2: 1.23
A3: 01 01 02 | B3: wastes from mineral non-metalliferous excavation | C3: 1.23
A4: 01 03 04* | B4: acid-generating tailings from processing of sulphide ore | C4: 1.23
A5: 01 03 05* | B5: other tailings containing dangerous substances | C5: 1.23
A6: 01 03 06 | B6: tailings other than those mentioned in 01 03 04 and 01 03 05 | C6: 1.23
A7: 01 03 07* | B7: other wastes containing dangerous substances from physical and chemical processing of metalliferous minerals | C7: 1.23
A8: 01 03 08 | B8: dusty and powdery wastes other than those mentioned in 01 03 07 | C8: 1.23
A9: 01 03 09 | B9: red mud from alumina production other than the wastes mentioned in 01 03 07 | C9: 1.23
A10: 01 03 99 | B10: wastes not otherwise specified | C10: 1.23
A11: 01 04 07* | B11: wastes containing dangerous substances from physical and chemical processing of non-metalliferous minerals | C11: 1.23
A12: 01 04 08 | B12: waste gravel and crushed rocks other than those mentioned in 01 04 07 | C12: 1.23
A13: 01 04 09 | B13: waste sand and clays | C13: 1.17
... A40: 02 03 01 | B40: sludges from washing, cleaning, peeling, centrifuging and separation | C40: 0.3473
A41: 02 03 02 | B41: wastes from preserving agents
A42: 02 03 03 | B42: wastes from solvent extraction
A43: 02 03 04 | B43: materials unsuitable for consumption or processing | C43: 0.40502281
A44: 02 03 05 | B44: sludges from on-site effluent treatment | C44: 0.922
A45: 02 03 99 | B45: wastes not otherwise specified | C45: 0.1852
A46: 02 04 01 | B46: soil from cleaning and washing beet | C46: 1.1725
A47: 02 04 02 | B47: off-specification calcium carbonate | C47: 0.6092
A48: 02 04 03 | B48: sludges from on-site effluent treatment | C48: 0.922
A49: 02 04 99 | B49: wastes not otherwise specified | C49: 0.1852
A50: 02 05 01 | B50: materials unsuitable for consumption or processing | C50: 0.19
A51: 02 05 02 | B51: sludges from on-site effluent treatment | C51: 0.922
A52: 02 05 99 | B52: wastes not otherwise specified | C52: 0.28
A53: 02 06 01 | B53: materials unsuitable for consumption or processing | C53: 0.37
A54: 02 06 02 | B54: wastes from preserving agents | C54: 0.9
... A56: 02 06 99 | B56: wastes not otherwise specified | C56: 0.1852
A57: 02 07 01 | B57: wastes from washing, cleaning and mechanical reduction of raw materials
A58: 02 07 02 | B58: wastes from spirits distillation
A59: 02 07 03 | B59: wastes from chemical treatment
A60: 02 07 04 | B60: materials unsuitable for consumption or processing | C60: 0.23
A61: 02 07 05 | B61: sludges from on-site effluent treatment | C61: 0.922
A62: 02 07 99 | B62: wastes not otherwise specified | C62: 0.1852
A63: 03 01 01 | B63: waste bark and cork | C63: 0.17
A64: 03 01 04* | B64: sawdust, shavings, cuttings, wood, particle board and veneer containing dangerous substances | C64: 0.3686
A65: 03 01 05 | B65: sawdust, shavings, cuttings, wood, particle board and veneer other than those mentioned in 03 01 04 | C65: 0.25
A66: 03 01 99 | B66: wastes not otherwise specified | C66: 0.1852
A67: 03 02 01* | B67: non-halogenated organic wood preservatives | C67: 0.9
...
