Workbook

Sheet Folha 1 Metodologia
A1: Determinação da capacidade de gestão de resíduos (revisão 1, outubro 2025)
A3: Para a determinação da capacidade de gestão de resíduos foi seguida a seguinte metodologia:
B4: Ação | C4: Registo
A5: 1 | B5: Identificação das operações de gestão de resíduos realizadas na instalação, incluindo a listagem dos resíduos que entram e que saem em cada operação. | C5: Colunas A a G da folha 4 Resumo
A6: 2 | B6: Identificação das áreas de armazenamento dos resíduos rececionados e processados. | C6: Folha 2 Capidades inst. arm Coluna H da folha resumo
A7: 3 | B7: Determinação da capacidade de armazenamento instantânea (em t) de cada parque de resíduos. | C7: Folha 2 Capidades inst. Arm
B8: A capacidade instantânea de armazenamento de resíduos armazenados a granel, em cada parque, foi determinada tendo em consideração os seguintes aspetos: # a densidade dos resíduos armazenados em cada PA foi obtida através dos fatores de conversão desenvolvidos pela Scottish Environment Protection Agency (SEPA), disponíveis em https://www.sepa.org.uk/media/163323/uk-conversion-factors-for-waste.xlsx (folhas 6 e 7); # a altura máxima (m) de armazenamento em cada parque; # a geometria que melhor representa o armazenamento a granel é a apresentada na Figura seguinte: # A capacidade instantânea de armazenamento de cada PA é obtida através da seguinte fórmula: Volume (m3) * Densidade (m3/t); # O volume é calculado pela seguinte fórmula: (Área (m2) * Altura máxima (m))/2; # Quando num PA se armazenam diferentes tipos de LER, considerou-se para o cálculo da capacidade instantânea de armazenamento do PA, o fator de conversão de densidade maior atribuído a determinado LER. Quando o armazenamento não é efetuado a granel, o cálculo da capacidade instantânea de armazenamento é efetuado tendo em consideração o(s) volume(s) do(s) recipiente(s)/contentor(es) que armazena o resíduo.
A9: 4 | B9: Determinação da capacidade máxima de armazenagem instantânea (t) por operação. | C9: Colunas I e J da folha 4 resumo
B10: Corresponde ao somatório da capacidade máxima de armazenagem instantânea de cada PA, tendo em conta todos os PA onde os resíduos tratados na operação podem estar armazenados.
A11: 5 | B11: Determinação da capacidade máxima de processamento (t/h) por operação | C11: Colunas K e L da folha 4 resumo
B12: Os pressupostos de cálculo assumidos tiveram em consideração os equipamentos que contribuem para a capacidade instalada associada à operação e respetivas capacidades, em tonelada por hora.
A13: 6 | B13: Determinação da capacidade instalada (t/ano) por operação | C13: Coluna M da folha 4 resumo
B14: Os pressupostos de cálculo assumidos tiveram em consideração que a capacidade instalada corresponde à capacidade máxima de sujeição dos resíduos a processamento/tratamento na instalação (i.e. input de resíduos, à entrada do processo tratamento, ou seja, resíduos passíveis de tratamento no processo) para um período de laboração de vinte e quatro horas, independentemente do seu regime de funcionamento, turnos, horário de laboração, ou valor do processamento/tratamento efetivo para resposta à procura do mercado. A capacidade é determinada com base nas capacidades máximas de cada equipamento e/ou linhas de tratamento.
A15: 6 | B15: Determinação da capacidade a licenciar (t/ano) por operação | C15: Coluna N da folha 4 resumo
B16: Esta quantidade é determinada com base no regime de laboração da instalação, de 8horas/dia e 250 dias/ano.

Sheet Folha 2 Capacidades Inst. Arm
A1: Identificação das áreas de armazenamento dos resíduos e cálculo das capacidades de armazenamento.
A3: Local | B3: IDENTIFICAÇÃO DO PARQUE | C3: OPERAÇÃO | D3: CAPACIDADE DE PROCESSAMENTO DE RESÍDUOS | E3: Resíduos Armazenados (designação e código LER) | G3: Altura máxima (m) | H3: Área (m2) | I3: Volume (m3) | J3: Densidade resíduos (m3/t) UK Conversor Factors for Waste | K3: Maior densidade do resíduo no parque (m3/t) | L3: Capacidade de armazenamento (t)
A5: Parque exterior | B5: PA1 - FERRO | C5: R 12 A (Tratamento mecânico) | D5: Prensa hidráulica LOURITEX: | E5: resíduos sem outras especificações – resíduos metálicos NOVO | F5: 010399 | G5: 6 | H5: 1125 | I5: =H5*G5/2 -> 3375 | J5: 1.23 | K5: =MAX(J5:J53) -> 1.54 | L5: =I5*K5 -> 5197.5 | N5: PA1 | O5: =L5 -> 5197.5
D6: 31 | E6: resíduos metálicos NOVO | F6: 020110 | J6: 0.3037 | N6: PA2 | O6: =L54 -> 2910.6
D7: 2 giratórias + 3 funcionários afetos à triagem: | E7: resíduos sem outras especificações – resíduos metálicos NOVO | F7: 020299 | J7: 0.1852 | N7: PA3 | O7: =L100 -> 922.5
D8: 15 | E8: resíduos sem outras especificações – resíduos metálicos NOVO | F8: 020399 | J8: 0.1852 | N8: PA4 | O8: =L130 -> 1432.2
E9: resíduos sem outras especificações – resíduos metálicos NOVO | F9: 020599 | J9: 0.28 | N9: PA5 | O9: =L162 -> 109.332
E10: resíduos sem outras especificações – resíduos metálicos NOVO | F10: 020699 | J10: 0.1852 | N10: PA6 | O10: =L164 -> 4833.9
E11: resíduos sem outras especificações – resíduos metálicos NOVO | F11: 020799 | J11: 0.1852 | N11: PA7 | O11: =L194 -> 653.13
E12: resíduos sem outras especificações – resíduos metálicos NOVO | F12: 030199 | J12: 0.1852 | N12: PA8 | O12: =L220 -> 34.0144
E13: resíduos sem outras especificações – resíduos metálicos NOVO | F13: 030399 | J13: 0.41 | N13: PA9 | O13: =L222 -> 151.2
E14: resíduos sem outras especificações – resíduos metálicos NOVO | F14: 040199 | J14: 0.22 | N14: PA10 | O14: =L223 -> 98.4
E15: resíduos sem outras especificações – resíduos metálicos NOVO | F15: 040299 | J15: 0.05 | N15: PA11 | O15: =L248 -> 41.82
E16: resíduos sem outras especificações – resíduos metálicos NOVO | F16: 050199 | J16: 0.1852 | N16: PA12 | O16: =L279 -> 279.42
E17: escórias não processadas NOVO | F17: 100202 | J17: 1.08 | N17: PA13 | O17: =L280 -> 264.219
E18: resíduos sem outras especificações – resíduos metálicos NOVO | F18: 100299 | J18: 0.1852 | N18: PA14 | O18: =L283+L284 -> 45.97
E19: partículas e poeiras | F19: 100804 | J19: 0.738 | N19: PA15 | O19: =L285 -> 9.9
E20: escórias do forno NOVO | F20: 100903 | J20: 1.08 | N20: PA16 | O20: =L289 -> 59.4
E21: moldes e machos de fundição vazados não abrangidos em 10 09 07 | F21: 100908 | J21: 0.47 | N21: PA17 | O21: =L300 -> 17
E22: resíduos sem outras especificações – resíduos metálicos NOVO | F22: 100999 | J22: 0.1852 | N22: PA18 | O22: =L304 -> 57.72
E23: resíduos sem outras especificações – resíduos metálicos NOVO | F23: 101099 | J23: 0.1852 | N23: PA19 | O23: =L306 -> 12.6
E24: resíduos de materiais fibrosos à base de vidro | F24: 101103 | J24: 0.22 | N24: PA20 | O24: =L308 -> 52.8
E25: resíduos sem outras especificações – resíduos metálicos NOVO | F25: 101199 | J25: 0.17 | N25: PA21 | O25: =L312+L313+L314+L315 -> 3.42
E26: moldes fora de uso | F26: 101206 | J26: 1.54 | N26: PA22 | O26: =L316+L317+L318+L321 -> 1.966
E27: resíduos sem outras especificações – resíduos metálicos NOVO | F27: 101299 | J27: 0.1852 | N27: PA23 | O27: =L322+L323 -> 77.467709
E28: resíduos sem outras especificações – resíduos metálicos NOVO | F28: 101399 | J28: 0.1852 | N28: PA24 | O28: =L326 -> 71.07552
E29: resíduos sem outras especificações – resíduos metálicos NOVO | F29: 110199 | J29: 0.1852 | N29: PA25 | O29: =L332 -> 100.221
E30: resíduos sem outras especificações – resíduos metálicos NOVO | F30: 110299 | J30: 0.1852 | N30: PA26 | O30: =L335+L336 -> 46.365
E31: aparas e limalhas de metais ferrosos | F31: 120101 | J31: 0.3037 | N31: PA27 | O31: =L339 -> 579.33
E32: poeiras e partículas de metais ferrosos | F32: 120102 | J32: 0.3037 | N32: PA28 | O32: =L376 -> 11.8443
E33: poeiras e partículas de metais não ferrosos | F33: 120104 | J33: 0.22 | N33: PA29 | O33: =L379+L380 -> 0.098
E34: resíduos de Soldadura | F34: 120113 | J34: 0.9 | N34: PA30 | O34: =L311 -> 199.8
E35: resíduos de materiais de granalhagem não abrangidos em 12 01 16 | F35: 120117 | J35: 0.97
E36: mós e materiais de rectificação usados não abrangidos em 12 01 20 | F36: 120121 | J36: 1.26
E37: resíduos sem outras especificações – resíduos metálicos NOVO | F37: 120199 | J37: 0.1852
E38: embalagens de metal | F38: 150104 | J38: 0.22
E39: mistura de embalagens | F39: 150106 | J39: 0.2
E40: veículos em fim de vida esvaziados de líquidos e outros componentes perigosos | F40: 160106 | J40: 0.45
E41: pastilhas dos travões não abrangidas em 16 01 11 | F41: 160112 | J41: 0.4369
E42: depósito para gás liquefeito | F42: 160116 | J42: 0.2267
E43: metais Ferrosos | F43: 160117 | J43: 0.3037
E44: resíduos sem outras especificações – resíduos metálicos NOVO | F44: 160199 | J44: 0.1852
E45: ferro e aço | F45: 170405 | J45: 0.43
E46: mistura de Metais | F46: 170407 | J46: 0.27
... E53: metais | F53: 200140 | J53: 0.23
B54: PA2 - AÇO INOXIDÁVEL | C54: R 12 A (Tratamento mecânico) | D54: Prensa Tesoura - Sierra: | E54: resíduos sem outras especificações – resíduos metálicos NOVO | F54: 010399 | G54: 6 | H54: 630 | I54: =H54*G54/2 -> 1890 | J54: 1.23 | K54: =MAX(J54:J99) -> 1.54 | L54: =I54*K54 -> 2910.6
D55: 10 | E55: resíduos metálicos NOVO | F55: 020110 | J55: 0.3037
D56: 2 giratórias + 2 funcionários | E56: resíduos sem outras especificações – resíduos metálicos NOVO | F56: 020299 | J56: 0.1852
E57: resíduos sem outras especificações – resíduos metálicos NOVO | F57: 020399 | J57: 0.1852
E58: resíduos sem outras especificações – resíduos metálicos NOVO | F58: 020599 | J58: 0.28
E59: resíduos sem outras especificações – resíduos metálicos NOVO | F59: 020699 | J59: 0.1852
E60: resíduos sem outras especificações – resíduos metálicos NOVO | F60: 020799 | J60: 0.1852
E61: resíduos sem outras especificações – resíduos metálicos NOVO | F61: 030199 | J61: 0.1852
E62: resíduos sem outras especificações – resíduos metálicos NOVO | F62: 030399 | J62: 0.41
E63: resíduos sem outras especificações – resíduos metálicos NOVO | F63: 040199 | J63: 0.22
E64: resíduos sem outras especificações – resíduos metálicos NOVO | F64: 040299 | J64: 0.05
E65: resíduos sem outras especificações – resíduos metálicos NOVO | F65: 050199 | J65: 0.1852
E66: escórias não processadas NOVO | F66: 100202 | J66: 1.08
E67: resíduos sem outras especificações – resíduos metálicos NOVO | F67: 100299 | J67: 0.1852
E68: escórias do forno NOVO | F68: 100903 | J68: 1.08
E69: moldes e machos de fundição vazados não abrangidos em 10 09 07 | F69: 100908 | J69: 0.47
E70: resíduos sem outras especificações – resíduos metálicos NOVO | F70: 100999 | J70: 0.1852
E71: resíduos sem outras especificações – resíduos metálicos NOVO | F71: 101099 | J71: 0.1852
E72: resíduos sem outras especificações – resíduos metálicos NOVO | F72: 101199 | J72: 0.17
E73: moldes fora de uso | F73: 101206 | J73: 1.54
E74: resíduos sem outras especificações – resíduos metálicos NOVO | F74: 101299 | J74: 0.1852
E75: resíduos sem outras especificações – resíduos metálicos NOVO | F75: 101399 | J75: 0.1852
E76: resíduos sem outras especificações – resíduos metálicos NOVO | F76: 110199 | J76: 0.1852
E77: resíduos sem outras especificações – resíduos metálicos NOVO | F77: 110299 | J77: 0.1852
... E99: metais | F99: 200140 | J99: 0.23
B100: PA3 - ALUMÍNIO VELHO | C100: R 12 A (Tratamento mecânico) | E100: resíduos sem outras especificações – resíduos metálicos NOVO | F100: 010399 | G100: 6 | H100: 250 | I100: =H100*G100/2 -> 750 | J100: 1.23 | K100: =MAX(J100:J129) -> 1.23 | L100: =K100*I100 -> 922.5
E101: resíduos metálicos NOVO | F101: 020110 | J101: 0.3037
E102: resíduos sem outras especificações – resíduos metálicos NOVO | F102: 020299 | J102: 0.1852
E103: resíduos sem outras especificações – resíduos metálicos NOVO | F103: 020399 | J103: 0.1852
E104: resíduos sem outras especificações – resíduos metálicos NOVO | F104: 020599 | J104: 0.28
E105: resíduos sem outras especificações – resíduos metálicos NOVO | F105: 020699 | J105: 0.1852
E106: resíduos sem outras especificações – resíduos metálicos NOVO | F106: 020799 | J106: 0.1852
E107: resíduos sem outras especificações – resíduos metálicos NOVO | F107: 030199 | J107: 0.1852
E108: resíduos sem outras especificações – resíduos metálicos NOVO | F108: 030399 | J108: 0.41
E109: resíduos sem outras especificações – resíduos metálicos NOVO | F109: 040199 | J109: 0.22
E110: resíduos sem outras especificações – resíduos metálicos NOVO | F110: 040299 | J110: 0.05
E111: resíduos sem outras especificações – resíduos metálicos NOVO | F111: 050199 | J111: 0.1852
E112: resíduos sem outras especificações – resíduos metálicos NOVO | F112: 100299 | J112: 0.1852
E113: machos e moldes de fundição vazados, não abrangidos em 10 10 07 | F113: 101008 | J113: 0.47
E114: resíduos sem outras especificações – resíduos metálicos NOVO | F114: 101199 | J114: 0.17
E115: resíduos sem outras especificações – resíduos metálicos NOVO | F115: 101299 | J115: 0.1852
E116: resíduos sem outras especificações – resíduos metálicos NOVO | F116: 101399 | J116: 0.1852
E117: resíduos sem outras especificações – resíduos metálicos NOVO | F117: 110199 | J117: 0.1852
E118: resíduos sem outras especificações – resíduos metálicos NOVO | F118: 110299 | J118: 0.1852
E119: aparas e limalhas de metais não ferrosos | F119: 120103 | J119: 0.22
E120: embalagens de Metal | F120: 150104 | J120: 0.22
E121: metais não ferrosos | F121: 160118 | J121: 0.9
E122: resíduos sem outras especificações – resíduos metálicos NOVO | F122: 160199 | J122: 0.1852
E123: alumínio | F123: 170402 | J123: 0.9
... E129: metais | F129: 200140 | J129: 0.23
B130: PA4 - ALUMÍNIO | E130: resíduos sem outras especificações – resíduos metálicos NOVO | F130: 010399 | G130: 6 | H130: 310 | I130: =H130*G130/2 -> 930 | J130: 1.23 | K130: =MAX(J130:J161) -> 1.54 | L130: =K130*I130 -> 1432.2
E131: resíduos metálicos NOVO | F131: 020110 | J131: 0.3037
E132: resíduos sem outras especificações – resíduos metálicos NOVO | F132: 020299 | J132: 0.1852
E133: resíduos sem outras especificações – resíduos metálicos NOVO | F133: 020399 | J133: 0.1852
E134: resíduos sem outras especificações – resíduos metálicos NOVO | F134: 020599 | J134: 0.28
...

Sheet Folha 3 ResíduosPerigosos
C4: CÁLCULO DA CAPACIDADE INSTANTÂNEA DE ARMAZENAMENTO DE RESÍDUOS PERIGOSOS
C5: RESÍDUOS | D5: CÓDIGO LER | E5: Designação | F5: PARQUE | G5: CAPACIDADE DE ARMAZENAMENTO INSTANTÂNEA (TON) | H5: ÁREA (m2) | I5: ALTURA (m) | J5: VOLUME (m3) | K5: Nº Recipientes Empilhados | L5: Densidade resíduo [Ton/m3] UK Conversion Factors for Waste | M5: Densidade máxima [Ton/m3] | N5: ACONDICIONAMENTO
C6: RESÍDUOS PERIGOSOS | D6: 150110* | E6: embalagens contendo ou contaminadas por resíduos de substâncias perigosas | F6: PA19 | G6: =M6*J6 -> 12.6 | H6: 25 | I6: 2.4 | J6: =H6*I6 -> 60 | K6: 1 | L6: 0.21 | M6: 0.21 | N6: Contentor metálico
D7: 150111* | E7: embalagens de metal, incluindo recipientes vazios sob pressão, contendo uma matriz porosa sólida perigosa (por exemplo amianto) | L7: 0.17
D8: 150202* | E8: absorventes, materiais filtrantes (incluindo filtros de óleo sem outras especificações), panos de limpeza e vestuário de proteção, contaminados por substâncias perigosas | F8: PA29 | G8: =J8*M8 -> 0.0836 | H8: 1 tambor de 200 L | J8: 0.2 | K8: 1 | L8: 0.418 | M8: 0.418 | N8: Tambor de 200 L
D9: 160107* | E9: filtros de óleo | F9: PA22 | G9: =J9*M9 -> 0.14816 | H9: 4 tambores de 200 L | J9: =4*0.2 -> 0.8 | K9: 1 | L9: 0.1852 | M9: 0.1852 | N9: Tambor de 200 L
D10: 160211* | E10: equipamento fora de uso contendo clorofluorocarbonetos, HCFC, HFC | F10: PA24 | G10: =J10*M10 -> 71.07552 | H10: 64.38 | I10: 2.4 | J10: =H10*I10 -> 154.512 | K10: 1 | L10: 0.3037 | M10: 0.46 | N10: Palete c/ filme
D11: 200123* | E11: equipamento fora de uso contendo clorofluorocarbonetos | K11: 1 | L11: 0.3037
D12: 160213* | E12: equipamento fora de uso, contendo componentes perigosos, não abrangidos em 16 02 09 a 16 02 12 | K12: 1 | L12: 0.26 | N12: Big-bag
D13: 200135* | E13: equipamento elétrico e eletrónico fora de uso, não abrangido em 20 01 21 ou 20 01 23, contendo componentes perigosos | K13: 1 | L13: 0.2131
D14: 200121* | E14: lâmpadas fluorescentes e outros resíduos contendo mercúrio | K14: 1 | L14: 0.1886 | N14: Caixas de Cartão
D15: 160215* | E15: componentes perigosos retirados de equipamento fora de uso | K15: 1 | L15: 0.4597 | N15: Cuba
D16: 160602* | E16: acumuladores de níquel-cádmio | F16: PA23 | G16: =J16*M16 -> 1.35 | H16: 5 Tambores de 200 L | J16: =5*0.2 -> 1 | K16: 1 | L16: 1.35 | M16: =MEDIAN(L16:L19) -> 1.35 | N16: 5 recipientes metálicos isolados com tampa de 200 l + Palete
D17: 160603* | E17: pilhas contendo mercúrio | K17: 1 | L17: 1.35
D18: 200133* | E18: pilhas e acumuladores abrangidos em 16 06 01, 16 06 02 ou 16 06 03 e pilhas e acumuladores, não triados, contendo desses acumuladores ou pilhas | K18: 1 | L18: 1.35
D19: 160601* | E19: acumuladores de chumbo | G19: =J19*M19 -> 76.117709 | H19: 76 caixas (dimensão de cada caixa:0,92mX1,12mX0,6m) | J19: =0.92*1.12*0.6*76 -> 46.98624 | K19: 4 | L19: 1.35 | M19: 1.62 | N19: Caixas plásticas herméticas
D20: 160104* | E20: veículos em fim de vida | F20: PA14 | G20: =J20*M20 -> 22.985 | H20: 50 | I20: 1 | J20: =H20*I20 -> 50 | K20: 1 | L20: 0.4597 | M20: 0.4597 | N20: VFV ao nível do solo
G21: =SUM(G6:G20) -> 184.35999
C22: NOTAS: Os valores das densidades, foram obtidos para cada resíduo com base nos fatores de conversão desenvolvidos pela Scottish Environment Protection Agency (SEPA), disponíveis em https://www.sepa.org.uk/media/163323/uk-conversion-factors-for-waste.xlsx;. No caso do PA24, considerou-se no cálculo da capacidade instantânea a área e altura máxima de armazenamento, bem como a densidade máxima dos resíduos que partilham o mesmo parque de armazenamento, pelo facto de não ser possível fixar o n.º de recipientes existentes no local podendo variar.
C23: * Para os resíduos identificados na LER com o código 160601*, a densidade considerada teve por base o histórico de pesagens da BRAGUINOX de vários recipientes contendo esta tipologia de resíduos. Considerou-se a densidade de 1,62.

Sheet Folha 4 Resumo
A1: Capacidade de gestão de resíduos
A3: Linha de tratamento | B3: Operação | C3: Operações | D3: Entradas | F3: Locais de armazenamento de resíduos rececionados/entradas | G3: Saídas | I3: Pressupostos de cálculo da capacidade de armazenagem instantânea | J3: Capacidade de armazenamento instantânea (t) | K3: Pressupostos de cálculo da capacidade máxima | L3: Capacidade máxima (t/h) | M3: Capacidade instalada (t/ano) 24*365 h/ano | N3: Capacidade a licenciar (t/ano) 8*250 h/ano
D4: Código LER | E4: Designação LER | G4: Código LER | H4: Designação LER
A5: Tratamento de metais ferrosos e não ferrosos | B5: R 12 A (Tratamento mecânico) | C5: Receção Pesagem Armazenamento Triagem Corte Trituração/separação Compactação Armazenamento Encaminhamento | D5: 010399 | E5: resíduos sem outras especificações – resíduos metálicos NOVO | F5: PA1, PA2, PA3, PA4, PA6, PA7, PA10, PA11, PA27 | G5: 191202 | H5: metais ferrosos | I5: PA1 + PA2 + PA3 + PA4 + PA5 + PA6 + PA7 + PA8 + PA9 + PA10 + PA11 + PA13 + PA16 + PA18 + PA22 + PA25 + PA26 + PA27 + PA28 + PA30 Capacidade de cada PA, em t, consta da folha PA-Capacidades Inst.Arm | J5: ='Folha 2 Capacidades Inst. Arm'!O5+'Folha 2 Capacidades Inst. Arm'!O6+'Folha 2 Capacidades Inst. Arm'!O7+'Folha 2 Capacidades Inst. Arm'!O8+'Folha 2 Capacidades Inst. Arm'!O9+'Folha 2 Capacidades Inst. Arm'!O10+'Folha 2 Capacidades Inst. Arm'!O11+'Folha 2 Capacidades Inst. Arm'!O12+'Folha 2 Capacidades Inst. Arm'!O13+'Folha 2 Capacidades Inst. Arm'!O14+'Folha 2 Capacidades Inst. Arm'!O15+'Folha 2 Capacidades Inst. Arm'!O17+'Folha 2 Capacidades Inst. Arm'!O20+'Folha 2 Capacidades Inst. Arm'!O22+'Folha 2 Capacidades Inst. Arm'!O26+'Folha 2 Capacidades Inst. Arm'!O29+'Folha 2 Capacidades Inst. Arm'!O30+'Folha 2 Capacidades Inst. Arm'!O31+'Folha 2 Capacidades Inst. Arm'!O32+'Folha 2 Capacidades Inst. Arm'!O34-'Folha 2 Capacidades Inst. Arm'!L336-'Folha 2 Capacidades Inst. Arm'!L336 -> 17703.842 | K5: Equipamentos afetos à atividade: Triturador de alumínio MTB: 15 t/h Triturador de cabo de cobre: 0,2 t/h Prensa Tesoura - Sierra: 10 t/h Prensa hidráulica guilhotina fixa LOURITEX: 31 t/h Prensa hidráulica enfardadora embutida no piso: 1 t/h 2 giratórias + 3 funcionários afetos à triagem: 15 t/h Os equipamentos identificados podem estar a funcionar em simultâneo. Total de 72,2 t/h | L5: 72.2 | M5: =L5*24*365 -> 632472 | N5: =L5*8*250 -> 144400
D6: 020110 | E6: resíduos metálicos NOVO | F6: PA1, PA2, PA3, PA4, PA6, PA7, PA10, PA11, PA27 | G6: 191203 | H6: metais não ferrosos
D7: 020299 | E7: resíduos sem outras especificações – resíduos metálicos NOVO | F7: PA1, PA2, PA3, PA4, PA6, PA7, PA10, PA11, PA27 | G7: 191212 | H7: outros resíduos (incluindo misturas de materiais) do tratamento mecânico de resíduos, não abrangidos em 19 12 11
D8: 020399 | E8: resíduos sem outras especificações – resíduos metálicos NOVO | F8: PA1, PA2, PA3, PA4, PA6, PA7, PA10, PA11, PA27
D9: 020599 | E9: resíduos sem outras especificações – resíduos metálicos NOVO | F9: PA1, PA2, PA3, PA4, PA6, PA7, PA10, PA11, PA27
D10: 020699 | E10: resíduos sem outras especificações – resíduos metálicos NOVO | F10: PA1, PA2, PA3, PA4, PA6, PA7, PA10, PA11, PA27
D11: 020799 | E11: resíduos sem outras especificações – resíduos metálicos NOVO | F11: PA1, PA2, PA3, PA4, PA6, PA7, PA10, PA11, PA27
D12: 030199 | E12: resíduos sem outras especificações – resíduos metálicos NOVO | F12: PA1, PA2, PA3, PA4, PA6, PA7, PA10, PA11, PA27
D13: 030399 | E13: resíduos sem outras especificações – resíduos metálicos NOVO | F13: PA1, PA2, PA3, PA4, PA6, PA7, PA10, PA11, PA27
D14: 040199 | E14: resíduos sem outras especificações – resíduos metálicos NOVO | F14: PA1, PA2, PA3, PA4, PA6, PA7, PA10, PA11, PA27
D15: 040299 | E15: resíduos sem outras especificações – resíduos metálicos NOVO | F15: PA1, PA2, PA3, PA4, PA6, PA7, PA10, PA11, PA27
D16: 050199 | E16: resíduos sem outras especificações – resíduos metálicos NOVO | F16: PA1, PA2, PA3, PA4, PA6, PA7, PA10, PA11, PA27
D17: 100202 | E17: escórias não processadas NOVO | F17: PA1, PA2, PA7
D18: 100299 | E18: resíduos sem outras especificações – resíduos metálicos NOVO | F18: PA1, PA2, PA3, PA4, PA6, PA7, PA10, PA11, PA27
D19: 100501 | E19: escórias da produção primária e secundária | F19: PA11
D20: 100903 | E20: escórias do forno NOVO | F20: PA1, PA2
D21: 100908 | E21: machos e moldes de fundição vazados, não abrangidos em 10 09 07 | F21: PA1, PA2
D22: 100999 | E22: resíduos sem outras especificações – resíduos metálicos NOVO | F22: PA1, PA2
D23: 101003 | E23: escórias do forno | F23: PA27
D24: 101008 | E24: machos e moldes de fundição vazados, não abrangidos em 10 10 07 | F24: PA3, PA4,PA6 e PA27
D25: 101099 | E25: resíduos sem outras especificações – resíduos metálicos NOVO | F25: PA1, PA2, PA4, PA27
D26: 101199 | E26: resíduos sem outras especificações – resíduos metálicos NOVO | F26: PA1, PA2, PA3, PA4, PA6, PA7, PA10, PA11, PA27
D27: 101206 | E27: moldes fora de uso | F27: PA1, PA2, PA4
D28: 101299 | E28: resíduos sem outras especificações – resíduos metálicos NOVO | F28: PA1, PA2, PA3, PA4, PA6, PA7, PA10, PA11, PA27
... D66: 200140 | E66: metais | F66: PA1, PA2, PA3, PA4, PA6, PA7, PA10, PA11, PA27
A67: Tratamento de outros resíduos não perigosos | B67: R 12 A (Tratamento mecânico) | C67: Receção Pesagem Armazenamento Triagem Corte Armazenamento Encaminhamento | D67: 101103 | E67: resíduos de materiais fibrosos à base de vidro | F67: PA1 | G67: 191212 | H67: outros resíduos (incluindo misturas de materiais) do tratamento mecânico de resíduos, não abrangidos em 19 12 11 | I67: PA1 Capacidade de cada PA, em t, consta da folha PA-Capacidades Inst.Arm | J67: ='Folha 2 Capacidades Inst. Arm'!O5 -> 5197.5 | K67: Equipamentos afetos à atividade: Corte na Prensa hidráulica guilhotina fixa LOURITEX: 31 t/h | L67: 31 | M67: =L67*24*365 -> 271560 | N67: =L67*8*250 -> 62000
A68: Tratamento de metais ferrosos e não ferrosos | B68: R 12 B (Triagem) | C68: Receção Pesagem Armazenamento Triagem Armazenamento Encaminhamento | D68: 100804 | E68: partículas e poeiras | F68: PA1, PA27 | G68: 100804 | H68: partículas e poeiras | I68: PA1 + PA2 + PA27 Capacidade de cada PA, em t, consta da folha PA-Capacidades Inst.Arm | J68: ='Folha 2 Capacidades Inst. Arm'!O5+'Folha 2 Capacidades Inst. Arm'!O6+'Folha 2 Capacidades Inst. Arm'!O31 -> 8687.43 | K68: Equipamentos afetos à atividade: 1 giratória + 2 funcionários afetos à triagem: 7 t/h | L68: =7 -> 7 | M68: =L68*24*365 -> 61320 | N68: =L68*8*250 -> 14000
D69: 120102 | E69: poeiras e partículas de metais ferrosos | F69: PA1, PA2 | G69: 120102 | H69: poeiras e partículas de metais ferrosos
D70: 120104 | E70: poeiras e partículas de metais não ferrosos | F70: PA1, PA2, PA27 | G70: 120104 | H70: poeiras e partículas de metais não ferrosos
D71: 190102 | E71: materiais ferrosos removidos das cinzas | F71: PA1, PA2 | G71: 190102 | H71: materiais ferrosos removidos das cinzas
D72: 190112 | E72: cinzas e escórias, não abrangidas em 19 01 11 | F72: PA1, PA2, PA27 | G72: 190112 | H72: cinzas e escórias, não abrangidas em 19 01 11
G73: 191202 | H73: metais ferrosos
G74: 191203 | H74: metais não ferrosos
G75: 191212 | H75: outros resíduos (incluindo misturas de materiais) do tratamento mecânico de resíduos, não abrangidos em 19 12 11
A76: Tratamento de VFV | B76: R 12 F (Despoluição e desmantelamento de VFV, incluindo a remoção das substâncias perigosas) | C76: Receção Pesagem Classificação Armazenamento Despoluição Desmantelamento Triagem Compactação Armazenamento Encaminhamento | D76: 160104* | E76: veículos em fim de vida | F76: PA14 | G76: 130208* | H76: outros óleos de motores, transmissões e lubrificação | I76: PA14 Capacidade de cada PA, em t, consta da folha PA-Capacidades Inst.Arm | J76: ='Folha 2 Capacidades Inst. Arm'!O18 -> 45.97 | K76: Equipamentos afetos à atividade (VFV* - LER 160104*): Equipamento de descontaminação de VFV + 2 funcionários: 6 veículos/8horas = 7,94 t/8horas 1 t/h*24 h =24 t/dia | L76: =7.94/8 -> 0.9925 | M76: =L76*24*365 -> 8694.3 | N76: =L76*8*250 -> 1985
D77: 160106 | E77: veículos em fim de vida que não contenham líquidos nem outros componentes perigosos | F77: PA14 | G77: 160103 | H77: pneus usados
G78: 160106 | H78: veículos em fim de vida que não contenham líquidos nem outros componentes perigosos
G79: 160107* | H79: filtros de óleo
G80: 150202* | H80: absorventes, materiais filtrantes (incluindo filtros de óleo sem outras especificações), panos de limpeza e vestuário de proteção, contaminados por substâncias perigosas
G81: 150203 | H81: absorventes, materiais filtrantes, panos de limpeza e vestuário de proteção não abrangidos em 15 02 02
G82: 160113* | H82: fluidos de travões
G83: 160104* | H83: fluidos anticongelantes contendo substâncias perigosas
G84: 160115 | H84: fluidos anticongelantes não abrangidos em 16 01 14
G85: 160119 | H85: plástico
G86: 160120 | H86: vidro
G87: 160504* | H87: gases em recipientes sob pressão (incluindo halons), contendo substâncias perigosas | K87: Equipamentos afetos (VFV - LER 160106) Compactação na Prensa hidráulica guilhotina fixa LOURITEX: 31 t/h | L87: 31 | M87: =L87*24*365 -> 271560 | N87: =L87*8*250 -> 62000
G88: 160601* | H88: acumuladores de chumbo
G89: 160801 | H89: catalisadores usados contendo ouro, prata, rénio, ródio, paládio, irídio ou platina (exceto 16 08 07)
G90: 160803 | H90: catalisadores usados contendo metais de transição ou contendo compostos de metais de transição, sem outras especificações
G91: 161002 | H91: resíduos líquidos aquosos não abrangidos em 16 10 01
G92: 191204 | H92: plástico e borracha
G93: 191205 | H93: vidro
G94: 191202 | H94: metais ferrosos
G95: 191203 | H95: metais não ferrosos
A96: Tratamento de REEE não perigosos | B96: R 12 G (Desmantelamento dos REEE, incluindo a remoção das substâncias perigosas) | C96: Receção Pesagem Classificação Triagem Armazenamento Remoção de frações com perigosidade Desmantelamento Processamento mecânico Triagem Armazenamento Encaminhamento | D96: 160214 | E96: equipamento fora de uso não abrangido em 16 02 09 a 16 02 13 | F96: PA13, PA25 | G96: 160215* | H96: componentes perigosos retirados de equipamento fora de uso | I96: PA5 + PA13 + PA25+ PA26 + PA28 Capacidade de cada PA, em t, consta da folha PA-Capacidades Inst.Arm | J96: ='Folha 2 Capacidades Inst. Arm'!O9+'Folha 2 Capacidades Inst. Arm'!O17+'Folha 2 Capacidades Inst. Arm'!O29+'Folha 2 Capacidades Inst. Arm'!O30+'Folha 2 Capacidades Inst. Arm'!O32 -> 531.9813 | K96: Processo manual 6 funcionários: 1,0 t/h | L96: 1 | M96: =L96*24*365 -> 8760 | N96: =L96*8*250 -> 2000
D97: 160216 | E97: componentes retirados de equipamento fora de uso não abrangidos em 16 02 15 | F97: PA5, PA13, PA25, PA26, PA28 | G97: 160216 | H97: componentes retirados de equipamento fora de uso não abrangidos em 16 02 15
D98: 200136 | E98: equipamento elétrico e eletrónico fora de uso, não abrangido em 20 01 21, 20 01 23 ou 20 01 35 | F98: PA13, PA25 | G98: 160601* | H98: acumuladores de chumbo
G99: 160602* | H99: acumuladores de níquel-cádmio
G100: 160604 | H100: pilhas alcalinas (exceto 16 06 03)
G101: 160605 | H101: outras pilhas e acumuladores
G102: 191202 | H102: metais ferrosos
G103: 191203 | H103: metais não ferrosos
G104: 191204 | H104: plástico e borracha
G105: 191205 | H105: vidro
G106: 191209 | H106: Substâncias minerais (por exemplo, areia, rochas)
G107: 191212 | H107: Outros resíduos (incluindo mistura de materiais) do tratamento mecânico de resíduos, não abrangidos em 191211
G108: 200121* | H108: lâmpadas fluorescentes e outros resíduos contendo mercúrio
A109: Tratamento de REEE perigosos | B109: R13 D (Reembalamento de resíduos, com vista a agrupar os resíduos em recipientes adequados para preparar resíduos para tratamentos posterior e mais distante, sem alteração de LER) | C109: Receção Pesagem Classificação Reembalamento Armazenamento Encaminhamento | D109: 160211* | E109: equipamento fora de uso contendo clorofluorocarbonetos, HCFC, HFC | F109: PA24 | G109: 160211* | H109: equipamento fora de uso contendo clorofluorocarbonetos, HCFC, HFC | I109: PA24 Capacidade de cada PA, em t, consta da folha PA-Capacidades Inst.Arm | J109: ='Folha 2 Capacidades Inst. Arm'!O28 -> 71.07552 | K109: Processo manual 2 funcionários: 0,35 t/h | L109: 0.35 | M109: =L109*24*365 -> 3066 | N109: =L109*8*250 -> 700
D110: 160213* | E110: equipamento fora de uso, contendo componentes perigosos, não abrangidos em 16 02 09 a 16 02 12 | F110: PA24 | G110: 160213* | H110: equipamento fora de uso, contendo componentes perigosos, não abrangidos em 16 02 09 a 16 02 12
D111: 160215* | E111: componentes perigosos retirados de equipamento fora de uso | F111: PA24 | G111: 160215* | H111: componentes perigosos retirados de equipamento fora de uso
D112: 200121* | E112: lâmpadas fluorescentes e outros resíduos contendo mercúrio | F112: PA24 | G112: 200121* | H112: lâmpadas fluorescentes e outros resíduos contendo mercúrio
D113: 200123* | E113: equipamento fora de uso contendo clorofluorocarbonetos | F113: PA24 | G113: 200123* | H113: equipamento fora de uso contendo clorofluorocarbonetos
D114: 200135* | E114: equipamento elétrico e eletrónico fora de uso, não abrangido em 20 01 21 ou 20 01 23, contendo componentes perigosos | F114: PA24 | G114: 200135* | H114: equipamento elétrico e eletrónico fora de uso, não abrangido em 20 01 21 ou 20 01 23, contendo componentes perigosos
A115: Tratamento de REEE perigosos | B115: R 12 I (Reembalamento, com alteração de Lista Europeia de Resíduos (LER)) | C115: Receção Pesagem Classificação Reembalamento Armazenamento Encaminhamento | D115: 200123* | E115: equipamento fora de uso contendo clorofluorocarbonetos | F115: PA24 | G115: 160211* | H115: equipamento fora de uso contendo clorofluorocarbonetos, HCFC, HFC | I115: PA24 Capacidade de cada PA, em t, consta da folha PA-Capacidades Inst.Arm | K115: Processo manual 2 funcionários: 0,35 t/h | L115: =0.35 -> 0.35 | M115: =L115*24*365 -> 3066 | N115: =L115*8*250 -> 700
D116: 200135* | E116: equipamento elétrico e eletrónico fora de uso, não abrangido em 20 01 21 ou 20 01 23, contendo componentes perigosos | F116: PA24 | G116: 160213* | H116: equipamento fora de uso, contendo componentes perigosos, não abrangidos em 16 02 09 a 16 02 12
A117: Tratamento de pneus | B117: R 12 B (Triagem) | C117: Receção Pesagem Classificação Separação metal/pneu Triagem Armazenamento Encaminhamento | D117: 160103 | E117: pneus usados | F117: PA12 | G117: 160103 | H117: pneus usados | I117: PA12 Capacidade de cada PA, em t, consta da folha PA-Capacidades Inst.Arm | J117: ='Folha 2 Capacidades Inst. Arm'!O16 -> 279.42 | K117: Equipamentos afetos à atividade: 1 giratória + 1 funcionário afeto à triagem: 2 t/h | L117: 2 | M117: =L117*24*365 -> 17520 | N117: =L117*8*250 -> 4000
G118: 191202 | H118: metais ferrosos
G119: 191203 | H119: metais não ferrosos
A120: Tratamento de RPA | B120: R13 D (Reembalamento de resíduos, com vista a agrupar os resíduos em recipientes adequados para preparar resíduos para tratamentos posterior e mais distante, sem alteração de LER) | C120: Receção Pesagem Classificação Reembalamento Armazenamento Encaminhamento | D120: 160604 | E120: pilhas alcalinas (exceto 16 06 03) | F120: PA26 | G120: 160604 | H120: pilhas alcalinas (exceto 16 06 03) | I120: PA23 + PA26 Capacidade de cada PA, em t, consta da folha PA-Capacidades Inst.Arm | J120: ='Folha 2 Capacidades Inst. Arm'!L322+'Folha 2 Capacidades Inst. Arm'!L323+'Folha 2 Capacidades Inst. Arm'!L336 -> 78.277709 | K120: Equipamentos afetos à atividade: 1 empilhador + 2 funcionários afetos ao reembalamento: 2 t/h | L120: 2 | M120: =L120*24*365 -> 17520 | N120: =L120*8*250 -> 4000
D121: 160605 | E121: outras pilhas e acumuladores | F121: PA26 | G121: 160605 | H121: outras pilhas e acumuladores
D122: 160601* | E122: acumuladores de chumbo | F122: PA23 | G122: 160601* | H122: acumuladores de chumbo
D123: 160602* | E123: acumuladores de níquel-cádmio | F123: PA23 | G123: 160602* | H123: acumuladores de níquel-cádmio
D124: 160603* | E124: pilhas contendo mercúrio | F124: PA23 | G124: 160603* | H124: pilhas contendo mercúrio
D125: 200134 | E125: pilhas e acumuladores, não abrangidos em 20 01 33 | F125: PA26 | G125: 200134 | H125: pilhas e acumuladores, não abrangidos em 20 01 33
D126: 200133* | E126: pilhas e acumuladores abrangidos em 16 06 01, 16 06 02 ou 16 06 03 e pilhas e acumuladores, não triados, contendo desses acumuladores ou pilhas | F126: PA23 | G126: 200133* | H126: pilhas e acumuladores abrangidos em 16 06 01, 16 06 02 ou 16 06 03 e pilhas e acumuladores, não triados, contendo desses acumuladores ou pilhas
A127: Tratamento de RPA | B127: R 12 I (Reembalamento, com alteração de Lista Europeia de Resíduos (LER)) | C127: Receção Pesagem Classificação Reembalamento Armazenamento Encaminhamento | D127: 200134 | E127: pilhas e acumuladores, não abrangidos em 20 01 33 | F127: PA26 | G127: 160601* | H127: acumuladores de chumbo | I127: PA23+PA26 Capacidade de cada PA, em t, consta da folha PA-Capacidades Inst.Arm | J127: ='Folha 2 Capacidades Inst. Arm'!L323+'Folha 2 Capacidades Inst. Arm'!L336 -> 2.16 | K127: Equipamentos afetos à atividade: 1 empilhador + 2 funcionários afetos ao reembalamento: 2 t/h | L127: 2 | M127: =L127*24*365 -> 17520 | N127: =L127*8*250 -> 4000
D128: 200133* | E128: pilhas e acumuladores abrangidos em 16 06 01, 16 06 02 ou 16 06 03 e pilhas e acumuladores, não triados, contendo desses acumuladores ou pilhas | F128: PA23 | G128: 160602* | H128: acumuladores de níquel-cádmio
G129: 160603* | H129: pilhas contendo mercúrio
G130: 160605 | H130: outras pilhas e acumuladores
A131: Tratamento de resíduos não perigosos | B131: R12 B (Triagem) | C131: Receção Pesagem Armazenamento Triagem Armazenamento Encaminhamento | D131: 120105 | E131: aparas de matérias plásticas | F131: PA16 | G131: 191204 | H131: plástico e borracha | I131: PA15 + PA16 + PA17 Capacidade de cada PA, em t, consta da folha PA-Capacidades Inst.Arm | J131: ='Folha 2 Capacidades Inst. Arm'!O19+'Folha 2 Capacidades Inst. Arm'!O20+'Folha 2 Capacidades Inst. Arm'!O21 -> 86.3 | K131: Equipamentos afetos à atividade: 1 giratória + 2 funcionários afeto à triagem: 0,5 t/h | L131: 0.5 | M131: =L131*24*365 -> 4380 | N131: =L131*8*250 -> 1000
D132: 150102 | E132: embalagens de plástico | F132: PA16 | G132: 191201 | H132: papel e cartão
D133: 160119 | E133: plástico | F133: PA16 | G133: 191205 | H133: vidro
D134: 170203 | E134: plástico | F134: PA16 | G134: 191207 | H134: madeira não abrangida em 19 12 06
D135: 191204 | E135: plástico e borracha NOVO | F135: PA16
D136: 200139 | E136: plásticos | F136: PA16
D137: 150101 | E137: embalagens de papel e de cartão | F137: PA16
D138: 191201 | E138: papel e cartão | F138: PA16
...

Sheet Folha 5 Capacidades AIA e PCIP
A1: Determinação das capacidades associadas às rubricas AIA e PCIP
A3: Rubrica AIA | B3: Capacidade instalada (t/dia) | D3: Considerações para o cálculo da capacidade instalada | F3: Categoria PCIP | G3: Capacidade instalada (t/dia) | I3: Considerações para o cálculo da capacidade instalada
A4: Anexo II do RJAIA | B4: Antes do projeto | C4: Após o projeto | F4: Anexo I do RJPCIP | G4: Antes do projeto | H4: Após o projeto
A5: 11 b) Instalações destinadas a operações de eliminação de resíduos perigosos ii) Armazenamento ≥ 50 t | B5: 31.1 | C5: ='Folha 3 ResíduosPerigosos'!G21 -> 184.35999 | D5: Ficheiro de cálculo da capacidade máxima de armazenamento de resíduos perigosos | F5: 5.1 Eliminação ou valorização de resíduos perigosos, com uma capacidade superior a 10 toneladas por dia (VFV*) | G5: 150t/ano | H5: 24 | I5: Ficheiro de cálculo "Resumo" - Coluna K
F6: 5.1 Eliminação ou valorização de resíduos perigosos, com uma capacidade superior a 10 toneladas por dia, envolvendo uma ou mais das seguintes atividades: d) Reembalagem antes da sujeição a qualquer das outras atividades enumeradas nos pontos 5.1 e 5.2. | G6: 0 | H6: =('Folha 4 Resumo'!L109+'Folha 4 Resumo'!L120+'Folha 4 Resumo'!L150)*24 -> 73.2 | I6: 3 operações de reembalagem (R13 D ou R12 I)
A7: 11 c) Instalações destinadas a operações de eliminação de resíduos não perigosos ii) Tratamento biológico (aeróbio ou anaeróbio), pré-tratamento de resíduos para incineração ou coincineração, tratamento de escórias e cinzas, tratamento de resíduos metálicos em fragmentadores ou trituradores, incluindo os resíduos de equipamentos elétricos e eletrónicos e os veículos em fim de vida útil e seus componentes ≥ 100 t/dia | B7: 48 | C7: =(15+0.2)*24 -> 364.8 | D7: 2 trituradores (MTB + cabo de cobre) | F7: 5.3 Eliminação e valorização de resíduos não perigosos: b) Valorização, ou uma combinação de valorização e eliminação, de resíduos não perigosos com uma capacidade superior a 75 toneladas por dia, envolvendo uma ou mais das seguintes atividades, excluindo as atividades abrangidas pelo Decreto-Lei n.º 152/97, de 19 de junho: iv) Tratamento de resíduos metálicos ou fragmentados, incluindo os resíduos de equipamentos elétricos e eletrónicos e os veículos em fim de vida útil e seus componentes. | G7: 48 | H7: =C7 -> 364.8 | I7: igual à determinada para a rubrica AIA
F8: 5.5 Armazenamento temporário de resíduos perigosos não abrangidos pelo ponto 5.4 enquanto se aguarda a execução de uma das atividades enumeradas nos pontos 5.1, 5.2, 5.4 e 5.6 com uma capacidade total superior a 50 toneladas, com exclusão do armazenamento temporário, antes da recolha, no local onde os resíduos foram produzidos | G8: 31.1 | H8: =C5 -> 184.35999 | I8: igual à determinada para a rubrica AIA

Sheet Folha 6 NOTES
B2: Density conversion factors for waste
B4: These density conversion factors were developed by the Environment Agency for the 1998/99 commercial and industrial waste survey in England and have since been used across the UK by all of the Agencies including SEPA. The factors were derived from a number of different sources including published research, advice from the waste management industry and some original research at the time. There is a factor for each of the EWC codes in the List of Wastes. The factor for mixed construction waste 17 09 04 was changed in January 2014 from 0.42 to 0.32. This was agreed at the UK level following a desktop study carried out on behalf of the UK Agencies. The new factor was calculated using actual weight and volume data obtained from the waste management industry. The factors for non-hazardous waste are used in the edoc database.
B7: How to calculate the weight of waste in a bin using a conversion factor

Sheet Folha 7 FACTORS
A1: EWC Code | B1: Waste Description | C1: Density Conversion Factor
A2: 01 01 01 | B2: wastes from mineral metalliferous excavation | C2: 1.23
A3: 01 01 02 | B3: wastes from mineral non-metalliferous excavation | C3: 1.23
A4: 01 03 04* | B4: acid-generating tailings from processing of sulphide ore | C4: 1.23
A5: 01 03 05* | B5: other tailings containing dangerous substances | C5: 1.23
A6: 01 03 06 | B6: tailings other than those mentioned in 01 03 04 and 01 03 05 | C6: 1.23
A7: 01 03 07* | B7: other wastes containing dangerous substances from physical and chemical processing of metalliferous minerals | C7: 1.23
A8: 01 03 08 | B8: dusty and powdery wastes other than those mentioned in 01 03 07 | C8: 1.23
A9: 01 03 09 | B9: red mud from alumina production other than the wastes mentioned in 01 03 07 | C9: 1.23
A10: 01 03 99 | B10: wastes not otherwise specified | C10: 1.23
A11: 01 04 07* | B11: wastes containing dangerous substances from physical and chemical processing of non-metalliferous minerals | C11: 1.23
A12: 01 04 08 | B12: waste gravel and crushed rocks other than those mentioned in 01 04 07 | C12: 1.23
A13: 01 04 09 | B13: waste sand and clays | C13: 1.17
... A40: 02 03 01 | B40: sludges from washing, cleaning, peeling, centrifuging and separation | C40: 0.3473
A41: 02 03 02 | B41: wastes from preserving agents
A42: 02 03 03 | B42: wastes from solvent extraction
A43: 02 03 04 | B43: materials unsuitable for consumption or processing | C43: 0.40502281
A44: 02 03 05 | B44: sludges from on-site effluent treatment | C44: 0.922
A45: 02 03 99 | B45: wastes not otherwise specified | C45: 0.1852
A46: 02 04 01 | B46: soil from cleaning and washing beet | C46: 1.1725
A47: 02 04 02 | B47: off-specification calcium carbonate | C47: 0.6092
A48: 02 04 03 | B48: sludges from on-site effluent treatment | C48: 0.922
A49: 02 04 99 | B49: wastes not otherwise specified | C49: 0.1852
A50: 02 05 01 | B50: materials unsuitable for consumption or processing | C50: 0.19
A51: 02 05 02 | B51: sludges from on-site effluent treatment | C51: 0.922
A52: 02 05 99 | B52: wastes not otherwise specified | C52: 0.28
A53: 02 06 01 | B53: materials unsuitable for consumption or processing | C53: 0.37
A54: 02 06 02 | B54: wastes from preserving agents | C54: 0.9
... A56: 02 06 99 | B56: wastes not otherwise specified | C56: 0.1852
A57: 02 07 01 | B57: wastes from washing, cleaning and mechanical reduction of raw materials
A58: 02 07 02 | B58: wastes from spirits distillation
A59: 02 07 03 | B59: wastes from chemical treatment
A60: 02 07 04 | B60: materials unsuitable for consumption or processing | C60: 0.23
A61: 02 07 05 | B61: sludges from on-site effluent treatment | C61: 0.922
A62: 02 07 99 | B62: wastes not otherwise specified | C62: 0.1852
A63: 03 01 01 | B63: waste bark and cork | C63: 0.17
A64: 03 01 04* | B64: sawdust, shavings, cuttings, wood, particle board and veneer containing dangerous substances | C64: 0.3686
A65: 03 01 05 | B65: sawdust, shavings, cuttings, wood, particle board and veneer other than those mentioned in 03 01 04 | C65: 0.25
A66: 03 01 99 | B66: wastes not otherwise specified | C66: 0.1852
A67: 03 02 01* | B67: non-halogenated organic wood preservatives | C67: 0.9
A68: 03 02 02* | B68: organochlorinated wood preservatives | C68: 0.9
A69: 03 02 03* | B69: organometallic wood preservatives | C69: 0.9
A70: 03 02 04* | B70: inorganic wood preservatives | C70: 0.9
A71: 03 02 05* | B71: other wood preservatives containing dangerous substances | C71: 0.9
... A610: 16 04 01* | B610: waste ammunition | C610: 0.18
A611: 16 04 02* | B611: fireworks wastes
A612: 16 04 03* | B612: other waste explosives | C612: 0.18
A613: 16 05 04* | B613: gases in pressure containers (including halons) containing dangerous substances | C613: 0.3037
A614: 16 05 05 | B614: gases in pressure containers other than those mentioned in 16 05 04 | C614: 0.3037
A615: 16 05 06* | B615: laboratory chemicals, consisting of or containing dangerous substances, including mixtures of laboratory chemicals | C615: 0.9
A616: 16 05 07* | B616: discarded inorganic chemicals consisting of or containing dangerous substances | C616: 0.9
A617: 16 05 08* | B617: discarded organic chemicals consisting of or containing dangerous substances | C617: 0.81
A618: 16 05 09 | B618: discarded chemicals other than those mentioned in 16 05 06, 16 05 07 or 16 05 08 | C618: 0.9
A619: 16 06 01* | B619: lead batteries | C619: 1.35
A620: 16 06 02* | B620: Ni-Cd batteries | C620: 1.35
A621: 16 06 03* | B621: mercury-containing batteries | C621: 1.35
A622: 16 06 04 | B622: alkaline batteries (except 16 06 03) | C622: 1.35
A623: 16 06 05 | B623: other batteries and accumulators | C623: 1.35
... A711: 19 01 14 | B711: fly ash other than those mentioned in 19 01 13 | C711: 0.594
A712: 19 01 15* | B712: boiler dust containing dangerous substances
A713: 19 01 16 | B713: boiler dust other than those mentioned in 19 01 15
A714: 19 01 17* | B714: pyrolysis wastes containing dangerous substances | C714: 0.9
A715: 19 01 18 | B715: pyrolysis wastes other than those mentioned in 19 01 17 | C715: 0.9
A716: 19 01 19 | B716: sands from fluidised beds | C716: 1.17
A717: 19 01 99 | B717: wastes not otherwise specified | C717: 0.1852
A718: 19 02 03 | B718: premixed wastes composed only of non-hazardous wastes | C718: 0.4937
A719: 19 02 04* | B719: premixed wastes composed of at least one hazardous waste | C719: 0.4937
A720: 19 02 05* | B720: sludges from physico/chemical treatment containing dangerous substances | C720: 0.9
A721: 19 02 06 | B721: sludges from physico/chemical treatment other than those mentioned in 19 02 05 | C721: 0.9
A722: 19 02 07* | B722: oil and concentrates from separation | C722: 0.9
A723: 19 02 08* | B723: liquid combustible wastes containing dangerous substances | C723: 0.6547
A724: 19 02 09* | B724: solid combustible wastes containing dangerous substances | C724: 0.225
A725: 19 02 10 | B725: combustible wastes other than those mentioned in 19 02 08 and 19 02 09 | C725: 0.37020103
... A840: 20 03 99 | B840: municipal wastes not otherwise specified | C840: 0.56
